BEGIN:VCALENDAR
VERSION:2.0
PRODID:-//Meppeler Schaakvereniging - ECPv6.15.20//NONSGML v1.0//EN
CALSCALE:GREGORIAN
METHOD:PUBLISH
X-WR-CALNAME:Meppeler Schaakvereniging
X-ORIGINAL-URL:https://meppelerschaakvereniging.nl
X-WR-CALDESC:Evenementen voor Meppeler Schaakvereniging
REFRESH-INTERVAL;VALUE=DURATION:PT1H
X-Robots-Tag:noindex
X-PUBLISHED-TTL:PT1H
BEGIN:VTIMEZONE
TZID:Europe/Amsterdam
BEGIN:DAYLIGHT
TZOFFSETFROM:+0100
TZOFFSETTO:+0200
TZNAME:CEST
DTSTART:20250330T010000
END:DAYLIGHT
BEGIN:STANDARD
TZOFFSETFROM:+0200
TZOFFSETTO:+0100
TZNAME:CET
DTSTART:20251026T010000
END:STANDARD
BEGIN:DAYLIGHT
TZOFFSETFROM:+0100
TZOFFSETTO:+0200
TZNAME:CEST
DTSTART:20260329T010000
END:DAYLIGHT
BEGIN:STANDARD
TZOFFSETFROM:+0200
TZOFFSETTO:+0100
TZNAME:CET
DTSTART:20261025T010000
END:STANDARD
BEGIN:DAYLIGHT
TZOFFSETFROM:+0100
TZOFFSETTO:+0200
TZNAME:CEST
DTSTART:20270328T010000
END:DAYLIGHT
BEGIN:STANDARD
TZOFFSETFROM:+0200
TZOFFSETTO:+0100
TZNAME:CET
DTSTART:20271031T010000
END:STANDARD
END:VTIMEZONE
BEGIN:VEVENT
DTSTART;TZID=Europe/Amsterdam:20260128T133000
DTEND;TZID=Europe/Amsterdam:20260128T163000
DTSTAMP:20260421T173152
CREATED:20251111T101849Z
LAST-MODIFIED:20251111T101849Z
UID:19483-1769607000-1769617800@meppelerschaakvereniging.nl
SUMMARY:Basisschool schaakkampioenschap dag 1
DESCRIPTION:Dag 1 van het Meppeler Basisschool schaakkampioenschap. \nVandaag spelen we ronde 1 t/m 6\, volgenden week volgen nog 6 rondes. \nZaal open vanaf 13:00 uur.
URL:https://meppelerschaakvereniging.nl/agenda/basisschool-schaakkampioenschap-dag-1-4/
LOCATION:Wijkcentrum de Poele\, Groen van Prinstererstraat 1A\, Meppel\, 7942 CW \, Nederland
CATEGORIES:Jeugd
END:VEVENT
END:VCALENDAR