BEGIN:VCALENDAR
VERSION:2.0
PRODID:-//Meppeler Schaakvereniging - ECPv6.15.20//NONSGML v1.0//EN
CALSCALE:GREGORIAN
METHOD:PUBLISH
X-WR-CALNAME:Meppeler Schaakvereniging
X-ORIGINAL-URL:https://meppelerschaakvereniging.nl
X-WR-CALDESC:Evenementen voor Meppeler Schaakvereniging
REFRESH-INTERVAL;VALUE=DURATION:PT1H
X-Robots-Tag:noindex
X-PUBLISHED-TTL:PT1H
BEGIN:VTIMEZONE
TZID:Europe/Amsterdam
BEGIN:DAYLIGHT
TZOFFSETFROM:+0100
TZOFFSETTO:+0200
TZNAME:CEST
DTSTART:20190331T010000
END:DAYLIGHT
BEGIN:STANDARD
TZOFFSETFROM:+0200
TZOFFSETTO:+0100
TZNAME:CET
DTSTART:20191027T010000
END:STANDARD
BEGIN:DAYLIGHT
TZOFFSETFROM:+0100
TZOFFSETTO:+0200
TZNAME:CEST
DTSTART:20200329T010000
END:DAYLIGHT
BEGIN:STANDARD
TZOFFSETFROM:+0200
TZOFFSETTO:+0100
TZNAME:CET
DTSTART:20201025T010000
END:STANDARD
BEGIN:DAYLIGHT
TZOFFSETFROM:+0100
TZOFFSETTO:+0200
TZNAME:CEST
DTSTART:20210328T010000
END:DAYLIGHT
BEGIN:STANDARD
TZOFFSETFROM:+0200
TZOFFSETTO:+0100
TZNAME:CET
DTSTART:20211031T010000
END:STANDARD
END:VTIMEZONE
BEGIN:VEVENT
DTSTART;VALUE=DATE:20200915
DTEND;VALUE=DATE:20200916
DTSTAMP:20260424T145516
CREATED:20200901T184032Z
LAST-MODIFIED:20200901T202413Z
UID:14546-1600128000-1600214399@meppelerschaakvereniging.nl
SUMMARY:Jaarvergadering om 19:45
DESCRIPTION:Aanvang: 19:45\nEventueel schaken na afloop.
URL:https://meppelerschaakvereniging.nl/agenda/jaarvergadering/
LOCATION:Onderwijspark Ezinge\, Ezingerweg 52\, Meppel\, 7943 AZ\, Nederland
CATEGORIES:Jeugd,Senioren intern
END:VEVENT
END:VCALENDAR