BEGIN:VCALENDAR
VERSION:2.0
PRODID:-//Meppeler Schaakvereniging - ECPv6.15.20//NONSGML v1.0//EN
CALSCALE:GREGORIAN
METHOD:PUBLISH
X-ORIGINAL-URL:https://meppelerschaakvereniging.nl
X-WR-CALDESC:Evenementen voor Meppeler Schaakvereniging
REFRESH-INTERVAL;VALUE=DURATION:PT1H
X-Robots-Tag:noindex
X-PUBLISHED-TTL:PT1H
BEGIN:VTIMEZONE
TZID:Europe/Amsterdam
BEGIN:DAYLIGHT
TZOFFSETFROM:+0100
TZOFFSETTO:+0200
TZNAME:CEST
DTSTART:20250330T010000
END:DAYLIGHT
BEGIN:STANDARD
TZOFFSETFROM:+0200
TZOFFSETTO:+0100
TZNAME:CET
DTSTART:20251026T010000
END:STANDARD
BEGIN:DAYLIGHT
TZOFFSETFROM:+0100
TZOFFSETTO:+0200
TZNAME:CEST
DTSTART:20260329T010000
END:DAYLIGHT
BEGIN:STANDARD
TZOFFSETFROM:+0200
TZOFFSETTO:+0100
TZNAME:CET
DTSTART:20261025T010000
END:STANDARD
BEGIN:DAYLIGHT
TZOFFSETFROM:+0100
TZOFFSETTO:+0200
TZNAME:CEST
DTSTART:20270328T010000
END:DAYLIGHT
BEGIN:STANDARD
TZOFFSETFROM:+0200
TZOFFSETTO:+0100
TZNAME:CET
DTSTART:20271031T010000
END:STANDARD
END:VTIMEZONE
BEGIN:VEVENT
DTSTART;TZID=Europe/Amsterdam:20260707T200000
DTEND;TZID=Europe/Amsterdam:20260707T200000
DTSTAMP:20260423T000114
CREATED:20260408T214450Z
LAST-MODIFIED:20260408T214450Z
UID:20330-1783454400-1783454400@meppelerschaakvereniging.nl
SUMMARY:Zomerschaak 3
DESCRIPTION:Rapidtoernooi buiten op het terras bij Stadscafé Oasis. \nWe spelen 5 ronden per avond. \nKom gerust langs als je zin hebt in een potje schaken.
URL:https://meppelerschaakvereniging.nl/agenda/zomerschaak-3-5/
LOCATION:Stadscafe Oasis\, Kerkplein 15\, Meppel\, 7941 BG\, Nederland
CATEGORIES:Algemeen
END:VEVENT
BEGIN:VEVENT
DTSTART;TZID=Europe/Amsterdam:20260714T200000
DTEND;TZID=Europe/Amsterdam:20260714T200000
DTSTAMP:20260423T000114
CREATED:20260408T214537Z
LAST-MODIFIED:20260409T073003Z
UID:20332-1784059200-1784059200@meppelerschaakvereniging.nl
SUMMARY:Zomerschaak 4
DESCRIPTION:Rapidtoernooi buiten op het terras bij Stadscafé Oasis. \nWe spelen 5 ronden per avond. \nKom gerust langs als je zin hebt in een potje schaken.
URL:https://meppelerschaakvereniging.nl/agenda/zomerschaak-4-5/
LOCATION:Stadscafe Oasis\, Kerkplein 15\, Meppel\, 7941 BG\, Nederland
CATEGORIES:Algemeen
END:VEVENT
BEGIN:VEVENT
DTSTART;TZID=Europe/Amsterdam:20260721T200000
DTEND;TZID=Europe/Amsterdam:20260721T200000
DTSTAMP:20260423T000114
CREATED:20260408T214623Z
LAST-MODIFIED:20260408T214656Z
UID:20334-1784664000-1784664000@meppelerschaakvereniging.nl
SUMMARY:Zomerschaak 5
DESCRIPTION:Rapidtoernooi buiten op het terras bij Stadscafé Oasis. \nWe spelen 5 ronden per avond. \nKom gerust langs als je zin hebt in een potje schaken.
URL:https://meppelerschaakvereniging.nl/agenda/zomerschaak-5-5/
LOCATION:Stadscafe Oasis\, Kerkplein 15\, Meppel\, 7941 BG\, Nederland
CATEGORIES:Algemeen
END:VEVENT
BEGIN:VEVENT
DTSTART;TZID=Europe/Amsterdam:20260728T200000
DTEND;TZID=Europe/Amsterdam:20260728T200000
DTSTAMP:20260423T000114
CREATED:20260408T214741Z
LAST-MODIFIED:20260409T073039Z
UID:20336-1785268800-1785268800@meppelerschaakvereniging.nl
SUMMARY:Zomerschaak 6
DESCRIPTION:Rapidtoernooi buiten op het terras bij Stadscafé Oasis. \nWe spelen 5 ronden per avond. \nKom gerust langs als je zin hebt in een potje schaken.
URL:https://meppelerschaakvereniging.nl/agenda/zomerschaak-6-5/
LOCATION:Stadscafe Oasis\, Kerkplein 15\, Meppel\, 7941 BG\, Nederland
CATEGORIES:Algemeen
END:VEVENT
BEGIN:VEVENT
DTSTART;TZID=Europe/Amsterdam:20260804T200000
DTEND;TZID=Europe/Amsterdam:20260804T200000
DTSTAMP:20260423T000114
CREATED:20260408T214843Z
LAST-MODIFIED:20260409T073055Z
UID:20338-1785873600-1785873600@meppelerschaakvereniging.nl
SUMMARY:Zomerschaak 7
DESCRIPTION:Rapidtoernooi buiten op het terras bij Stadscafé Oasis. \nWe spelen 5 ronden per avond. \nKom gerust langs als je zin hebt in een potje schaken.
URL:https://meppelerschaakvereniging.nl/agenda/zomerschaak-7-5/
LOCATION:Stadscafe Oasis\, Kerkplein 15\, Meppel\, 7941 BG\, Nederland
CATEGORIES:Algemeen
END:VEVENT
BEGIN:VEVENT
DTSTART;TZID=Europe/Amsterdam:20260811T200000
DTEND;TZID=Europe/Amsterdam:20260811T200000
DTSTAMP:20260423T000114
CREATED:20260408T214930Z
LAST-MODIFIED:20260409T073114Z
UID:20340-1786478400-1786478400@meppelerschaakvereniging.nl
SUMMARY:Zomerschaak 8
DESCRIPTION:Rapidtoernooi buiten op het terras bij Stadscafé Oasis. \nWe spelen 5 ronden per avond. \nKom gerust langs als je zin hebt in een potje schaken.
URL:https://meppelerschaakvereniging.nl/agenda/zomerschaak-8-5/
LOCATION:Stadscafe Oasis\, Kerkplein 15\, Meppel\, 7941 BG\, Nederland
CATEGORIES:Algemeen
END:VEVENT
BEGIN:VEVENT
DTSTART;TZID=Europe/Amsterdam:20260818T200000
DTEND;TZID=Europe/Amsterdam:20260818T200000
DTSTAMP:20260423T000114
CREATED:20260408T215014Z
LAST-MODIFIED:20260409T073132Z
UID:20342-1787083200-1787083200@meppelerschaakvereniging.nl
SUMMARY:Zomerschaak 9
DESCRIPTION:Rapidtoernooi buiten op het terras bij Stadscafé Oasis. \nWe spelen 5 ronden per avond. \nKom gerust langs als je zin hebt in een potje schaken.
URL:https://meppelerschaakvereniging.nl/agenda/zomerschaak-9-5/
LOCATION:Stadscafe Oasis\, Kerkplein 15\, Meppel\, 7941 BG\, Nederland
CATEGORIES:Algemeen
END:VEVENT
BEGIN:VEVENT
DTSTART;TZID=Europe/Amsterdam:20260825T200000
DTEND;TZID=Europe/Amsterdam:20260825T200000
DTSTAMP:20260423T000114
CREATED:20260408T215111Z
LAST-MODIFIED:20260409T073149Z
UID:20344-1787688000-1787688000@meppelerschaakvereniging.nl
SUMMARY:Zomerschaak 10
DESCRIPTION:Rapidtoernooi buiten op het terras bij Stadscafé Oasis. \nWe spelen 5 ronden per avond. \nKom gerust langs als je zin hebt in een potje schaken.
URL:https://meppelerschaakvereniging.nl/agenda/zomerschaak-10-5/
LOCATION:Stadscafe Oasis\, Kerkplein 15\, Meppel\, 7941 BG\, Nederland
CATEGORIES:Algemeen
END:VEVENT
END:VCALENDAR