BEGIN:VCALENDAR
VERSION:2.0
PRODID:-//Meppeler Schaakvereniging - ECPv6.15.20//NONSGML v1.0//EN
CALSCALE:GREGORIAN
METHOD:PUBLISH
X-WR-CALNAME:Meppeler Schaakvereniging
X-ORIGINAL-URL:https://meppelerschaakvereniging.nl
X-WR-CALDESC:Evenementen voor Meppeler Schaakvereniging
REFRESH-INTERVAL;VALUE=DURATION:PT1H
X-Robots-Tag:noindex
X-PUBLISHED-TTL:PT1H
BEGIN:VTIMEZONE
TZID:Europe/Amsterdam
BEGIN:DAYLIGHT
TZOFFSETFROM:+0100
TZOFFSETTO:+0200
TZNAME:CEST
DTSTART:20220327T010000
END:DAYLIGHT
BEGIN:STANDARD
TZOFFSETFROM:+0200
TZOFFSETTO:+0100
TZNAME:CET
DTSTART:20221030T010000
END:STANDARD
BEGIN:DAYLIGHT
TZOFFSETFROM:+0100
TZOFFSETTO:+0200
TZNAME:CEST
DTSTART:20230326T010000
END:DAYLIGHT
BEGIN:STANDARD
TZOFFSETFROM:+0200
TZOFFSETTO:+0100
TZNAME:CET
DTSTART:20231029T010000
END:STANDARD
BEGIN:DAYLIGHT
TZOFFSETFROM:+0100
TZOFFSETTO:+0200
TZNAME:CEST
DTSTART:20240331T010000
END:DAYLIGHT
BEGIN:STANDARD
TZOFFSETFROM:+0200
TZOFFSETTO:+0100
TZNAME:CET
DTSTART:20241027T010000
END:STANDARD
END:VTIMEZONE
BEGIN:VEVENT
DTSTART;TZID=Europe/Amsterdam:20231104T130000
DTEND;TZID=Europe/Amsterdam:20231104T190000
DTSTAMP:20260423T053023
CREATED:20230817T173919Z
LAST-MODIFIED:20230818T114050Z
UID:15997-1699102800-1699124400@meppelerschaakvereniging.nl
SUMMARY:MSV 1 - Almelo 1  (KNSB)
DESCRIPTION:Zie https://knsb.netstand.nl/rounds/view/2866
URL:https://meppelerschaakvereniging.nl/agenda/msv-1-almelo-1-knsb/
LOCATION:Eetcafé De Beurs\, Grote Kerkstraat 3\, Meppel\, 7941 LA\, Nederland
CATEGORIES:Senioren extern
END:VEVENT
BEGIN:VEVENT
DTSTART;TZID=Europe/Amsterdam:20231031T200000
DTEND;TZID=Europe/Amsterdam:20231031T200000
DTSTAMP:20260423T053023
CREATED:20230831T161440Z
LAST-MODIFIED:20230901T110742Z
UID:16051-1698782400-1698782400@meppelerschaakvereniging.nl
SUMMARY:MSV 1 - ZZS! 2  (SOS)
DESCRIPTION:Zie https://sosc.netstand.nl/rounds/view/2442
URL:https://meppelerschaakvereniging.nl/agenda/msv-1-zzs-2-sos/
LOCATION:Stadscafe Oasis\, Kerkplein 15\, Meppel\, 7941 BG\, Nederland
CATEGORIES:Senioren extern
END:VEVENT
BEGIN:VEVENT
DTSTART;TZID=Europe/Amsterdam:20231031T200000
DTEND;TZID=Europe/Amsterdam:20231031T200000
DTSTAMP:20260423T053023
CREATED:20230818T074930Z
LAST-MODIFIED:20230820T084132Z
UID:16015-1698782400-1698782400@meppelerschaakvereniging.nl
SUMMARY:Intern P1-R8
DESCRIPTION:
URL:https://meppelerschaakvereniging.nl/agenda/intern-p1-r8/
LOCATION:Stadscafe Oasis\, Kerkplein 15\, Meppel\, 7941 BG\, Nederland
CATEGORIES:Senioren intern
END:VEVENT
BEGIN:VEVENT
DTSTART;TZID=Europe/Amsterdam:20231024T200000
DTEND;TZID=Europe/Amsterdam:20231024T200000
DTSTAMP:20260423T053023
CREATED:20230818T074856Z
LAST-MODIFIED:20230820T084148Z
UID:16013-1698177600-1698177600@meppelerschaakvereniging.nl
SUMMARY:Intern P1-R7
DESCRIPTION:
URL:https://meppelerschaakvereniging.nl/agenda/intern-p1-r7/
LOCATION:Stadscafe Oasis\, Kerkplein 15\, Meppel\, 7941 BG\, Nederland
CATEGORIES:Senioren intern
END:VEVENT
BEGIN:VEVENT
DTSTART;TZID=Europe/Amsterdam:20231017T200000
DTEND;TZID=Europe/Amsterdam:20231017T200000
DTSTAMP:20260423T053023
CREATED:20230818T074818Z
LAST-MODIFIED:20230820T084202Z
UID:16011-1697572800-1697572800@meppelerschaakvereniging.nl
SUMMARY:Intern P1-R6
DESCRIPTION:
URL:https://meppelerschaakvereniging.nl/agenda/intern-p1-r6/
LOCATION:Stadscafe Oasis\, Kerkplein 15\, Meppel\, 7941 BG\, Nederland
CATEGORIES:Senioren intern
END:VEVENT
BEGIN:VEVENT
DTSTART;TZID=Europe/Amsterdam:20231010T200000
DTEND;TZID=Europe/Amsterdam:20231010T200000
DTSTAMP:20260423T053023
CREATED:20230831T161306Z
LAST-MODIFIED:20230901T110620Z
UID:16047-1696968000-1696968000@meppelerschaakvereniging.nl
SUMMARY:MSV 2 - Pegasus 2  (SOS)
DESCRIPTION:Zie: https://sosc.netstand.nl/rounds/view/2441
URL:https://meppelerschaakvereniging.nl/agenda/msv-2-pegasus-2-sos/
LOCATION:Stadscafe Oasis\, Kerkplein 15\, Meppel\, 7941 BG\, Nederland
CATEGORIES:Senioren extern
END:VEVENT
BEGIN:VEVENT
DTSTART;TZID=Europe/Amsterdam:20231010T200000
DTEND;TZID=Europe/Amsterdam:20231010T200000
DTSTAMP:20260423T053023
CREATED:20230831T161104Z
LAST-MODIFIED:20230906T105442Z
UID:16044-1696968000-1696968000@meppelerschaakvereniging.nl
SUMMARY:SV Het Zwartewater 1 - MSV 1  (SOS)
DESCRIPTION:Ivm ALV verplaats van 3 naar 10 oktober. \nZie: https://sosc.netstand.nl/rounds/view/2441
URL:https://meppelerschaakvereniging.nl/agenda/sv-het-zwartewater-1-msv-1-sos/
CATEGORIES:Senioren extern
END:VEVENT
BEGIN:VEVENT
DTSTART;TZID=Europe/Amsterdam:20231010T200000
DTEND;TZID=Europe/Amsterdam:20231010T200000
DTSTAMP:20260423T053023
CREATED:20230818T074747Z
LAST-MODIFIED:20230820T084216Z
UID:16009-1696968000-1696968000@meppelerschaakvereniging.nl
SUMMARY:Intern P1-R5
DESCRIPTION:
URL:https://meppelerschaakvereniging.nl/agenda/intern-p1-r5/
LOCATION:Stadscafe Oasis\, Kerkplein 15\, Meppel\, 7941 BG\, Nederland
CATEGORIES:Senioren intern
END:VEVENT
BEGIN:VEVENT
DTSTART;TZID=Europe/Amsterdam:20231007T130000
DTEND;TZID=Europe/Amsterdam:20231007T190000
DTSTAMP:20260423T053023
CREATED:20230817T173650Z
LAST-MODIFIED:20230818T114016Z
UID:15995-1696683600-1696705200@meppelerschaakvereniging.nl
SUMMARY:Amersfoort 1 - MSV 1  (KNSB)
DESCRIPTION:Zie https://knsb.netstand.nl/rounds/view/2865
URL:https://meppelerschaakvereniging.nl/agenda/amersfoort-1-msv-1-knsb/
CATEGORIES:Senioren extern
END:VEVENT
BEGIN:VEVENT
DTSTART;TZID=Europe/Amsterdam:20231003T193000
DTEND;TZID=Europe/Amsterdam:20231003T193000
DTSTAMP:20260423T053023
CREATED:20230820T084419Z
LAST-MODIFIED:20230821T093314Z
UID:16031-1696361400-1696361400@meppelerschaakvereniging.nl
SUMMARY:ALV en rapid schaken
DESCRIPTION:Let op: aanvang 19:30 \nNa de Algemene Ledenvergadering gaan we voor wie wil nog rapid schaken
URL:https://meppelerschaakvereniging.nl/agenda/alv-en-snelschaken/
CATEGORIES:Algemeen
END:VEVENT
BEGIN:VEVENT
DTSTART;TZID=Europe/Amsterdam:20230926T200000
DTEND;TZID=Europe/Amsterdam:20230926T200000
DTSTAMP:20260423T053023
CREATED:20230817T165304Z
LAST-MODIFIED:20230817T165304Z
UID:15984-1695758400-1695758400@meppelerschaakvereniging.nl
SUMMARY:Intern P1-R4
DESCRIPTION:
URL:https://meppelerschaakvereniging.nl/agenda/intern-p1-r4/
LOCATION:Stadscafe Oasis\, Kerkplein 15\, Meppel\, 7941 BG\, Nederland
CATEGORIES:Senioren intern
END:VEVENT
BEGIN:VEVENT
DTSTART;TZID=Europe/Amsterdam:20230919T200000
DTEND;TZID=Europe/Amsterdam:20230919T200000
DTSTAMP:20260423T053023
CREATED:20230817T165223Z
LAST-MODIFIED:20230817T165223Z
UID:15982-1695153600-1695153600@meppelerschaakvereniging.nl
SUMMARY:Intern P1-R3
DESCRIPTION:
URL:https://meppelerschaakvereniging.nl/agenda/intern-p1-r3/
LOCATION:Stadscafe Oasis\, Kerkplein 15\, Meppel\, 7941 BG\, Nederland
CATEGORIES:Senioren intern
END:VEVENT
BEGIN:VEVENT
DTSTART;TZID=Europe/Amsterdam:20230916T130000
DTEND;TZID=Europe/Amsterdam:20230916T190000
DTSTAMP:20260423T053023
CREATED:20230817T173516Z
LAST-MODIFIED:20230911T191306Z
UID:15993-1694869200-1694890800@meppelerschaakvereniging.nl
SUMMARY:MSV 1 -  	Spassky's 1  (KNSB)
DESCRIPTION:LET OP: Gewijzigde locatie. Nu boven bij Murphy’s bij Stadscafé Oasis. \nZie https://knsb.netstand.nl/rounds/view/2864
URL:https://meppelerschaakvereniging.nl/agenda/msv-1-spasskys-1-knsb/
LOCATION:Stadscafe Oasis\, Kerkplein 15\, Meppel\, 7941 BG\, Nederland
CATEGORIES:Senioren extern
END:VEVENT
BEGIN:VEVENT
DTSTART;TZID=Europe/Amsterdam:20230912T200000
DTEND;TZID=Europe/Amsterdam:20230912T200000
DTSTAMP:20260423T053023
CREATED:20230817T165149Z
LAST-MODIFIED:20230817T165149Z
UID:15980-1694548800-1694548800@meppelerschaakvereniging.nl
SUMMARY:Intern P1-R2
DESCRIPTION:
URL:https://meppelerschaakvereniging.nl/agenda/intern-p1-r2/
LOCATION:Stadscafe Oasis\, Kerkplein 15\, Meppel\, 7941 BG\, Nederland
CATEGORIES:Senioren intern
END:VEVENT
BEGIN:VEVENT
DTSTART;TZID=Europe/Amsterdam:20230905T200000
DTEND;TZID=Europe/Amsterdam:20230905T200000
DTSTAMP:20260423T053023
CREATED:20230817T165058Z
LAST-MODIFIED:20230817T165058Z
UID:15978-1693944000-1693944000@meppelerschaakvereniging.nl
SUMMARY:Intern P1-R1
DESCRIPTION:
URL:https://meppelerschaakvereniging.nl/agenda/intern-p1-r1/
LOCATION:Stadscafe Oasis\, Kerkplein 15\, Meppel\, 7941 BG\, Nederland
CATEGORIES:Senioren intern
END:VEVENT
BEGIN:VEVENT
DTSTART;TZID=Europe/Amsterdam:20230829T200000
DTEND;TZID=Europe/Amsterdam:20230829T200000
DTSTAMP:20260423T053023
CREATED:20230528T160447Z
LAST-MODIFIED:20230528T160447Z
UID:15930-1693339200-1693339200@meppelerschaakvereniging.nl
SUMMARY:Zomerschaak 10
DESCRIPTION:Rapidtoernooi bij Stadscafé Oasis. \nMeestal 5 ronden per avond. \nKom gerust langs als je zin hebt in een potje schaken.
URL:https://meppelerschaakvereniging.nl/agenda/zomerschaak-10-2/
LOCATION:Stadscafe Oasis\, Kerkplein 15\, Meppel\, 7941 BG\, Nederland
CATEGORIES:Algemeen
END:VEVENT
BEGIN:VEVENT
DTSTART;TZID=Europe/Amsterdam:20230822T200000
DTEND;TZID=Europe/Amsterdam:20230822T200000
DTSTAMP:20260423T053023
CREATED:20230528T160342Z
LAST-MODIFIED:20230528T160342Z
UID:15928-1692734400-1692734400@meppelerschaakvereniging.nl
SUMMARY:Zomerschaak 9
DESCRIPTION:Rapidtoernooi bij Stadscafé Oasis. \nMeestal 5 ronden per avond. \nKom gerust langs als je zin hebt in een potje schaken.
URL:https://meppelerschaakvereniging.nl/agenda/zomerschaak-9-2/
LOCATION:Stadscafe Oasis\, Kerkplein 15\, Meppel\, 7941 BG\, Nederland
CATEGORIES:Algemeen
END:VEVENT
BEGIN:VEVENT
DTSTART;TZID=Europe/Amsterdam:20230815T200000
DTEND;TZID=Europe/Amsterdam:20230815T200000
DTSTAMP:20260423T053023
CREATED:20230528T160305Z
LAST-MODIFIED:20230528T160305Z
UID:15926-1692129600-1692129600@meppelerschaakvereniging.nl
SUMMARY:Zomerschaak 8
DESCRIPTION:Rapidtoernooi bij Stadscafé Oasis. \nMeestal 5 ronden per avond. \nKom gerust langs als je zin hebt in een potje schaken.
URL:https://meppelerschaakvereniging.nl/agenda/zomerschaak-8-2/
LOCATION:Stadscafe Oasis\, Kerkplein 15\, Meppel\, 7941 BG\, Nederland
CATEGORIES:Algemeen
END:VEVENT
BEGIN:VEVENT
DTSTART;TZID=Europe/Amsterdam:20230808T200000
DTEND;TZID=Europe/Amsterdam:20230808T200000
DTSTAMP:20260423T053023
CREATED:20230528T160229Z
LAST-MODIFIED:20230528T160229Z
UID:15924-1691524800-1691524800@meppelerschaakvereniging.nl
SUMMARY:Zomerschaak 7
DESCRIPTION:Rapidtoernooi bij Stadscafé Oasis. \nMeestal 5 ronden per avond. \nKom gerust langs als je zin hebt in een potje schaken.
URL:https://meppelerschaakvereniging.nl/agenda/zomerschaak-7-2/
LOCATION:Stadscafe Oasis\, Kerkplein 15\, Meppel\, 7941 BG\, Nederland
CATEGORIES:Algemeen
END:VEVENT
BEGIN:VEVENT
DTSTART;TZID=Europe/Amsterdam:20230801T200000
DTEND;TZID=Europe/Amsterdam:20230801T200000
DTSTAMP:20260423T053023
CREATED:20230528T160154Z
LAST-MODIFIED:20230528T160154Z
UID:15922-1690920000-1690920000@meppelerschaakvereniging.nl
SUMMARY:Zomerschaak 6
DESCRIPTION:Rapidtoernooi bij Stadscafé Oasis. \nMeestal 5 ronden per avond. \nKom gerust langs als je zin hebt in een potje schaken.
URL:https://meppelerschaakvereniging.nl/agenda/zomerschaak-6-2/
LOCATION:Stadscafe Oasis\, Kerkplein 15\, Meppel\, 7941 BG\, Nederland
CATEGORIES:Algemeen
END:VEVENT
BEGIN:VEVENT
DTSTART;TZID=Europe/Amsterdam:20230725T200000
DTEND;TZID=Europe/Amsterdam:20230725T200000
DTSTAMP:20260423T053023
CREATED:20230528T160117Z
LAST-MODIFIED:20230528T160117Z
UID:15920-1690315200-1690315200@meppelerschaakvereniging.nl
SUMMARY:Zomerschaak 5
DESCRIPTION:Rapidtoernooi bij Stadscafé Oasis. \nMeestal 5 ronden per avond. \nKom gerust langs als je zin hebt in een potje schaken.
URL:https://meppelerschaakvereniging.nl/agenda/zomerschaak-5-2/
LOCATION:Stadscafe Oasis\, Kerkplein 15\, Meppel\, 7941 BG\, Nederland
CATEGORIES:Algemeen
END:VEVENT
BEGIN:VEVENT
DTSTART;TZID=Europe/Amsterdam:20230718T200000
DTEND;TZID=Europe/Amsterdam:20230718T200000
DTSTAMP:20260423T053023
CREATED:20230528T160011Z
LAST-MODIFIED:20230528T160011Z
UID:15918-1689710400-1689710400@meppelerschaakvereniging.nl
SUMMARY:Zomerschaak 4
DESCRIPTION:Rapidtoernooi bij Stadscafé Oasis. \nMeestal 5 ronden per avond. \nKom gerust langs als je zin hebt in een potje schaken.
URL:https://meppelerschaakvereniging.nl/agenda/zomerschaak-4-2/
LOCATION:Stadscafe Oasis\, Kerkplein 15\, Meppel\, 7941 BG\, Nederland
CATEGORIES:Algemeen
END:VEVENT
BEGIN:VEVENT
DTSTART;TZID=Europe/Amsterdam:20230711T200000
DTEND;TZID=Europe/Amsterdam:20230711T200000
DTSTAMP:20260423T053023
CREATED:20230528T155940Z
LAST-MODIFIED:20230528T160028Z
UID:15916-1689105600-1689105600@meppelerschaakvereniging.nl
SUMMARY:Zomerschaak 3
DESCRIPTION:Rapidtoernooi bij Stadscafé Oasis. \nMeestal 5 ronden per avond. \nKom gerust langs als je zin hebt in een potje schaken.
URL:https://meppelerschaakvereniging.nl/agenda/zomerschaak-3-2/
LOCATION:Stadscafe Oasis\, Kerkplein 15\, Meppel\, 7941 BG\, Nederland
CATEGORIES:Algemeen
END:VEVENT
BEGIN:VEVENT
DTSTART;TZID=Europe/Amsterdam:20230704T200000
DTEND;TZID=Europe/Amsterdam:20230704T200000
DTSTAMP:20260423T053023
CREATED:20230528T155831Z
LAST-MODIFIED:20230528T155906Z
UID:15914-1688500800-1688500800@meppelerschaakvereniging.nl
SUMMARY:Zomerschaak 2
DESCRIPTION:Rapidtoernooi bij Stadscafé Oasis. \nMeestal 5 ronden per avond. \nKom gerust langs als je zin hebt in een potje schaken.
URL:https://meppelerschaakvereniging.nl/agenda/zomerschaak-2-2/
LOCATION:Stadscafe Oasis\, Kerkplein 15\, Meppel\, 7941 BG\, Nederland
CATEGORIES:Algemeen
END:VEVENT
BEGIN:VEVENT
DTSTART;TZID=Europe/Amsterdam:20230627T200000
DTEND;TZID=Europe/Amsterdam:20230627T200000
DTSTAMP:20260423T053023
CREATED:20230427T172233Z
LAST-MODIFIED:20230427T172233Z
UID:15886-1687896000-1687896000@meppelerschaakvereniging.nl
SUMMARY:Zomerschaak 1
DESCRIPTION:Rapidtoernooi bij Stadscafé Oasis. \nMeestal 5 ronden per avond. \nKom gerust langs als je zin hebt in een potje schaken.
URL:https://meppelerschaakvereniging.nl/agenda/zomerschaak-1-2/
LOCATION:Stadscafe Oasis\, Kerkplein 15\, Meppel\, 7941 BG\, Nederland
CATEGORIES:Algemeen
END:VEVENT
BEGIN:VEVENT
DTSTART;TZID=Europe/Amsterdam:20230620T200000
DTEND;TZID=Europe/Amsterdam:20230620T200000
DTSTAMP:20260423T053023
CREATED:20230222T135913Z
LAST-MODIFIED:20230528T155720Z
UID:15826-1687291200-1687291200@meppelerschaakvereniging.nl
SUMMARY:Intern 4-8
DESCRIPTION:
URL:https://meppelerschaakvereniging.nl/agenda/intern-4-8/
LOCATION:Stadscafe Oasis\, Kerkplein 15\, Meppel\, 7941 BG\, Nederland
CATEGORIES:Senioren intern
END:VEVENT
BEGIN:VEVENT
DTSTART;TZID=Europe/Amsterdam:20230613T200000
DTEND;TZID=Europe/Amsterdam:20230613T200000
DTSTAMP:20260423T053023
CREATED:20230222T135847Z
LAST-MODIFIED:20230528T155705Z
UID:15824-1686686400-1686686400@meppelerschaakvereniging.nl
SUMMARY:Intern 4-7
DESCRIPTION:
URL:https://meppelerschaakvereniging.nl/agenda/intern-4-7-3/
LOCATION:Stadscafe Oasis\, Kerkplein 15\, Meppel\, 7941 BG\, Nederland
CATEGORIES:Senioren intern
END:VEVENT
BEGIN:VEVENT
DTSTART;TZID=Europe/Amsterdam:20230606T200000
DTEND;TZID=Europe/Amsterdam:20230606T200000
DTSTAMP:20260423T053023
CREATED:20230222T135822Z
LAST-MODIFIED:20230528T155649Z
UID:15822-1686081600-1686081600@meppelerschaakvereniging.nl
SUMMARY:Intern 4-6
DESCRIPTION:
URL:https://meppelerschaakvereniging.nl/agenda/intern-4-6-3/
LOCATION:Stadscafe Oasis\, Kerkplein 15\, Meppel\, 7941 BG\, Nederland
CATEGORIES:Senioren intern
END:VEVENT
BEGIN:VEVENT
DTSTART;TZID=Europe/Amsterdam:20230530T200000
DTEND;TZID=Europe/Amsterdam:20230530T200000
DTSTAMP:20260423T053023
CREATED:20230222T135757Z
LAST-MODIFIED:20230528T155632Z
UID:15820-1685476800-1685476800@meppelerschaakvereniging.nl
SUMMARY:Intern 4-5
DESCRIPTION:
URL:https://meppelerschaakvereniging.nl/agenda/intern-4-5-3/
LOCATION:Stadscafe Oasis\, Kerkplein 15\, Meppel\, 7941 BG\, Nederland
CATEGORIES:Senioren intern
END:VEVENT
BEGIN:VEVENT
DTSTART;TZID=Europe/Amsterdam:20230523T200000
DTEND;TZID=Europe/Amsterdam:20230523T200000
DTSTAMP:20260423T053023
CREATED:20230222T135730Z
LAST-MODIFIED:20230528T155604Z
UID:15818-1684872000-1684872000@meppelerschaakvereniging.nl
SUMMARY:Intern 4-4
DESCRIPTION:
URL:https://meppelerschaakvereniging.nl/agenda/intern-4-4-3/
LOCATION:Stadscafe Oasis\, Kerkplein 15\, Meppel\, 7941 BG\, Nederland
CATEGORIES:Senioren intern
END:VEVENT
END:VCALENDAR