BEGIN:VCALENDAR
VERSION:2.0
PRODID:-//Meppeler Schaakvereniging - ECPv6.15.20//NONSGML v1.0//EN
CALSCALE:GREGORIAN
METHOD:PUBLISH
X-WR-CALNAME:Meppeler Schaakvereniging
X-ORIGINAL-URL:https://meppelerschaakvereniging.nl
X-WR-CALDESC:Evenementen voor Meppeler Schaakvereniging
REFRESH-INTERVAL;VALUE=DURATION:PT1H
X-Robots-Tag:noindex
X-PUBLISHED-TTL:PT1H
BEGIN:VTIMEZONE
TZID:Europe/Amsterdam
BEGIN:DAYLIGHT
TZOFFSETFROM:+0100
TZOFFSETTO:+0200
TZNAME:CEST
DTSTART:20240331T010000
END:DAYLIGHT
BEGIN:STANDARD
TZOFFSETFROM:+0200
TZOFFSETTO:+0100
TZNAME:CET
DTSTART:20241027T010000
END:STANDARD
BEGIN:DAYLIGHT
TZOFFSETFROM:+0100
TZOFFSETTO:+0200
TZNAME:CEST
DTSTART:20250330T010000
END:DAYLIGHT
BEGIN:STANDARD
TZOFFSETFROM:+0200
TZOFFSETTO:+0100
TZNAME:CET
DTSTART:20251026T010000
END:STANDARD
BEGIN:DAYLIGHT
TZOFFSETFROM:+0100
TZOFFSETTO:+0200
TZNAME:CEST
DTSTART:20260329T010000
END:DAYLIGHT
BEGIN:STANDARD
TZOFFSETFROM:+0200
TZOFFSETTO:+0100
TZNAME:CET
DTSTART:20261025T010000
END:STANDARD
BEGIN:DAYLIGHT
TZOFFSETFROM:+0100
TZOFFSETTO:+0200
TZNAME:CEST
DTSTART:20270328T010000
END:DAYLIGHT
BEGIN:STANDARD
TZOFFSETFROM:+0200
TZOFFSETTO:+0100
TZNAME:CET
DTSTART:20271031T010000
END:STANDARD
END:VTIMEZONE
BEGIN:VEVENT
DTSTART;TZID=Europe/Amsterdam:20260411T130000
DTEND;TZID=Europe/Amsterdam:20260411T190000
DTSTAMP:20260421T223939
CREATED:20250804T174832Z
LAST-MODIFIED:20250807T152722Z
UID:17566-1775912400-1775934000@meppelerschaakvereniging.nl
SUMMARY:MSV 1 - SG Max Euwe 2  (KNSB)
DESCRIPTION:Zie ook: https://knsb.netstand.nl/rounds/view/3923
URL:https://meppelerschaakvereniging.nl/agenda/msv-1-sg-max-euwe-2-knsb-2/
LOCATION:Stadscafe Oasis\, Kerkplein 15\, Meppel\, 7941 BG\, Nederland
CATEGORIES:Senioren extern
END:VEVENT
BEGIN:VEVENT
DTSTART;TZID=Europe/Amsterdam:20260407T200000
DTEND;TZID=Europe/Amsterdam:20260407T200000
DTSTAMP:20260421T223939
CREATED:20250724T070909Z
LAST-MODIFIED:20250724T070909Z
UID:17524-1775592000-1775592000@meppelerschaakvereniging.nl
SUMMARY:Intern P3-R7
DESCRIPTION:
URL:https://meppelerschaakvereniging.nl/agenda/intern-p3-r7-3/
LOCATION:Stadscafe Oasis\, Kerkplein 15\, Meppel\, 7941 BG\, Nederland
CATEGORIES:Senioren intern
END:VEVENT
BEGIN:VEVENT
DTSTART;TZID=Europe/Amsterdam:20260331T200000
DTEND;TZID=Europe/Amsterdam:20260331T200000
DTSTAMP:20260421T223939
CREATED:20250724T070823Z
LAST-MODIFIED:20250724T070823Z
UID:17521-1774987200-1774987200@meppelerschaakvereniging.nl
SUMMARY:Intern P3-R6
DESCRIPTION:
URL:https://meppelerschaakvereniging.nl/agenda/intern-p3-r6-3/
LOCATION:Stadscafe Oasis\, Kerkplein 15\, Meppel\, 7941 BG\, Nederland
CATEGORIES:Senioren intern
END:VEVENT
BEGIN:VEVENT
DTSTART;TZID=Europe/Amsterdam:20260328T130000
DTEND;TZID=Europe/Amsterdam:20260328T190000
DTSTAMP:20260421T223939
CREATED:20250804T174619Z
LAST-MODIFIED:20260109T103809Z
UID:17560-1774702800-1774724400@meppelerschaakvereniging.nl
SUMMARY:SOPSWEPS'29 1 - MSV 1  (KNSB)
DESCRIPTION:Ivm weersomstandigheden verplaatst van 10 januari naar 28 maart. \nZie ook: https://knsb.netstand.nl/rounds/view/3920
URL:https://meppelerschaakvereniging.nl/agenda/sopsweps29-1-msv-1-knsb/
CATEGORIES:Senioren extern
END:VEVENT
BEGIN:VEVENT
DTSTART;TZID=Europe/Amsterdam:20260324T200000
DTEND;TZID=Europe/Amsterdam:20260324T200000
DTSTAMP:20260421T223939
CREATED:20250724T070733Z
LAST-MODIFIED:20250724T070733Z
UID:17519-1774382400-1774382400@meppelerschaakvereniging.nl
SUMMARY:Intern P3-R5
DESCRIPTION:
URL:https://meppelerschaakvereniging.nl/agenda/intern-p3-r5-3/
LOCATION:Stadscafe Oasis\, Kerkplein 15\, Meppel\, 7941 BG\, Nederland
CATEGORIES:Senioren intern
END:VEVENT
BEGIN:VEVENT
DTSTART;TZID=Europe/Amsterdam:20260317T200000
DTEND;TZID=Europe/Amsterdam:20260317T200000
DTSTAMP:20260421T223939
CREATED:20250901T153946Z
LAST-MODIFIED:20250901T153946Z
UID:17639-1773777600-1773777600@meppelerschaakvereniging.nl
SUMMARY:MSV 2 - Pegasus 2  (SOS)
DESCRIPTION:Zie ook:  https://sosc.netstand.nl/rounds/view/3233
URL:https://meppelerschaakvereniging.nl/agenda/msv-2-pegasus-2-sos-2/
LOCATION:Stadscafe Oasis\, Kerkplein 15\, Meppel\, 7941 BG\, Nederland
CATEGORIES:Senioren extern
END:VEVENT
BEGIN:VEVENT
DTSTART;TZID=Europe/Amsterdam:20260317T200000
DTEND;TZID=Europe/Amsterdam:20260317T200000
DTSTAMP:20260421T223939
CREATED:20250724T070651Z
LAST-MODIFIED:20250724T070651Z
UID:17517-1773777600-1773777600@meppelerschaakvereniging.nl
SUMMARY:Intern P3-R4
DESCRIPTION:
URL:https://meppelerschaakvereniging.nl/agenda/intern-p3-r4-3/
LOCATION:Stadscafe Oasis\, Kerkplein 15\, Meppel\, 7941 BG\, Nederland
CATEGORIES:Senioren intern
END:VEVENT
BEGIN:VEVENT
DTSTART;TZID=Europe/Amsterdam:20260312T200000
DTEND;TZID=Europe/Amsterdam:20260312T200000
DTSTAMP:20260421T223939
CREATED:20250901T152841Z
LAST-MODIFIED:20250901T152858Z
UID:17626-1773345600-1773345600@meppelerschaakvereniging.nl
SUMMARY:Caissa Elburg 1 - MSV 1  (SOS)
DESCRIPTION:Zie ook: https://sosc.netstand.nl/rounds/view/3198
URL:https://meppelerschaakvereniging.nl/agenda/caissa-elburg-1-msv-1-sos/
CATEGORIES:Senioren extern
END:VEVENT
BEGIN:VEVENT
DTSTART;TZID=Europe/Amsterdam:20260310T200000
DTEND;TZID=Europe/Amsterdam:20260310T200000
DTSTAMP:20260421T223939
CREATED:20250724T070614Z
LAST-MODIFIED:20250724T070614Z
UID:17515-1773172800-1773172800@meppelerschaakvereniging.nl
SUMMARY:Intern P3-R3
DESCRIPTION:
URL:https://meppelerschaakvereniging.nl/agenda/intern-p3-r3-3/
LOCATION:Stadscafe Oasis\, Kerkplein 15\, Meppel\, 7941 BG\, Nederland
CATEGORIES:Senioren intern
END:VEVENT
BEGIN:VEVENT
DTSTART;TZID=Europe/Amsterdam:20260307T130000
DTEND;TZID=Europe/Amsterdam:20260307T190000
DTSTAMP:20260421T223939
CREATED:20250804T174744Z
LAST-MODIFIED:20250807T152636Z
UID:17564-1772888400-1772910000@meppelerschaakvereniging.nl
SUMMARY:BSG 1 - MSV 1  (KNSB)
DESCRIPTION:Zie ook: https://knsb.netstand.nl/rounds/view/3922
URL:https://meppelerschaakvereniging.nl/agenda/bsg-1-msv-1-knsb/
CATEGORIES:Senioren extern
END:VEVENT
BEGIN:VEVENT
DTSTART;TZID=Europe/Amsterdam:20260303T200000
DTEND;TZID=Europe/Amsterdam:20260303T200000
DTSTAMP:20260421T223939
CREATED:20250724T070536Z
LAST-MODIFIED:20250724T070536Z
UID:17513-1772568000-1772568000@meppelerschaakvereniging.nl
SUMMARY:Intern P3-R2
DESCRIPTION:
URL:https://meppelerschaakvereniging.nl/agenda/intern-p3-r2-3/
LOCATION:Stadscafe Oasis\, Kerkplein 15\, Meppel\, 7941 BG\, Nederland
CATEGORIES:Senioren intern
END:VEVENT
BEGIN:VEVENT
DTSTART;TZID=Europe/Amsterdam:20260224T200000
DTEND;TZID=Europe/Amsterdam:20260224T200000
DTSTAMP:20260421T223939
CREATED:20250723T175820Z
LAST-MODIFIED:20250723T175820Z
UID:17511-1771963200-1771963200@meppelerschaakvereniging.nl
SUMMARY:Intern P3-R1
DESCRIPTION:
URL:https://meppelerschaakvereniging.nl/agenda/intern-p3-r1-3/
LOCATION:Stadscafe Oasis\, Kerkplein 15\, Meppel\, 7941 BG\, Nederland
CATEGORIES:Senioren intern
END:VEVENT
BEGIN:VEVENT
DTSTART;TZID=Europe/Amsterdam:20260217T200000
DTEND;TZID=Europe/Amsterdam:20260217T200000
DTSTAMP:20260421T223939
CREATED:20250723T174849Z
LAST-MODIFIED:20260202T111855Z
UID:17493-1771358400-1771358400@meppelerschaakvereniging.nl
SUMMARY:Snelschaak kampioenschap
DESCRIPTION:Wie wordt de snelschaakkampioen van dit seizoen. \nPartijen van 5 min. + 3 sec incr.
URL:https://meppelerschaakvereniging.nl/agenda/snelschaak-kampioenschap-3/
LOCATION:Stadscafe Oasis\, Kerkplein 15\, Meppel\, 7941 BG\, Nederland
CATEGORIES:Senioren intern
END:VEVENT
BEGIN:VEVENT
DTSTART;TZID=Europe/Amsterdam:20260210T200000
DTEND;TZID=Europe/Amsterdam:20260210T200000
DTSTAMP:20260421T223939
CREATED:20250901T153817Z
LAST-MODIFIED:20250901T153817Z
UID:17637-1770753600-1770753600@meppelerschaakvereniging.nl
SUMMARY:SV Het Zwartewater 2 - MSV 2  (SOS)
DESCRIPTION:Zie ook: https://sosc.netstand.nl/rounds/view/3232
URL:https://meppelerschaakvereniging.nl/agenda/sv-het-zwartewater-2-msv-2-sos/
CATEGORIES:Senioren extern
END:VEVENT
BEGIN:VEVENT
DTSTART;TZID=Europe/Amsterdam:20260210T200000
DTEND;TZID=Europe/Amsterdam:20260210T200000
DTSTAMP:20260421T223939
CREATED:20250723T175201Z
LAST-MODIFIED:20250723T175201Z
UID:17504-1770753600-1770753600@meppelerschaakvereniging.nl
SUMMARY:Intern P2-R9
DESCRIPTION:
URL:https://meppelerschaakvereniging.nl/agenda/intern-p2-r9-3/
LOCATION:Stadscafe Oasis\, Kerkplein 15\, Meppel\, 7941 BG\, Nederland
CATEGORIES:Senioren intern
END:VEVENT
BEGIN:VEVENT
DTSTART;TZID=Europe/Amsterdam:20260207T130000
DTEND;TZID=Europe/Amsterdam:20260207T190000
DTSTAMP:20260421T223939
CREATED:20250804T174707Z
LAST-MODIFIED:20250807T152607Z
UID:17562-1770469200-1770490800@meppelerschaakvereniging.nl
SUMMARY:MSV 1 - ASV 2  (KNSB)
DESCRIPTION:Zie ook: https://knsb.netstand.nl/rounds/view/3921
URL:https://meppelerschaakvereniging.nl/agenda/msv-1-asv-2-knsb/
LOCATION:Stadscafe Oasis\, Kerkplein 15\, Meppel\, 7941 BG\, Nederland
CATEGORIES:Senioren extern
END:VEVENT
BEGIN:VEVENT
DTSTART;TZID=Europe/Amsterdam:20260204T133000
DTEND;TZID=Europe/Amsterdam:20260204T170000
DTSTAMP:20260421T223939
CREATED:20251111T102023Z
LAST-MODIFIED:20251111T102023Z
UID:19485-1770211800-1770224400@meppelerschaakvereniging.nl
SUMMARY:Basisschool schaakkampioenschap dag 2
DESCRIPTION:Dag 2 van het Meppeler Basisschool schaakkampioenschap. \nVandaag spelen we ronde 7 t/m 12. \nZaal open vanaf 13:00 uur.
URL:https://meppelerschaakvereniging.nl/agenda/basisschool-schaakkampioenschap-dag-2-4/
LOCATION:Wijkcentrum de Poele\, Groen van Prinstererstraat 1A\, Meppel\, 7942 CW \, Nederland
CATEGORIES:Jeugd
END:VEVENT
BEGIN:VEVENT
DTSTART;TZID=Europe/Amsterdam:20260203T200000
DTEND;TZID=Europe/Amsterdam:20260203T200000
DTSTAMP:20260421T223939
CREATED:20250901T152656Z
LAST-MODIFIED:20250901T152656Z
UID:17624-1770148800-1770148800@meppelerschaakvereniging.nl
SUMMARY:MSV 1 - LSV 1  (SOS)
DESCRIPTION:Zie ook: https://sosc.netstand.nl/rounds/view/3197
URL:https://meppelerschaakvereniging.nl/agenda/msv-1-lsv-1-sos/
LOCATION:Stadscafe Oasis\, Kerkplein 15\, Meppel\, 7941 BG\, Nederland
CATEGORIES:Senioren extern
END:VEVENT
BEGIN:VEVENT
DTSTART;TZID=Europe/Amsterdam:20260203T200000
DTEND;TZID=Europe/Amsterdam:20260203T200000
DTSTAMP:20260421T223939
CREATED:20250723T175119Z
LAST-MODIFIED:20250723T175119Z
UID:17502-1770148800-1770148800@meppelerschaakvereniging.nl
SUMMARY:Intern P2-R8
DESCRIPTION:
URL:https://meppelerschaakvereniging.nl/agenda/intern-p2-r8-3/
LOCATION:Stadscafe Oasis\, Kerkplein 15\, Meppel\, 7941 BG\, Nederland
CATEGORIES:Senioren intern
END:VEVENT
BEGIN:VEVENT
DTSTART;TZID=Europe/Amsterdam:20260128T133000
DTEND;TZID=Europe/Amsterdam:20260128T163000
DTSTAMP:20260421T223939
CREATED:20251111T101849Z
LAST-MODIFIED:20251111T101849Z
UID:19483-1769607000-1769617800@meppelerschaakvereniging.nl
SUMMARY:Basisschool schaakkampioenschap dag 1
DESCRIPTION:Dag 1 van het Meppeler Basisschool schaakkampioenschap. \nVandaag spelen we ronde 1 t/m 6\, volgenden week volgen nog 6 rondes. \nZaal open vanaf 13:00 uur.
URL:https://meppelerschaakvereniging.nl/agenda/basisschool-schaakkampioenschap-dag-1-4/
LOCATION:Wijkcentrum de Poele\, Groen van Prinstererstraat 1A\, Meppel\, 7942 CW \, Nederland
CATEGORIES:Jeugd
END:VEVENT
BEGIN:VEVENT
DTSTART;TZID=Europe/Amsterdam:20260127T200000
DTEND;TZID=Europe/Amsterdam:20260127T200000
DTSTAMP:20260421T223939
CREATED:20250723T175039Z
LAST-MODIFIED:20250723T175039Z
UID:17499-1769544000-1769544000@meppelerschaakvereniging.nl
SUMMARY:Intern P2-R7
DESCRIPTION:
URL:https://meppelerschaakvereniging.nl/agenda/intern-p2-r7-3/
LOCATION:Stadscafe Oasis\, Kerkplein 15\, Meppel\, 7941 BG\, Nederland
CATEGORIES:Senioren intern
END:VEVENT
BEGIN:VEVENT
DTSTART;TZID=Europe/Amsterdam:20260120T200000
DTEND;TZID=Europe/Amsterdam:20260120T200000
DTSTAMP:20260421T223939
CREATED:20250901T153637Z
LAST-MODIFIED:20250901T153637Z
UID:17635-1768939200-1768939200@meppelerschaakvereniging.nl
SUMMARY:MSV 2 - SV Het Zwartewater 1  (SOS)
DESCRIPTION:Zie ook: https://sosc.netstand.nl/rounds/view/3231
URL:https://meppelerschaakvereniging.nl/agenda/msv-2-sv-het-zwartewater-1-sos-2/
LOCATION:Stadscafe Oasis\, Kerkplein 15\, Meppel\, 7941 BG\, Nederland
CATEGORIES:Senioren extern
END:VEVENT
BEGIN:VEVENT
DTSTART;TZID=Europe/Amsterdam:20260120T200000
DTEND;TZID=Europe/Amsterdam:20260120T200000
DTSTAMP:20260421T223939
CREATED:20250723T175006Z
LAST-MODIFIED:20250723T175006Z
UID:17497-1768939200-1768939200@meppelerschaakvereniging.nl
SUMMARY:Intern P2-R6
DESCRIPTION:
URL:https://meppelerschaakvereniging.nl/agenda/intern-p2-r6-3/
LOCATION:Stadscafe Oasis\, Kerkplein 15\, Meppel\, 7941 BG\, Nederland
CATEGORIES:Senioren intern
END:VEVENT
BEGIN:VEVENT
DTSTART;TZID=Europe/Amsterdam:20260119T200000
DTEND;TZID=Europe/Amsterdam:20260119T200000
DTSTAMP:20260421T223939
CREATED:20250901T152529Z
LAST-MODIFIED:20250901T152529Z
UID:17622-1768852800-1768852800@meppelerschaakvereniging.nl
SUMMARY:O&O 2 - MSV 1  (SOS)
DESCRIPTION:Zie ook: https://sosc.netstand.nl/rounds/view/3196
URL:https://meppelerschaakvereniging.nl/agenda/oo-2-msv-1-sos/
CATEGORIES:Senioren extern
END:VEVENT
BEGIN:VEVENT
DTSTART;TZID=Europe/Amsterdam:20260113T200000
DTEND;TZID=Europe/Amsterdam:20260113T200000
DTSTAMP:20260421T223939
CREATED:20250723T174936Z
LAST-MODIFIED:20250723T174936Z
UID:17495-1768334400-1768334400@meppelerschaakvereniging.nl
SUMMARY:Intern P2-R5
DESCRIPTION:
URL:https://meppelerschaakvereniging.nl/agenda/intern-p2-r5-3/
LOCATION:Stadscafe Oasis\, Kerkplein 15\, Meppel\, 7941 BG\, Nederland
CATEGORIES:Senioren intern
END:VEVENT
BEGIN:VEVENT
DTSTART;TZID=Europe/Amsterdam:20260106T200000
DTEND;TZID=Europe/Amsterdam:20260106T200000
DTSTAMP:20260421T223939
CREATED:20260106T102925Z
LAST-MODIFIED:20260106T131100Z
UID:19883-1767729600-1767729600@meppelerschaakvereniging.nl
SUMMARY:Vanavond GEEN schaken !!!
DESCRIPTION:IVM de weersomstandigheden is er op 6 januari helaas GEEN schaken !!!
URL:https://meppelerschaakvereniging.nl/agenda/vanavond-geen-schaken/
CATEGORIES:Senioren intern
END:VEVENT
BEGIN:VEVENT
DTSTART;TZID=Europe/Amsterdam:20251230T200000
DTEND;TZID=Europe/Amsterdam:20251230T200000
DTSTAMP:20260421T223939
CREATED:20251228T125651Z
LAST-MODIFIED:20251228T125651Z
UID:19861-1767124800-1767124800@meppelerschaakvereniging.nl
SUMMARY:Extra Rapidschaak
DESCRIPTION:Omdat deze dag leeg was gelaten en er toch mensen zijn die graag willen schaken is er een extra Rapidtoernooi.
URL:https://meppelerschaakvereniging.nl/agenda/extra-rapidschaak-2/
LOCATION:Stadscafe Oasis\, Kerkplein 15\, Meppel\, 7941 BG\, Nederland
CATEGORIES:Senioren intern
END:VEVENT
BEGIN:VEVENT
DTSTART;TZID=Europe/Amsterdam:20251223T200000
DTEND;TZID=Europe/Amsterdam:20251223T200000
DTSTAMP:20260421T223939
CREATED:20251217T130230Z
LAST-MODIFIED:20251217T130230Z
UID:19850-1766520000-1766520000@meppelerschaakvereniging.nl
SUMMARY:Extra Rapidschaak
DESCRIPTION:Omdat deze dag leeg was gelaten en er toch mensen zijn die graag willen schaken is er een extra Rapidtoernooi.
URL:https://meppelerschaakvereniging.nl/agenda/extra-rapidschaak/
LOCATION:Stadscafe Oasis\, Kerkplein 15\, Meppel\, 7941 BG\, Nederland
CATEGORIES:Senioren intern
END:VEVENT
BEGIN:VEVENT
DTSTART;TZID=Europe/Amsterdam:20251216T200000
DTEND;TZID=Europe/Amsterdam:20251216T200000
DTSTAMP:20260421T223939
CREATED:20250723T174624Z
LAST-MODIFIED:20250723T174624Z
UID:17491-1765915200-1765915200@meppelerschaakvereniging.nl
SUMMARY:Intern P2-R4
DESCRIPTION:
URL:https://meppelerschaakvereniging.nl/agenda/intern-p2-r4-3/
LOCATION:Stadscafe Oasis\, Kerkplein 15\, Meppel\, 7941 BG\, Nederland
CATEGORIES:Senioren intern
END:VEVENT
BEGIN:VEVENT
DTSTART;TZID=Europe/Amsterdam:20251213T130000
DTEND;TZID=Europe/Amsterdam:20251213T190000
DTSTAMP:20260421T223939
CREATED:20250804T174400Z
LAST-MODIFIED:20250807T152326Z
UID:17556-1765630800-1765652400@meppelerschaakvereniging.nl
SUMMARY:MSV 1 - Woerden 1  (KNSB)
DESCRIPTION:Zie ook: https://knsb.netstand.nl/rounds/view/3919
URL:https://meppelerschaakvereniging.nl/agenda/msv-1-woerden-1-knsb/
LOCATION:Stadscafe Oasis\, Kerkplein 15\, Meppel\, 7941 BG\, Nederland
CATEGORIES:Senioren extern
END:VEVENT
END:VCALENDAR