BEGIN:VCALENDAR
VERSION:2.0
PRODID:-//Meppeler Schaakvereniging - ECPv6.15.20//NONSGML v1.0//EN
CALSCALE:GREGORIAN
METHOD:PUBLISH
X-ORIGINAL-URL:https://meppelerschaakvereniging.nl
X-WR-CALDESC:Evenementen voor Meppeler Schaakvereniging
REFRESH-INTERVAL;VALUE=DURATION:PT1H
X-Robots-Tag:noindex
X-PUBLISHED-TTL:PT1H
BEGIN:VTIMEZONE
TZID:Europe/Amsterdam
BEGIN:DAYLIGHT
TZOFFSETFROM:+0100
TZOFFSETTO:+0200
TZNAME:CEST
DTSTART:20230326T010000
END:DAYLIGHT
BEGIN:STANDARD
TZOFFSETFROM:+0200
TZOFFSETTO:+0100
TZNAME:CET
DTSTART:20231029T010000
END:STANDARD
BEGIN:DAYLIGHT
TZOFFSETFROM:+0100
TZOFFSETTO:+0200
TZNAME:CEST
DTSTART:20240331T010000
END:DAYLIGHT
BEGIN:STANDARD
TZOFFSETFROM:+0200
TZOFFSETTO:+0100
TZNAME:CET
DTSTART:20241027T010000
END:STANDARD
BEGIN:DAYLIGHT
TZOFFSETFROM:+0100
TZOFFSETTO:+0200
TZNAME:CEST
DTSTART:20250330T010000
END:DAYLIGHT
BEGIN:STANDARD
TZOFFSETFROM:+0200
TZOFFSETTO:+0100
TZNAME:CET
DTSTART:20251026T010000
END:STANDARD
BEGIN:DAYLIGHT
TZOFFSETFROM:+0100
TZOFFSETTO:+0200
TZNAME:CEST
DTSTART:20260329T010000
END:DAYLIGHT
BEGIN:STANDARD
TZOFFSETFROM:+0200
TZOFFSETTO:+0100
TZNAME:CET
DTSTART:20261025T010000
END:STANDARD
END:VTIMEZONE
BEGIN:VEVENT
DTSTART;TZID=Europe/Amsterdam:20240926T200000
DTEND;TZID=Europe/Amsterdam:20240926T200000
DTSTAMP:20260423T001538
CREATED:20240824T122325Z
LAST-MODIFIED:20240824T123907Z
UID:16753-1727380800-1727380800@meppelerschaakvereniging.nl
SUMMARY:LSV 1 - MSV 2  (SOS)
DESCRIPTION:Zie:  https://sosc.netstand.nl/rounds/view/2854
URL:https://meppelerschaakvereniging.nl/agenda/lsv-1-msv-2-sos-2/
CATEGORIES:Senioren extern
END:VEVENT
BEGIN:VEVENT
DTSTART;TZID=Europe/Amsterdam:20241001T193000
DTEND;TZID=Europe/Amsterdam:20241001T193000
DTSTAMP:20260423T001538
CREATED:20240612T160105Z
LAST-MODIFIED:20240916T173718Z
UID:16656-1727811000-1727811000@meppelerschaakvereniging.nl
SUMMARY:Jaarvergadering
DESCRIPTION:De stukken voor de jaarvergadering ontvangt men in september. \nAanvang van de vergadering:  19:30 uur !!! \nNa de jaarvergadering is er rapid- of snelschaken voor de liefhebbers.
URL:https://meppelerschaakvereniging.nl/agenda/jaarvergadering-2/
LOCATION:Stadscafe Oasis\, Kerkplein 15\, Meppel\, 7941 BG\, Nederland
CATEGORIES:Algemeen
END:VEVENT
BEGIN:VEVENT
DTSTART;TZID=Europe/Amsterdam:20241008T200000
DTEND;TZID=Europe/Amsterdam:20241008T200000
DTSTAMP:20260423T001538
CREATED:20240815T202054Z
LAST-MODIFIED:20240815T202054Z
UID:16709-1728417600-1728417600@meppelerschaakvereniging.nl
SUMMARY:Intern P1-R3
DESCRIPTION:
URL:https://meppelerschaakvereniging.nl/agenda/intern-p1-r3-2/
LOCATION:Stadscafe Oasis\, Kerkplein 15\, Meppel\, 7941 BG\, Nederland
CATEGORIES:Senioren intern
END:VEVENT
BEGIN:VEVENT
DTSTART;TZID=Europe/Amsterdam:20241012T130000
DTEND;TZID=Europe/Amsterdam:20241012T190000
DTSTAMP:20260423T001538
CREATED:20240815T203237Z
LAST-MODIFIED:20240815T203237Z
UID:16728-1728738000-1728759600@meppelerschaakvereniging.nl
SUMMARY:MSV 1 - Schaakwoude 1  (KNSB)
DESCRIPTION:Zie https://knsb.netstand.nl/rounds/view/3347
URL:https://meppelerschaakvereniging.nl/agenda/msv-1-schaakwoude-1-knsb/
LOCATION:Stadscafe Oasis\, Kerkplein 15\, Meppel\, 7941 BG\, Nederland
CATEGORIES:Senioren extern
END:VEVENT
BEGIN:VEVENT
DTSTART;TZID=Europe/Amsterdam:20241014T200000
DTEND;TZID=Europe/Amsterdam:20241014T200000
DTSTAMP:20260423T001538
CREATED:20240824T125042Z
LAST-MODIFIED:20240824T125042Z
UID:16775-1728936000-1728936000@meppelerschaakvereniging.nl
SUMMARY:ENO 1 - MSV 1  (SOS)
DESCRIPTION:Zie: https://sosc.netstand.nl/rounds/view/2800
URL:https://meppelerschaakvereniging.nl/agenda/eno-1-msv-1-sos/
CATEGORIES:Senioren extern
END:VEVENT
BEGIN:VEVENT
DTSTART;TZID=Europe/Amsterdam:20241015T200000
DTEND;TZID=Europe/Amsterdam:20241015T200000
DTSTAMP:20260423T001538
CREATED:20240815T202136Z
LAST-MODIFIED:20240815T202136Z
UID:16711-1729022400-1729022400@meppelerschaakvereniging.nl
SUMMARY:Intern P1-R4
DESCRIPTION:
URL:https://meppelerschaakvereniging.nl/agenda/intern-p1-r4-2/
LOCATION:Stadscafe Oasis\, Kerkplein 15\, Meppel\, 7941 BG\, Nederland
CATEGORIES:Senioren intern
END:VEVENT
BEGIN:VEVENT
DTSTART;TZID=Europe/Amsterdam:20241015T200000
DTEND;TZID=Europe/Amsterdam:20241015T200000
DTSTAMP:20260423T001538
CREATED:20240824T123839Z
LAST-MODIFIED:20240824T123839Z
UID:16756-1729022400-1729022400@meppelerschaakvereniging.nl
SUMMARY:MSV 2 - Zwartewater 2  (SOS)
DESCRIPTION:Zie: https://sosc.netstand.nl/rounds/view/2855
URL:https://meppelerschaakvereniging.nl/agenda/msv-2-zwartewater-2-sos/
LOCATION:Stadscafe Oasis\, Kerkplein 15\, Meppel\, 7941 BG\, Nederland
CATEGORIES:Senioren extern
END:VEVENT
BEGIN:VEVENT
DTSTART;TZID=Europe/Amsterdam:20241022T200000
DTEND;TZID=Europe/Amsterdam:20241022T200000
DTSTAMP:20260423T001538
CREATED:20240815T202217Z
LAST-MODIFIED:20240815T202217Z
UID:16713-1729627200-1729627200@meppelerschaakvereniging.nl
SUMMARY:Intern P1-R5
DESCRIPTION:
URL:https://meppelerschaakvereniging.nl/agenda/intern-p1-r5-2/
LOCATION:Stadscafe Oasis\, Kerkplein 15\, Meppel\, 7941 BG\, Nederland
CATEGORIES:Senioren intern
END:VEVENT
BEGIN:VEVENT
DTSTART;TZID=Europe/Amsterdam:20241029T200000
DTEND;TZID=Europe/Amsterdam:20241029T200000
DTSTAMP:20260423T001538
CREATED:20240815T202301Z
LAST-MODIFIED:20240815T202301Z
UID:16715-1730232000-1730232000@meppelerschaakvereniging.nl
SUMMARY:Intern P1-R6
DESCRIPTION:
URL:https://meppelerschaakvereniging.nl/agenda/intern-p1-r6-2/
LOCATION:Stadscafe Oasis\, Kerkplein 15\, Meppel\, 7941 BG\, Nederland
CATEGORIES:Senioren intern
END:VEVENT
BEGIN:VEVENT
DTSTART;TZID=Europe/Amsterdam:20241105T200000
DTEND;TZID=Europe/Amsterdam:20241105T200000
DTSTAMP:20260423T001538
CREATED:20240815T202338Z
LAST-MODIFIED:20240815T202338Z
UID:16717-1730836800-1730836800@meppelerschaakvereniging.nl
SUMMARY:Intern P1-R7
DESCRIPTION:
URL:https://meppelerschaakvereniging.nl/agenda/intern-p1-r7-2/
LOCATION:Stadscafe Oasis\, Kerkplein 15\, Meppel\, 7941 BG\, Nederland
CATEGORIES:Senioren intern
END:VEVENT
BEGIN:VEVENT
DTSTART;TZID=Europe/Amsterdam:20241105T200000
DTEND;TZID=Europe/Amsterdam:20241105T200000
DTSTAMP:20260423T001538
CREATED:20240824T124028Z
LAST-MODIFIED:20240824T124028Z
UID:16759-1730836800-1730836800@meppelerschaakvereniging.nl
SUMMARY:De Zeven Pionnen 2 - MSV 2  (SOS)
DESCRIPTION:Zie: https://sosc.netstand.nl/rounds/view/2856
URL:https://meppelerschaakvereniging.nl/agenda/de-zeven-pionnen-2-msv-2-sos/
CATEGORIES:Senioren extern
END:VEVENT
BEGIN:VEVENT
DTSTART;TZID=Europe/Amsterdam:20241105T200000
DTEND;TZID=Europe/Amsterdam:20241105T200000
DTSTAMP:20260423T001538
CREATED:20240824T125150Z
LAST-MODIFIED:20240824T125150Z
UID:16777-1730836800-1730836800@meppelerschaakvereniging.nl
SUMMARY:MSV 1 - Zwartewater 1  (SOS)
DESCRIPTION:Zie: https://sosc.netstand.nl/rounds/view/2801
URL:https://meppelerschaakvereniging.nl/agenda/msv-1-zwartewater-1-sos/
LOCATION:Stadscafe Oasis\, Kerkplein 15\, Meppel\, 7941 BG\, Nederland
CATEGORIES:Senioren extern
END:VEVENT
BEGIN:VEVENT
DTSTART;TZID=Europe/Amsterdam:20241109T130000
DTEND;TZID=Europe/Amsterdam:20241109T190000
DTSTAMP:20260423T001538
CREATED:20240815T203418Z
LAST-MODIFIED:20240815T203418Z
UID:16730-1731157200-1731178800@meppelerschaakvereniging.nl
SUMMARY:Apeldoorn 2 -  MSV 1  (KNSB)
DESCRIPTION:Zie https://knsb.netstand.nl/rounds/view/3348
URL:https://meppelerschaakvereniging.nl/agenda/apeldoorn-2-msv-1-knsb/
CATEGORIES:Senioren extern
END:VEVENT
BEGIN:VEVENT
DTSTART;TZID=Europe/Amsterdam:20241112T200000
DTEND;TZID=Europe/Amsterdam:20241112T200000
DTSTAMP:20260423T001538
CREATED:20240815T202425Z
LAST-MODIFIED:20240815T202425Z
UID:16719-1731441600-1731441600@meppelerschaakvereniging.nl
SUMMARY:Intern P1-R8
DESCRIPTION:
URL:https://meppelerschaakvereniging.nl/agenda/intern-p1-r8-2/
LOCATION:Stadscafe Oasis\, Kerkplein 15\, Meppel\, 7941 BG\, Nederland
CATEGORIES:Senioren intern
END:VEVENT
BEGIN:VEVENT
DTSTART;TZID=Europe/Amsterdam:20241119T200000
DTEND;TZID=Europe/Amsterdam:20241119T200000
DTSTAMP:20260423T001538
CREATED:20240815T202530Z
LAST-MODIFIED:20240815T202530Z
UID:16721-1732046400-1732046400@meppelerschaakvereniging.nl
SUMMARY:Intern P1-R9
DESCRIPTION:
URL:https://meppelerschaakvereniging.nl/agenda/intern-p1-r9-2/
LOCATION:Stadscafe Oasis\, Kerkplein 15\, Meppel\, 7941 BG\, Nederland
CATEGORIES:Senioren intern
END:VEVENT
BEGIN:VEVENT
DTSTART;TZID=Europe/Amsterdam:20241123T130000
DTEND;TZID=Europe/Amsterdam:20241123T190000
DTSTAMP:20260423T001538
CREATED:20240815T203557Z
LAST-MODIFIED:20240815T203557Z
UID:16732-1732366800-1732388400@meppelerschaakvereniging.nl
SUMMARY:MSV 1 - Philidor 1847 1  (KNSB)
DESCRIPTION:Zie https://knsb.netstand.nl/rounds/view/3349
URL:https://meppelerschaakvereniging.nl/agenda/msv-1-philidor-1847-1-knsb/
LOCATION:Stadscafe Oasis\, Kerkplein 15\, Meppel\, 7941 BG\, Nederland
CATEGORIES:Senioren extern
END:VEVENT
BEGIN:VEVENT
DTSTART;TZID=Europe/Amsterdam:20241126T200000
DTEND;TZID=Europe/Amsterdam:20241126T200000
DTSTAMP:20260423T001538
CREATED:20240815T202651Z
LAST-MODIFIED:20240815T202651Z
UID:16723-1732651200-1732651200@meppelerschaakvereniging.nl
SUMMARY:Rapid 1
DESCRIPTION:
URL:https://meppelerschaakvereniging.nl/agenda/rapid-1-3/
LOCATION:Stadscafe Oasis\, Kerkplein 15\, Meppel\, 7941 BG\, Nederland
CATEGORIES:Senioren intern
END:VEVENT
BEGIN:VEVENT
DTSTART;TZID=Europe/Amsterdam:20241129T200000
DTEND;TZID=Europe/Amsterdam:20241129T200000
DTSTAMP:20260423T001538
CREATED:20241127T144542Z
LAST-MODIFIED:20241127T150425Z
UID:17124-1732910400-1732910400@meppelerschaakvereniging.nl
SUMMARY:Lonneker 1 - MSV 1  (KNSB Beker)
DESCRIPTION:Zie: https://schaakbond.nl/competitie/informatie-beker/poule-a/
URL:https://meppelerschaakvereniging.nl/agenda/lonneker-1-msv-1-knsb-beker/
CATEGORIES:Senioren extern
END:VEVENT
BEGIN:VEVENT
DTSTART;TZID=Europe/Amsterdam:20241203T200000
DTEND;TZID=Europe/Amsterdam:20241203T200000
DTSTAMP:20260423T001538
CREATED:20241111T151826Z
LAST-MODIFIED:20241111T151854Z
UID:17039-1733256000-1733256000@meppelerschaakvereniging.nl
SUMMARY:Intern P2-R1
DESCRIPTION:
URL:https://meppelerschaakvereniging.nl/agenda/intern-p2-r1-2/
LOCATION:Stadscafe Oasis\, Kerkplein 15\, Meppel\, 7941 BG\, Nederland
CATEGORIES:Senioren intern
END:VEVENT
BEGIN:VEVENT
DTSTART;TZID=Europe/Amsterdam:20241210T200000
DTEND;TZID=Europe/Amsterdam:20241210T200000
DTSTAMP:20260423T001538
CREATED:20240824T124133Z
LAST-MODIFIED:20240824T124308Z
UID:16761-1733860800-1733860800@meppelerschaakvereniging.nl
SUMMARY:MSV 2 - VSG 3  (SOS)
DESCRIPTION:Zie: https://sosc.netstand.nl/rounds/view/2857
URL:https://meppelerschaakvereniging.nl/agenda/msv-2-vsg-3/
LOCATION:Stadscafe Oasis\, Kerkplein 15\, Meppel\, 7941 BG\, Nederland
CATEGORIES:Senioren extern
END:VEVENT
BEGIN:VEVENT
DTSTART;TZID=Europe/Amsterdam:20241210T200000
DTEND;TZID=Europe/Amsterdam:20241210T200000
DTSTAMP:20260423T001538
CREATED:20241111T151939Z
LAST-MODIFIED:20241111T151939Z
UID:17041-1733860800-1733860800@meppelerschaakvereniging.nl
SUMMARY:Intern P2-R2
DESCRIPTION:
URL:https://meppelerschaakvereniging.nl/agenda/intern-p2-r2-2/
LOCATION:Stadscafe Oasis\, Kerkplein 15\, Meppel\, 7941 BG\, Nederland
CATEGORIES:Senioren intern
END:VEVENT
BEGIN:VEVENT
DTSTART;TZID=Europe/Amsterdam:20241214T130000
DTEND;TZID=Europe/Amsterdam:20241214T190000
DTSTAMP:20260423T001538
CREATED:20240815T203751Z
LAST-MODIFIED:20240815T203751Z
UID:16734-1734181200-1734202800@meppelerschaakvereniging.nl
SUMMARY:SG Max Euwe 1 - MSV 1  (KNSB)
DESCRIPTION:Zie https://knsb.netstand.nl/rounds/view/3350
URL:https://meppelerschaakvereniging.nl/agenda/sg-max-euwe-1-msv-1-knsb/
CATEGORIES:Senioren extern
END:VEVENT
BEGIN:VEVENT
DTSTART;TZID=Europe/Amsterdam:20241217T200000
DTEND;TZID=Europe/Amsterdam:20241217T200000
DTSTAMP:20260423T001538
CREATED:20241111T152014Z
LAST-MODIFIED:20241111T152014Z
UID:17043-1734465600-1734465600@meppelerschaakvereniging.nl
SUMMARY:Intern P2-R3
DESCRIPTION:
URL:https://meppelerschaakvereniging.nl/agenda/intern-p2-r3-2/
LOCATION:Stadscafe Oasis\, Kerkplein 15\, Meppel\, 7941 BG\, Nederland
CATEGORIES:Senioren intern
END:VEVENT
BEGIN:VEVENT
DTSTART;TZID=Europe/Amsterdam:20250107T200000
DTEND;TZID=Europe/Amsterdam:20250107T200000
DTSTAMP:20260423T001538
CREATED:20241111T171447Z
LAST-MODIFIED:20250729T163821Z
UID:17053-1736280000-1736280000@meppelerschaakvereniging.nl
SUMMARY:Snelschaak kampioenschap
DESCRIPTION:Wie wordt de snelschaak kampioen van dit seizoen?\nPartijen van 5 min. per persoon.
URL:https://meppelerschaakvereniging.nl/agenda/snelschaak-kampioenschap-2/
LOCATION:Stadscafe Oasis\, Kerkplein 15\, Meppel\, 7941 BG\, Nederland
CATEGORIES:Senioren intern
END:VEVENT
BEGIN:VEVENT
DTSTART;TZID=Europe/Amsterdam:20250114T200000
DTEND;TZID=Europe/Amsterdam:20250114T200000
DTSTAMP:20260423T001538
CREATED:20240824T124240Z
LAST-MODIFIED:20240824T124240Z
UID:16763-1736884800-1736884800@meppelerschaakvereniging.nl
SUMMARY:MSV 2 - Denk en Zet 2  (SOS)
DESCRIPTION:Zie: https://sosc.netstand.nl/rounds/view/2858
URL:https://meppelerschaakvereniging.nl/agenda/msv-2-denk-en-zet-2-sos/
LOCATION:Stadscafe Oasis\, Kerkplein 15\, Meppel\, 7941 BG\, Nederland
CATEGORIES:Senioren extern
END:VEVENT
BEGIN:VEVENT
DTSTART;TZID=Europe/Amsterdam:20250114T200000
DTEND;TZID=Europe/Amsterdam:20250114T200000
DTSTAMP:20260423T001538
CREATED:20241111T152113Z
LAST-MODIFIED:20241111T171619Z
UID:17045-1736884800-1736884800@meppelerschaakvereniging.nl
SUMMARY:Intern P2-R4
DESCRIPTION:
URL:https://meppelerschaakvereniging.nl/agenda/intern-p2-r4-2/
LOCATION:Stadscafe Oasis\, Kerkplein 15\, Meppel\, 7941 BG\, Nederland
CATEGORIES:Senioren intern
END:VEVENT
BEGIN:VEVENT
DTSTART;TZID=Europe/Amsterdam:20250121T200000
DTEND;TZID=Europe/Amsterdam:20250121T200000
DTSTAMP:20260423T001538
CREATED:20241111T152148Z
LAST-MODIFIED:20241111T171534Z
UID:17047-1737489600-1737489600@meppelerschaakvereniging.nl
SUMMARY:Intern P2-R5
DESCRIPTION:
URL:https://meppelerschaakvereniging.nl/agenda/intern-p2-r5-2/
CATEGORIES:Senioren intern
END:VEVENT
BEGIN:VEVENT
DTSTART;TZID=Europe/Amsterdam:20250128T200000
DTEND;TZID=Europe/Amsterdam:20250128T200000
DTSTAMP:20260423T001538
CREATED:20241111T171706Z
LAST-MODIFIED:20241111T171706Z
UID:17055-1738094400-1738094400@meppelerschaakvereniging.nl
SUMMARY:Intern P2-R6
DESCRIPTION:
URL:https://meppelerschaakvereniging.nl/agenda/intern-p2-r6-2/
LOCATION:Stadscafe Oasis\, Kerkplein 15\, Meppel\, 7941 BG\, Nederland
CATEGORIES:Senioren intern
END:VEVENT
BEGIN:VEVENT
DTSTART;TZID=Europe/Amsterdam:20250129T133000
DTEND;TZID=Europe/Amsterdam:20250129T163000
DTSTAMP:20260423T001538
CREATED:20240909T183844Z
LAST-MODIFIED:20240909T183844Z
UID:16797-1738157400-1738168200@meppelerschaakvereniging.nl
SUMMARY:Basisschool schaakkampioenschap dag 1
DESCRIPTION:Dag 1 van het Meppeler Basisschool schaakkampioenschap. \nVandaag spelen we ronde 1 t/m 6. \nZaal open vanaf 13:00 uur.
URL:https://meppelerschaakvereniging.nl/agenda/basisschool-schaakkampioenschap-dag-1-3/
LOCATION:Wijkcentrum de Poele\, Groen van Prinstererstraat 1A\, Meppel\, 7942 CW \, Nederland
CATEGORIES:Jeugd
END:VEVENT
BEGIN:VEVENT
DTSTART;TZID=Europe/Amsterdam:20250204T200000
DTEND;TZID=Europe/Amsterdam:20250204T200000
DTSTAMP:20260423T001538
CREATED:20240824T125443Z
LAST-MODIFIED:20240824T125443Z
UID:16781-1738699200-1738699200@meppelerschaakvereniging.nl
SUMMARY:MSV 1 - Denk en Zet 1  (SOS)
DESCRIPTION:Zie:  https://sosc.netstand.nl/rounds/view/2804
URL:https://meppelerschaakvereniging.nl/agenda/msv-1-denk-en-zet-1-sos/
LOCATION:Stadscafe Oasis\, Kerkplein 15\, Meppel\, 7941 BG\, Nederland
CATEGORIES:Senioren extern
END:VEVENT
END:VCALENDAR