BEGIN:VCALENDAR
VERSION:2.0
PRODID:-//Meppeler Schaakvereniging - ECPv6.15.20//NONSGML v1.0//EN
CALSCALE:GREGORIAN
METHOD:PUBLISH
X-WR-CALNAME:Meppeler Schaakvereniging
X-ORIGINAL-URL:https://meppelerschaakvereniging.nl
X-WR-CALDESC:Evenementen voor Meppeler Schaakvereniging
REFRESH-INTERVAL;VALUE=DURATION:PT1H
X-Robots-Tag:noindex
X-PUBLISHED-TTL:PT1H
BEGIN:VTIMEZONE
TZID:Europe/Amsterdam
BEGIN:DAYLIGHT
TZOFFSETFROM:+0100
TZOFFSETTO:+0200
TZNAME:CEST
DTSTART:20210328T010000
END:DAYLIGHT
BEGIN:STANDARD
TZOFFSETFROM:+0200
TZOFFSETTO:+0100
TZNAME:CET
DTSTART:20211031T010000
END:STANDARD
BEGIN:DAYLIGHT
TZOFFSETFROM:+0100
TZOFFSETTO:+0200
TZNAME:CEST
DTSTART:20220327T010000
END:DAYLIGHT
BEGIN:STANDARD
TZOFFSETFROM:+0200
TZOFFSETTO:+0100
TZNAME:CET
DTSTART:20221030T010000
END:STANDARD
BEGIN:DAYLIGHT
TZOFFSETFROM:+0100
TZOFFSETTO:+0200
TZNAME:CEST
DTSTART:20230326T010000
END:DAYLIGHT
BEGIN:STANDARD
TZOFFSETFROM:+0200
TZOFFSETTO:+0100
TZNAME:CET
DTSTART:20231029T010000
END:STANDARD
END:VTIMEZONE
BEGIN:VEVENT
DTSTART;TZID=Europe/Amsterdam:20221202T200000
DTEND;TZID=Europe/Amsterdam:20221202T200000
DTSTAMP:20260423T132232
CREATED:20221101T185519Z
LAST-MODIFIED:20221102T095002Z
UID:15642-1670011200-1670011200@meppelerschaakvereniging.nl
SUMMARY:Emanuel Lasker 1 - MSV 1  (KNSB beker)
DESCRIPTION:
URL:https://meppelerschaakvereniging.nl/agenda/emanuel-lasker-1-msv-1-beker/
CATEGORIES:Senioren extern
END:VEVENT
BEGIN:VEVENT
DTSTART;TZID=Europe/Amsterdam:20221130T200000
DTEND;TZID=Europe/Amsterdam:20221130T200000
DTSTAMP:20260423T132232
CREATED:20220908T180347Z
LAST-MODIFIED:20221102T095048Z
UID:15566-1669838400-1669838400@meppelerschaakvereniging.nl
SUMMARY:Apeldoorn 4 - MSV 1  (SOS)
DESCRIPTION:
URL:https://meppelerschaakvereniging.nl/agenda/apeldoorn-4-msv-1/
CATEGORIES:Senioren extern
END:VEVENT
BEGIN:VEVENT
DTSTART;TZID=Europe/Amsterdam:20221129T200000
DTEND;TZID=Europe/Amsterdam:20221129T200000
DTSTAMP:20260423T132232
CREATED:20221012T132718Z
LAST-MODIFIED:20221012T132718Z
UID:15613-1669752000-1669752000@meppelerschaakvereniging.nl
SUMMARY:Intern 2-2
DESCRIPTION:
URL:https://meppelerschaakvereniging.nl/agenda/intern-2-2-4/
CATEGORIES:Senioren intern
END:VEVENT
BEGIN:VEVENT
DTSTART;TZID=Europe/Amsterdam:20221126T130000
DTEND;TZID=Europe/Amsterdam:20221126T190000
DTSTAMP:20260423T132232
CREATED:20220807T130310Z
LAST-MODIFIED:20221102T095104Z
UID:15530-1669467600-1669489200@meppelerschaakvereniging.nl
SUMMARY:HWP Haarlem 1 - MSV 1  (KNSB)
DESCRIPTION:
URL:https://meppelerschaakvereniging.nl/agenda/hwp-haarlem-1-msv-1/
CATEGORIES:Senioren extern
END:VEVENT
BEGIN:VEVENT
DTSTART;TZID=Europe/Amsterdam:20221122T200000
DTEND;TZID=Europe/Amsterdam:20221122T200000
DTSTAMP:20260423T132232
CREATED:20221012T132625Z
LAST-MODIFIED:20221012T132625Z
UID:15611-1669147200-1669147200@meppelerschaakvereniging.nl
SUMMARY:Intern 2-1
DESCRIPTION:
URL:https://meppelerschaakvereniging.nl/agenda/intern-2-1-4/
CATEGORIES:Senioren intern
END:VEVENT
BEGIN:VEVENT
DTSTART;TZID=Europe/Amsterdam:20221115T200000
DTEND;TZID=Europe/Amsterdam:20221115T200000
DTSTAMP:20260423T132232
CREATED:20220807T125743Z
LAST-MODIFIED:20221112T135121Z
UID:15522-1668542400-1668542400@meppelerschaakvereniging.nl
SUMMARY:Rapid 1
DESCRIPTION:
URL:https://meppelerschaakvereniging.nl/agenda/rapid-1/
CATEGORIES:Senioren intern
END:VEVENT
BEGIN:VEVENT
DTSTART;TZID=Europe/Amsterdam:20221108T200000
DTEND;TZID=Europe/Amsterdam:20221108T200000
DTSTAMP:20260423T132232
CREATED:20220807T125717Z
LAST-MODIFIED:20220807T125717Z
UID:15520-1667937600-1667937600@meppelerschaakvereniging.nl
SUMMARY:Intern 1-9
DESCRIPTION:
URL:https://meppelerschaakvereniging.nl/agenda/intern-1-9/
CATEGORIES:Senioren intern
END:VEVENT
BEGIN:VEVENT
DTSTART;TZID=Europe/Amsterdam:20221105T130000
DTEND;TZID=Europe/Amsterdam:20221105T190000
DTSTAMP:20260423T132232
CREATED:20220807T130230Z
LAST-MODIFIED:20221102T095126Z
UID:15528-1667653200-1667674800@meppelerschaakvereniging.nl
SUMMARY:MSV 1 - En Passant 1  (KNSB)
DESCRIPTION:
URL:https://meppelerschaakvereniging.nl/agenda/msv-1-en-passant-1/
CATEGORIES:Senioren extern
END:VEVENT
BEGIN:VEVENT
DTSTART;TZID=Europe/Amsterdam:20221101T200000
DTEND;TZID=Europe/Amsterdam:20221101T200000
DTSTAMP:20260423T132232
CREATED:20220908T180245Z
LAST-MODIFIED:20221102T095142Z
UID:15564-1667332800-1667332800@meppelerschaakvereniging.nl
SUMMARY:MSV 1 - Pallas 2  (SOS)
DESCRIPTION:
URL:https://meppelerschaakvereniging.nl/agenda/msv-1-pallas-2/
LOCATION:Onderwijspark Ezinge\, Ezingerweg 52\, Meppel\, 7943 AZ\, Nederland
CATEGORIES:Senioren extern
END:VEVENT
BEGIN:VEVENT
DTSTART;TZID=Europe/Amsterdam:20221101T200000
DTEND;TZID=Europe/Amsterdam:20221101T200000
DTSTAMP:20260423T132232
CREATED:20220807T125654Z
LAST-MODIFIED:20220807T125654Z
UID:15518-1667332800-1667332800@meppelerschaakvereniging.nl
SUMMARY:Intern 1-8
DESCRIPTION:
URL:https://meppelerschaakvereniging.nl/agenda/intern-1-8/
CATEGORIES:Senioren intern
END:VEVENT
BEGIN:VEVENT
DTSTART;TZID=Europe/Amsterdam:20221025T200000
DTEND;TZID=Europe/Amsterdam:20221025T200000
DTSTAMP:20260423T132232
CREATED:20220807T125609Z
LAST-MODIFIED:20220807T125609Z
UID:15516-1666728000-1666728000@meppelerschaakvereniging.nl
SUMMARY:Intern 1-7
DESCRIPTION:
URL:https://meppelerschaakvereniging.nl/agenda/intern-1-7-3/
CATEGORIES:Senioren intern
END:VEVENT
BEGIN:VEVENT
DTSTART;TZID=Europe/Amsterdam:20221018T200000
DTEND;TZID=Europe/Amsterdam:20221018T200000
DTSTAMP:20260423T132232
CREATED:20220807T125541Z
LAST-MODIFIED:20220807T125541Z
UID:15514-1666123200-1666123200@meppelerschaakvereniging.nl
SUMMARY:Intern 1-6
DESCRIPTION:
URL:https://meppelerschaakvereniging.nl/agenda/intern-1-6-4/
CATEGORIES:Senioren intern
END:VEVENT
BEGIN:VEVENT
DTSTART;TZID=Europe/Amsterdam:20221011T200000
DTEND;TZID=Europe/Amsterdam:20221011T200000
DTSTAMP:20260423T132232
CREATED:20220807T125515Z
LAST-MODIFIED:20220807T125515Z
UID:15512-1665518400-1665518400@meppelerschaakvereniging.nl
SUMMARY:Intern 1-5
DESCRIPTION:
URL:https://meppelerschaakvereniging.nl/agenda/intern-1-5-4/
CATEGORIES:Senioren intern
END:VEVENT
BEGIN:VEVENT
DTSTART;TZID=Europe/Amsterdam:20221008T130000
DTEND;TZID=Europe/Amsterdam:20221008T190000
DTSTAMP:20260423T132232
CREATED:20220807T130132Z
LAST-MODIFIED:20221102T095200Z
UID:15526-1665234000-1665255600@meppelerschaakvereniging.nl
SUMMARY:Wageningen 1 - MSV 1  (KNSB)
DESCRIPTION:
URL:https://meppelerschaakvereniging.nl/agenda/wageningen-1-msv-1/
CATEGORIES:Senioren extern
END:VEVENT
BEGIN:VEVENT
DTSTART;TZID=Europe/Amsterdam:20221004T200000
DTEND;TZID=Europe/Amsterdam:20221004T200000
DTSTAMP:20260423T132232
CREATED:20220807T125343Z
LAST-MODIFIED:20220807T125343Z
UID:15508-1664913600-1664913600@meppelerschaakvereniging.nl
SUMMARY:Intern 1-4
DESCRIPTION:
URL:https://meppelerschaakvereniging.nl/agenda/intern-1-4-4/
CATEGORIES:Senioren intern
END:VEVENT
BEGIN:VEVENT
DTSTART;TZID=Europe/Amsterdam:20221003T200000
DTEND;TZID=Europe/Amsterdam:20221003T200000
DTSTAMP:20260423T132232
CREATED:20220908T180125Z
LAST-MODIFIED:20221102T095222Z
UID:15562-1664827200-1664827200@meppelerschaakvereniging.nl
SUMMARY:O&O 2 - MSV 1  (SOS)
DESCRIPTION:
URL:https://meppelerschaakvereniging.nl/agenda/oo-2-msv-1/
CATEGORIES:Senioren extern
END:VEVENT
BEGIN:VEVENT
DTSTART;TZID=Europe/Amsterdam:20220927T200000
DTEND;TZID=Europe/Amsterdam:20220927T200000
DTSTAMP:20260423T132232
CREATED:20220807T125437Z
LAST-MODIFIED:20220925T133707Z
UID:15510-1664308800-1664308800@meppelerschaakvereniging.nl
SUMMARY:Algemene Leden Vergadering
DESCRIPTION:
URL:https://meppelerschaakvereniging.nl/agenda/algemene-leden-vergadering-2/
CATEGORIES:Algemeen
END:VEVENT
BEGIN:VEVENT
DTSTART;TZID=Europe/Amsterdam:20220920T200000
DTEND;TZID=Europe/Amsterdam:20220920T200000
DTSTAMP:20260423T132232
CREATED:20220807T125314Z
LAST-MODIFIED:20220807T125314Z
UID:15506-1663704000-1663704000@meppelerschaakvereniging.nl
SUMMARY:Intern 1-3
DESCRIPTION:
URL:https://meppelerschaakvereniging.nl/agenda/intern-1-3-3/
CATEGORIES:Senioren intern
END:VEVENT
BEGIN:VEVENT
DTSTART;TZID=Europe/Amsterdam:20220917T130000
DTEND;TZID=Europe/Amsterdam:20220917T190000
DTSTAMP:20260423T132232
CREATED:20220807T130029Z
LAST-MODIFIED:20221102T095244Z
UID:15524-1663419600-1663441200@meppelerschaakvereniging.nl
SUMMARY:MSV 1 - Purmerend 1  (KNSB)
DESCRIPTION:
URL:https://meppelerschaakvereniging.nl/agenda/msv-1-purmerend-1/
CATEGORIES:Senioren extern
END:VEVENT
BEGIN:VEVENT
DTSTART;TZID=Europe/Amsterdam:20220913T200000
DTEND;TZID=Europe/Amsterdam:20220913T200000
DTSTAMP:20260423T132232
CREATED:20220908T174546Z
LAST-MODIFIED:20221102T095027Z
UID:15558-1663099200-1663099200@meppelerschaakvereniging.nl
SUMMARY:MSV 1 - ZZS! 2  (SOS)
DESCRIPTION:
URL:https://meppelerschaakvereniging.nl/agenda/msv-1-zzs-2/
LOCATION:Onderwijspark Ezinge\, Ezingerweg 52\, Meppel\, 7943 AZ\, Nederland
CATEGORIES:Senioren extern
END:VEVENT
BEGIN:VEVENT
DTSTART;TZID=Europe/Amsterdam:20220913T200000
DTEND;TZID=Europe/Amsterdam:20220913T200000
DTSTAMP:20260423T132232
CREATED:20220807T125249Z
LAST-MODIFIED:20220807T125249Z
UID:15504-1663099200-1663099200@meppelerschaakvereniging.nl
SUMMARY:Intern 1-2
DESCRIPTION:
URL:https://meppelerschaakvereniging.nl/agenda/intern-1-2-3/
CATEGORIES:Senioren intern
END:VEVENT
BEGIN:VEVENT
DTSTART;TZID=Europe/Amsterdam:20220906T200000
DTEND;TZID=Europe/Amsterdam:20220906T200000
DTSTAMP:20260423T132232
CREATED:20220807T125205Z
LAST-MODIFIED:20220807T125205Z
UID:15502-1662494400-1662494400@meppelerschaakvereniging.nl
SUMMARY:Intern 1-1
DESCRIPTION:
URL:https://meppelerschaakvereniging.nl/agenda/intern-1-1-4/
CATEGORIES:Senioren intern
END:VEVENT
BEGIN:VEVENT
DTSTART;TZID=Europe/Amsterdam:20220830T200000
DTEND;TZID=Europe/Amsterdam:20220830T200000
DTSTAMP:20260423T132232
CREATED:20220520T184535Z
LAST-MODIFIED:20220520T190403Z
UID:15456-1661889600-1661889600@meppelerschaakvereniging.nl
SUMMARY:Zomerschaak 11
DESCRIPTION:Rapidtoernooi bij Stadscafe Oasis. \nMeestal 5 ronden per avond. \nKom gerust langs als je zin hebt in een potje schaken.
URL:https://meppelerschaakvereniging.nl/agenda/zoemerschaak-11/
LOCATION:Stadscafe Oasis\, Kerkplein 15\, Meppel\, 7941 BG\, Nederland
CATEGORIES:Algemeen
END:VEVENT
BEGIN:VEVENT
DTSTART;TZID=Europe/Amsterdam:20220823T200000
DTEND;TZID=Europe/Amsterdam:20220823T200000
DTSTAMP:20260423T132232
CREATED:20220520T184500Z
LAST-MODIFIED:20220520T190301Z
UID:15454-1661284800-1661284800@meppelerschaakvereniging.nl
SUMMARY:Zomerschaak 10
DESCRIPTION:Rapidtoernooi bij Stadscafe Oasis. \nMeestal 5 ronden per avond. \nKom gerust langs als je zin hebt in een potje schaken.
URL:https://meppelerschaakvereniging.nl/agenda/zomerschaak-10/
LOCATION:Stadscafe Oasis\, Kerkplein 15\, Meppel\, 7941 BG\, Nederland
CATEGORIES:Algemeen
END:VEVENT
BEGIN:VEVENT
DTSTART;TZID=Europe/Amsterdam:20220816T200000
DTEND;TZID=Europe/Amsterdam:20220816T200000
DTSTAMP:20260423T132232
CREATED:20220520T184232Z
LAST-MODIFIED:20220520T190249Z
UID:15452-1660680000-1660680000@meppelerschaakvereniging.nl
SUMMARY:Zomerschaak 9
DESCRIPTION:Rapidtoernooi bij Stadscafe Oasis. \nMeestal 5 ronden per avond. \nKom gerust langs als je zin hebt in een potje schaken.
URL:https://meppelerschaakvereniging.nl/agenda/zomerschaak-9/
LOCATION:Stadscafe Oasis\, Kerkplein 15\, Meppel\, 7941 BG\, Nederland
CATEGORIES:Algemeen
END:VEVENT
BEGIN:VEVENT
DTSTART;TZID=Europe/Amsterdam:20220809T200000
DTEND;TZID=Europe/Amsterdam:20220809T200000
DTSTAMP:20260423T132232
CREATED:20220520T184134Z
LAST-MODIFIED:20220520T190235Z
UID:15450-1660075200-1660075200@meppelerschaakvereniging.nl
SUMMARY:Zomerschaak 8
DESCRIPTION:Rapidtoernooi bij Stadscafe Oasis. \nMeestal 5 ronden per avond. \nKom gerust langs als je zin hebt in een potje schaken.
URL:https://meppelerschaakvereniging.nl/agenda/zomerschaak-8/
LOCATION:Stadscafe Oasis\, Kerkplein 15\, Meppel\, 7941 BG\, Nederland
CATEGORIES:Algemeen
END:VEVENT
BEGIN:VEVENT
DTSTART;TZID=Europe/Amsterdam:20220802T200000
DTEND;TZID=Europe/Amsterdam:20220802T200000
DTSTAMP:20260423T132232
CREATED:20220520T184057Z
LAST-MODIFIED:20220520T190210Z
UID:15448-1659470400-1659470400@meppelerschaakvereniging.nl
SUMMARY:Zomerschaak 7
DESCRIPTION:Rapidtoernooi bij Stadscafe Oasis. \nMeestal 5 ronden per avond. \nKom gerust langs als je zin hebt in een potje schaken.
URL:https://meppelerschaakvereniging.nl/agenda/zomerschaak-7/
LOCATION:Stadscafe Oasis\, Kerkplein 15\, Meppel\, 7941 BG\, Nederland
CATEGORIES:Algemeen
END:VEVENT
BEGIN:VEVENT
DTSTART;TZID=Europe/Amsterdam:20220726T200000
DTEND;TZID=Europe/Amsterdam:20220726T200000
DTSTAMP:20260423T132232
CREATED:20220520T184015Z
LAST-MODIFIED:20220520T190222Z
UID:15446-1658865600-1658865600@meppelerschaakvereniging.nl
SUMMARY:Zomerschaak 6
DESCRIPTION:Rapidtoernooi bij Stadscafe Oasis. \nMeestal 5 ronden per avond. \nKom gerust langs als je zin hebt in een potje schaken.
URL:https://meppelerschaakvereniging.nl/agenda/zomerschaak-6/
LOCATION:Stadscafe Oasis\, Kerkplein 15\, Meppel\, 7941 BG\, Nederland
CATEGORIES:Algemeen
END:VEVENT
BEGIN:VEVENT
DTSTART;TZID=Europe/Amsterdam:20220719T200000
DTEND;TZID=Europe/Amsterdam:20220719T200000
DTSTAMP:20260423T132232
CREATED:20220520T183905Z
LAST-MODIFIED:20220520T190157Z
UID:15444-1658260800-1658260800@meppelerschaakvereniging.nl
SUMMARY:Zomerschaak 5
DESCRIPTION:Rapidtoernooi bij Stadscafe Oasis. \nMeestal 5 ronden per avond. \nKom gerust langs als je zin hebt in een potje schaken.
URL:https://meppelerschaakvereniging.nl/agenda/zomerschaak-5/
LOCATION:Stadscafe Oasis\, Kerkplein 15\, Meppel\, 7941 BG\, Nederland
CATEGORIES:Algemeen
END:VEVENT
BEGIN:VEVENT
DTSTART;TZID=Europe/Amsterdam:20220712T200000
DTEND;TZID=Europe/Amsterdam:20220712T200000
DTSTAMP:20260423T132232
CREATED:20220520T183826Z
LAST-MODIFIED:20220520T190140Z
UID:15442-1657656000-1657656000@meppelerschaakvereniging.nl
SUMMARY:Zomerschaak 4
DESCRIPTION:Rapidtoernooi bij Stadscafe Oasis. \nMeestal 5 ronden per avond. \nKom gerust langs als je zin hebt in een potje schaken.
URL:https://meppelerschaakvereniging.nl/agenda/zomerschaak-4/
LOCATION:Stadscafe Oasis\, Kerkplein 15\, Meppel\, 7941 BG\, Nederland
CATEGORIES:Algemeen
END:VEVENT
END:VCALENDAR