BEGIN:VCALENDAR
VERSION:2.0
PRODID:-//Meppeler Schaakvereniging - ECPv6.15.20//NONSGML v1.0//EN
CALSCALE:GREGORIAN
METHOD:PUBLISH
X-WR-CALNAME:Meppeler Schaakvereniging
X-ORIGINAL-URL:https://meppelerschaakvereniging.nl
X-WR-CALDESC:Evenementen voor Meppeler Schaakvereniging
REFRESH-INTERVAL;VALUE=DURATION:PT1H
X-Robots-Tag:noindex
X-PUBLISHED-TTL:PT1H
BEGIN:VTIMEZONE
TZID:Europe/Amsterdam
BEGIN:DAYLIGHT
TZOFFSETFROM:+0100
TZOFFSETTO:+0200
TZNAME:CEST
DTSTART:20210328T010000
END:DAYLIGHT
BEGIN:STANDARD
TZOFFSETFROM:+0200
TZOFFSETTO:+0100
TZNAME:CET
DTSTART:20211031T010000
END:STANDARD
BEGIN:DAYLIGHT
TZOFFSETFROM:+0100
TZOFFSETTO:+0200
TZNAME:CEST
DTSTART:20220327T010000
END:DAYLIGHT
BEGIN:STANDARD
TZOFFSETFROM:+0200
TZOFFSETTO:+0100
TZNAME:CET
DTSTART:20221030T010000
END:STANDARD
BEGIN:DAYLIGHT
TZOFFSETFROM:+0100
TZOFFSETTO:+0200
TZNAME:CEST
DTSTART:20230326T010000
END:DAYLIGHT
BEGIN:STANDARD
TZOFFSETFROM:+0200
TZOFFSETTO:+0100
TZNAME:CET
DTSTART:20231029T010000
END:STANDARD
END:VTIMEZONE
BEGIN:VEVENT
DTSTART;TZID=Europe/Amsterdam:20220913T200000
DTEND;TZID=Europe/Amsterdam:20220913T200000
DTSTAMP:20260423T163618
CREATED:20220807T125249Z
LAST-MODIFIED:20220807T125249Z
UID:15504-1663099200-1663099200@meppelerschaakvereniging.nl
SUMMARY:Intern 1-2
DESCRIPTION:
URL:https://meppelerschaakvereniging.nl/agenda/intern-1-2-3/
CATEGORIES:Senioren intern
END:VEVENT
BEGIN:VEVENT
DTSTART;TZID=Europe/Amsterdam:20220906T200000
DTEND;TZID=Europe/Amsterdam:20220906T200000
DTSTAMP:20260423T163618
CREATED:20220807T125205Z
LAST-MODIFIED:20220807T125205Z
UID:15502-1662494400-1662494400@meppelerschaakvereniging.nl
SUMMARY:Intern 1-1
DESCRIPTION:
URL:https://meppelerschaakvereniging.nl/agenda/intern-1-1-4/
CATEGORIES:Senioren intern
END:VEVENT
BEGIN:VEVENT
DTSTART;TZID=Europe/Amsterdam:20220830T200000
DTEND;TZID=Europe/Amsterdam:20220830T200000
DTSTAMP:20260423T163618
CREATED:20220520T184535Z
LAST-MODIFIED:20220520T190403Z
UID:15456-1661889600-1661889600@meppelerschaakvereniging.nl
SUMMARY:Zomerschaak 11
DESCRIPTION:Rapidtoernooi bij Stadscafe Oasis. \nMeestal 5 ronden per avond. \nKom gerust langs als je zin hebt in een potje schaken.
URL:https://meppelerschaakvereniging.nl/agenda/zoemerschaak-11/
LOCATION:Stadscafe Oasis\, Kerkplein 15\, Meppel\, 7941 BG\, Nederland
CATEGORIES:Algemeen
END:VEVENT
BEGIN:VEVENT
DTSTART;TZID=Europe/Amsterdam:20220823T200000
DTEND;TZID=Europe/Amsterdam:20220823T200000
DTSTAMP:20260423T163618
CREATED:20220520T184500Z
LAST-MODIFIED:20220520T190301Z
UID:15454-1661284800-1661284800@meppelerschaakvereniging.nl
SUMMARY:Zomerschaak 10
DESCRIPTION:Rapidtoernooi bij Stadscafe Oasis. \nMeestal 5 ronden per avond. \nKom gerust langs als je zin hebt in een potje schaken.
URL:https://meppelerschaakvereniging.nl/agenda/zomerschaak-10/
LOCATION:Stadscafe Oasis\, Kerkplein 15\, Meppel\, 7941 BG\, Nederland
CATEGORIES:Algemeen
END:VEVENT
BEGIN:VEVENT
DTSTART;TZID=Europe/Amsterdam:20220816T200000
DTEND;TZID=Europe/Amsterdam:20220816T200000
DTSTAMP:20260423T163618
CREATED:20220520T184232Z
LAST-MODIFIED:20220520T190249Z
UID:15452-1660680000-1660680000@meppelerschaakvereniging.nl
SUMMARY:Zomerschaak 9
DESCRIPTION:Rapidtoernooi bij Stadscafe Oasis. \nMeestal 5 ronden per avond. \nKom gerust langs als je zin hebt in een potje schaken.
URL:https://meppelerschaakvereniging.nl/agenda/zomerschaak-9/
LOCATION:Stadscafe Oasis\, Kerkplein 15\, Meppel\, 7941 BG\, Nederland
CATEGORIES:Algemeen
END:VEVENT
BEGIN:VEVENT
DTSTART;TZID=Europe/Amsterdam:20220809T200000
DTEND;TZID=Europe/Amsterdam:20220809T200000
DTSTAMP:20260423T163618
CREATED:20220520T184134Z
LAST-MODIFIED:20220520T190235Z
UID:15450-1660075200-1660075200@meppelerschaakvereniging.nl
SUMMARY:Zomerschaak 8
DESCRIPTION:Rapidtoernooi bij Stadscafe Oasis. \nMeestal 5 ronden per avond. \nKom gerust langs als je zin hebt in een potje schaken.
URL:https://meppelerschaakvereniging.nl/agenda/zomerschaak-8/
LOCATION:Stadscafe Oasis\, Kerkplein 15\, Meppel\, 7941 BG\, Nederland
CATEGORIES:Algemeen
END:VEVENT
BEGIN:VEVENT
DTSTART;TZID=Europe/Amsterdam:20220802T200000
DTEND;TZID=Europe/Amsterdam:20220802T200000
DTSTAMP:20260423T163618
CREATED:20220520T184057Z
LAST-MODIFIED:20220520T190210Z
UID:15448-1659470400-1659470400@meppelerschaakvereniging.nl
SUMMARY:Zomerschaak 7
DESCRIPTION:Rapidtoernooi bij Stadscafe Oasis. \nMeestal 5 ronden per avond. \nKom gerust langs als je zin hebt in een potje schaken.
URL:https://meppelerschaakvereniging.nl/agenda/zomerschaak-7/
LOCATION:Stadscafe Oasis\, Kerkplein 15\, Meppel\, 7941 BG\, Nederland
CATEGORIES:Algemeen
END:VEVENT
BEGIN:VEVENT
DTSTART;TZID=Europe/Amsterdam:20220726T200000
DTEND;TZID=Europe/Amsterdam:20220726T200000
DTSTAMP:20260423T163618
CREATED:20220520T184015Z
LAST-MODIFIED:20220520T190222Z
UID:15446-1658865600-1658865600@meppelerschaakvereniging.nl
SUMMARY:Zomerschaak 6
DESCRIPTION:Rapidtoernooi bij Stadscafe Oasis. \nMeestal 5 ronden per avond. \nKom gerust langs als je zin hebt in een potje schaken.
URL:https://meppelerschaakvereniging.nl/agenda/zomerschaak-6/
LOCATION:Stadscafe Oasis\, Kerkplein 15\, Meppel\, 7941 BG\, Nederland
CATEGORIES:Algemeen
END:VEVENT
BEGIN:VEVENT
DTSTART;TZID=Europe/Amsterdam:20220719T200000
DTEND;TZID=Europe/Amsterdam:20220719T200000
DTSTAMP:20260423T163618
CREATED:20220520T183905Z
LAST-MODIFIED:20220520T190157Z
UID:15444-1658260800-1658260800@meppelerschaakvereniging.nl
SUMMARY:Zomerschaak 5
DESCRIPTION:Rapidtoernooi bij Stadscafe Oasis. \nMeestal 5 ronden per avond. \nKom gerust langs als je zin hebt in een potje schaken.
URL:https://meppelerschaakvereniging.nl/agenda/zomerschaak-5/
LOCATION:Stadscafe Oasis\, Kerkplein 15\, Meppel\, 7941 BG\, Nederland
CATEGORIES:Algemeen
END:VEVENT
BEGIN:VEVENT
DTSTART;TZID=Europe/Amsterdam:20220712T200000
DTEND;TZID=Europe/Amsterdam:20220712T200000
DTSTAMP:20260423T163618
CREATED:20220520T183826Z
LAST-MODIFIED:20220520T190140Z
UID:15442-1657656000-1657656000@meppelerschaakvereniging.nl
SUMMARY:Zomerschaak 4
DESCRIPTION:Rapidtoernooi bij Stadscafe Oasis. \nMeestal 5 ronden per avond. \nKom gerust langs als je zin hebt in een potje schaken.
URL:https://meppelerschaakvereniging.nl/agenda/zomerschaak-4/
LOCATION:Stadscafe Oasis\, Kerkplein 15\, Meppel\, 7941 BG\, Nederland
CATEGORIES:Algemeen
END:VEVENT
BEGIN:VEVENT
DTSTART;TZID=Europe/Amsterdam:20220705T200000
DTEND;TZID=Europe/Amsterdam:20220705T200000
DTSTAMP:20260423T163618
CREATED:20220520T183525Z
LAST-MODIFIED:20220520T190129Z
UID:15436-1657051200-1657051200@meppelerschaakvereniging.nl
SUMMARY:Zomerschaak 3
DESCRIPTION:Rapidtoernooi bij Stadscafe Oasis. \nMeestal 5 ronden per avond. \nKom gerust langs als je zin hebt in een potje schaken.
URL:https://meppelerschaakvereniging.nl/agenda/zomerschaak-3/
LOCATION:Stadscafe Oasis\, Kerkplein 15\, Meppel\, 7941 BG\, Nederland
CATEGORIES:Algemeen
END:VEVENT
BEGIN:VEVENT
DTSTART;TZID=Europe/Amsterdam:20220628T200000
DTEND;TZID=Europe/Amsterdam:20220628T200000
DTSTAMP:20260423T163618
CREATED:20220520T183452Z
LAST-MODIFIED:20220520T190112Z
UID:15434-1656446400-1656446400@meppelerschaakvereniging.nl
SUMMARY:Zomerschaak 2
DESCRIPTION:Rapidtoernooi bij Stadscafe Oasis. \nMeestal 5 ronden per avond. \nKom gerust langs als je zin hebt in een potje schaken.
URL:https://meppelerschaakvereniging.nl/agenda/zomerschaak-2/
LOCATION:Stadscafe Oasis\, Kerkplein 15\, Meppel\, 7941 BG\, Nederland
CATEGORIES:Algemeen
END:VEVENT
BEGIN:VEVENT
DTSTART;TZID=Europe/Amsterdam:20220621T200000
DTEND;TZID=Europe/Amsterdam:20220621T200000
DTSTAMP:20260423T163618
CREATED:20220520T183041Z
LAST-MODIFIED:20220520T185928Z
UID:15432-1655841600-1655841600@meppelerschaakvereniging.nl
SUMMARY:Zomerschaak 1
DESCRIPTION:Rapidtoernooi bij Stadscafe Oasis. \nMeestal 5 ronden per avond. \nKom gerust langs als je zin hebt in een potje schaken.
URL:https://meppelerschaakvereniging.nl/agenda/zomerschaak-1/
LOCATION:Stadscafe Oasis\, Kerkplein 15\, Meppel\, 7941 BG\, Nederland
CATEGORIES:Algemeen
END:VEVENT
BEGIN:VEVENT
DTSTART;TZID=Europe/Amsterdam:20220614T194500
DTEND;TZID=Europe/Amsterdam:20220614T194500
DTSTAMP:20260423T163618
CREATED:20220520T172716Z
LAST-MODIFIED:20220520T172716Z
UID:15427-1655235900-1655235900@meppelerschaakvereniging.nl
SUMMARY:Rapidtoernooi Steenwijk
DESCRIPTION:Ronde 9 t/m 12  van rapidtoernooi bij onze buren uit Steenwijk
URL:https://meppelerschaakvereniging.nl/agenda/rapidtoernooi-steenwijk/
CATEGORIES:Senioren extern
END:VEVENT
BEGIN:VEVENT
DTSTART;TZID=Europe/Amsterdam:20220611T130000
DTEND;TZID=Europe/Amsterdam:20220611T130000
DTSTAMP:20260423T163618
CREATED:20210927T164135Z
LAST-MODIFIED:20220322T185250Z
UID:15126-1654952400-1654952400@meppelerschaakvereniging.nl
SUMMARY:MSV 1 - SISSA 1
DESCRIPTION:
URL:https://meppelerschaakvereniging.nl/agenda/msv-1-sissa-1/
LOCATION:Eetcafé De Beurs\, Grote Kerkstraat 3\, Meppel\, 7941 LA\, Nederland
CATEGORIES:Senioren extern
END:VEVENT
BEGIN:VEVENT
DTSTART;TZID=Europe/Amsterdam:20220607T200000
DTEND;TZID=Europe/Amsterdam:20220607T200000
DTSTAMP:20260423T163618
CREATED:20220322T185428Z
LAST-MODIFIED:20220322T185428Z
UID:15385-1654632000-1654632000@meppelerschaakvereniging.nl
SUMMARY:Rapidschaken 3
DESCRIPTION:
URL:https://meppelerschaakvereniging.nl/agenda/rapidschaken-3/
CATEGORIES:Senioren intern
END:VEVENT
BEGIN:VEVENT
DTSTART;TZID=Europe/Amsterdam:20220531T200000
DTEND;TZID=Europe/Amsterdam:20220531T200000
DTSTAMP:20260423T163618
CREATED:20220309T185217Z
LAST-MODIFIED:20220309T185633Z
UID:15374-1654027200-1654027200@meppelerschaakvereniging.nl
SUMMARY:Intern 3-9
DESCRIPTION:
URL:https://meppelerschaakvereniging.nl/agenda/intern-3-9/
CATEGORIES:Senioren intern
END:VEVENT
BEGIN:VEVENT
DTSTART;TZID=Europe/Amsterdam:20220524T200000
DTEND;TZID=Europe/Amsterdam:20220524T200000
DTSTAMP:20260423T163618
CREATED:20220309T185149Z
LAST-MODIFIED:20220309T185612Z
UID:15372-1653422400-1653422400@meppelerschaakvereniging.nl
SUMMARY:Intern 3-8
DESCRIPTION:
URL:https://meppelerschaakvereniging.nl/agenda/intern-3-8/
CATEGORIES:Senioren intern
END:VEVENT
BEGIN:VEVENT
DTSTART;TZID=Europe/Amsterdam:20220521T130000
DTEND;TZID=Europe/Amsterdam:20220521T130000
DTSTAMP:20260423T163618
CREATED:20210927T164224Z
LAST-MODIFIED:20211221T154530Z
UID:15128-1653138000-1653138000@meppelerschaakvereniging.nl
SUMMARY:ASV 1 - MSV 1
DESCRIPTION:
URL:https://meppelerschaakvereniging.nl/agenda/asv-1-msv-1-2/
CATEGORIES:Senioren extern
END:VEVENT
BEGIN:VEVENT
DTSTART;TZID=Europe/Amsterdam:20220517T200000
DTEND;TZID=Europe/Amsterdam:20220517T200000
DTSTAMP:20260423T163618
CREATED:20220309T185128Z
LAST-MODIFIED:20220309T185557Z
UID:15370-1652817600-1652817600@meppelerschaakvereniging.nl
SUMMARY:Intern 3-7
DESCRIPTION:
URL:https://meppelerschaakvereniging.nl/agenda/intern-3-7-2/
CATEGORIES:Senioren intern
END:VEVENT
BEGIN:VEVENT
DTSTART;TZID=Europe/Amsterdam:20220510T200000
DTEND;TZID=Europe/Amsterdam:20220510T200000
DTSTAMP:20260423T163618
CREATED:20220309T185103Z
LAST-MODIFIED:20220309T185539Z
UID:15368-1652212800-1652212800@meppelerschaakvereniging.nl
SUMMARY:Intern 3-6
DESCRIPTION:
URL:https://meppelerschaakvereniging.nl/agenda/intern-3-6-3/
CATEGORIES:Senioren intern
END:VEVENT
BEGIN:VEVENT
DTSTART;TZID=Europe/Amsterdam:20220503T200000
DTEND;TZID=Europe/Amsterdam:20220503T200000
DTSTAMP:20260423T163618
CREATED:20220309T185038Z
LAST-MODIFIED:20220309T185525Z
UID:15366-1651608000-1651608000@meppelerschaakvereniging.nl
SUMMARY:Intern 3-5
DESCRIPTION:
URL:https://meppelerschaakvereniging.nl/agenda/intern-3-5-3/
CATEGORIES:Senioren intern
END:VEVENT
BEGIN:VEVENT
DTSTART;TZID=Europe/Amsterdam:20220428T200000
DTEND;TZID=Europe/Amsterdam:20220428T200000
DTSTAMP:20260423T163618
CREATED:20210927T170938Z
LAST-MODIFIED:20220331T161346Z
UID:15142-1651176000-1651176000@meppelerschaakvereniging.nl
SUMMARY:ZZS! 2 - MSV 1
DESCRIPTION:
URL:https://meppelerschaakvereniging.nl/agenda/zzs-2-msv-1/
CATEGORIES:Senioren extern
END:VEVENT
BEGIN:VEVENT
DTSTART;TZID=Europe/Amsterdam:20220426T200000
DTEND;TZID=Europe/Amsterdam:20220426T200000
DTSTAMP:20260423T163618
CREATED:20220309T185012Z
LAST-MODIFIED:20220309T185507Z
UID:15364-1651003200-1651003200@meppelerschaakvereniging.nl
SUMMARY:Intern 3-4
DESCRIPTION:
URL:https://meppelerschaakvereniging.nl/agenda/intern-3-4-3/
CATEGORIES:Senioren intern
END:VEVENT
BEGIN:VEVENT
DTSTART;TZID=Europe/Amsterdam:20220423T130000
DTEND;TZID=Europe/Amsterdam:20220423T130000
DTSTAMP:20260423T163618
CREATED:20210927T164527Z
LAST-MODIFIED:20211006T100537Z
UID:15136-1650718800-1650718800@meppelerschaakvereniging.nl
SUMMARY:MSV 1 - AMEVO Apeldoorn 2
DESCRIPTION:
URL:https://meppelerschaakvereniging.nl/agenda/msv-1-amevo-apeldoorn-2/
LOCATION:Eetcafé De Beurs\, Grote Kerkstraat 3\, Meppel\, 7941 LA\, Nederland
CATEGORIES:Senioren extern
END:VEVENT
BEGIN:VEVENT
DTSTART;TZID=Europe/Amsterdam:20220419T200000
DTEND;TZID=Europe/Amsterdam:20220419T200000
DTSTAMP:20260423T163618
CREATED:20220309T184949Z
LAST-MODIFIED:20220309T185446Z
UID:15362-1650398400-1650398400@meppelerschaakvereniging.nl
SUMMARY:Intern 3-3
DESCRIPTION:
URL:https://meppelerschaakvereniging.nl/agenda/intern-3-3-3/
CATEGORIES:Senioren intern
END:VEVENT
BEGIN:VEVENT
DTSTART;TZID=Europe/Amsterdam:20220412T200000
DTEND;TZID=Europe/Amsterdam:20220412T200000
DTSTAMP:20260423T163618
CREATED:20220309T184921Z
LAST-MODIFIED:20220309T185432Z
UID:15360-1649793600-1649793600@meppelerschaakvereniging.nl
SUMMARY:Intern 3-2
DESCRIPTION:
URL:https://meppelerschaakvereniging.nl/agenda/intern-3-2-3/
CATEGORIES:Senioren intern
END:VEVENT
BEGIN:VEVENT
DTSTART;TZID=Europe/Amsterdam:20220408T200000
DTEND;TZID=Europe/Amsterdam:20220408T200000
DTSTAMP:20260423T163618
CREATED:20210927T171158Z
LAST-MODIFIED:20220316T175350Z
UID:15148-1649448000-1649448000@meppelerschaakvereniging.nl
SUMMARY:DeZ 1 - MSV 1
DESCRIPTION:
URL:https://meppelerschaakvereniging.nl/agenda/dez-1-msv-1/
CATEGORIES:Senioren extern
END:VEVENT
BEGIN:VEVENT
DTSTART;TZID=Europe/Amsterdam:20220405T200000
DTEND;TZID=Europe/Amsterdam:20220405T200000
DTSTAMP:20260423T163618
CREATED:20211105T115742Z
LAST-MODIFIED:20220316T175534Z
UID:15218-1649188800-1649188800@meppelerschaakvereniging.nl
SUMMARY:Rapidschaak 2
DESCRIPTION:
URL:https://meppelerschaakvereniging.nl/agenda/rapidschaak-2-2/
CATEGORIES:Senioren intern
END:VEVENT
BEGIN:VEVENT
DTSTART;TZID=Europe/Amsterdam:20220402T130000
DTEND;TZID=Europe/Amsterdam:20220402T130000
DTSTAMP:20260423T163618
CREATED:20210927T164443Z
LAST-MODIFIED:20211006T100602Z
UID:15134-1648904400-1648904400@meppelerschaakvereniging.nl
SUMMARY:MSV 1 - LOS 1
DESCRIPTION:
URL:https://meppelerschaakvereniging.nl/agenda/msv-1-los-1/
LOCATION:Eetcafé De Beurs\, Grote Kerkstraat 3\, Meppel\, 7941 LA\, Nederland
CATEGORIES:Senioren extern
END:VEVENT
END:VCALENDAR