BEGIN:VCALENDAR
VERSION:2.0
PRODID:-//Meppeler Schaakvereniging - ECPv6.15.20//NONSGML v1.0//EN
CALSCALE:GREGORIAN
METHOD:PUBLISH
X-WR-CALNAME:Meppeler Schaakvereniging
X-ORIGINAL-URL:https://meppelerschaakvereniging.nl
X-WR-CALDESC:Evenementen voor Meppeler Schaakvereniging
REFRESH-INTERVAL;VALUE=DURATION:PT1H
X-Robots-Tag:noindex
X-PUBLISHED-TTL:PT1H
BEGIN:VTIMEZONE
TZID:Europe/Amsterdam
BEGIN:DAYLIGHT
TZOFFSETFROM:+0100
TZOFFSETTO:+0200
TZNAME:CEST
DTSTART:20200329T010000
END:DAYLIGHT
BEGIN:STANDARD
TZOFFSETFROM:+0200
TZOFFSETTO:+0100
TZNAME:CET
DTSTART:20201025T010000
END:STANDARD
BEGIN:DAYLIGHT
TZOFFSETFROM:+0100
TZOFFSETTO:+0200
TZNAME:CEST
DTSTART:20210328T010000
END:DAYLIGHT
BEGIN:STANDARD
TZOFFSETFROM:+0200
TZOFFSETTO:+0100
TZNAME:CET
DTSTART:20211031T010000
END:STANDARD
BEGIN:DAYLIGHT
TZOFFSETFROM:+0100
TZOFFSETTO:+0200
TZNAME:CEST
DTSTART:20220327T010000
END:DAYLIGHT
BEGIN:STANDARD
TZOFFSETFROM:+0200
TZOFFSETTO:+0100
TZNAME:CET
DTSTART:20221030T010000
END:STANDARD
BEGIN:DAYLIGHT
TZOFFSETFROM:+0100
TZOFFSETTO:+0200
TZNAME:CEST
DTSTART:20230326T010000
END:DAYLIGHT
BEGIN:STANDARD
TZOFFSETFROM:+0200
TZOFFSETTO:+0100
TZNAME:CET
DTSTART:20231029T010000
END:STANDARD
END:VTIMEZONE
BEGIN:VEVENT
DTSTART;TZID=Europe/Amsterdam:20220315T200000
DTEND;TZID=Europe/Amsterdam:20220315T200000
DTSTAMP:20260423T193748
CREATED:20211105T115643Z
LAST-MODIFIED:20220218T172822Z
UID:15214-1647374400-1647374400@meppelerschaakvereniging.nl
SUMMARY:Intern 2-8
DESCRIPTION:
URL:https://meppelerschaakvereniging.nl/agenda/intern-2-8/
CATEGORIES:Senioren intern
END:VEVENT
BEGIN:VEVENT
DTSTART;TZID=Europe/Amsterdam:20220315T200000
DTEND;TZID=Europe/Amsterdam:20220315T200000
DTSTAMP:20260423T193748
CREATED:20210927T171109Z
LAST-MODIFIED:20210927T171109Z
UID:15146-1647374400-1647374400@meppelerschaakvereniging.nl
SUMMARY:SV Het Zwartewater 1 - MSV 1
DESCRIPTION:
URL:https://meppelerschaakvereniging.nl/agenda/sv-het-zwartewater-1-msv-1/
CATEGORIES:Senioren extern
END:VEVENT
BEGIN:VEVENT
DTSTART;TZID=Europe/Amsterdam:20220312T130000
DTEND;TZID=Europe/Amsterdam:20220312T130000
DTSTAMP:20260423T193748
CREATED:20210927T164356Z
LAST-MODIFIED:20210927T164356Z
UID:15132-1647090000-1647090000@meppelerschaakvereniging.nl
SUMMARY:Emanuel Lasker 1- MSV 1
DESCRIPTION:
URL:https://meppelerschaakvereniging.nl/agenda/emanuel-lasker-1-msv-1/
CATEGORIES:Senioren extern
END:VEVENT
BEGIN:VEVENT
DTSTART;TZID=Europe/Amsterdam:20220308T200000
DTEND;TZID=Europe/Amsterdam:20220308T200000
DTSTAMP:20260423T193748
CREATED:20211105T115622Z
LAST-MODIFIED:20220218T172805Z
UID:15212-1646769600-1646769600@meppelerschaakvereniging.nl
SUMMARY:Intern 2-7
DESCRIPTION:
URL:https://meppelerschaakvereniging.nl/agenda/intern-2-7-2/
CATEGORIES:Senioren intern
END:VEVENT
BEGIN:VEVENT
DTSTART;TZID=Europe/Amsterdam:20220301T200000
DTEND;TZID=Europe/Amsterdam:20220301T200000
DTSTAMP:20260423T193748
CREATED:20211105T115556Z
LAST-MODIFIED:20220216T203650Z
UID:15210-1646164800-1646164800@meppelerschaakvereniging.nl
SUMMARY:Intern 2-6
DESCRIPTION:
URL:https://meppelerschaakvereniging.nl/agenda/intern-2-6-3/
CATEGORIES:Senioren intern
END:VEVENT
BEGIN:VEVENT
DTSTART;TZID=Europe/Amsterdam:20220222T200000
DTEND;TZID=Europe/Amsterdam:20220222T200000
DTSTAMP:20260423T193748
CREATED:20211105T115415Z
LAST-MODIFIED:20220130T143434Z
UID:15206-1645560000-1645560000@meppelerschaakvereniging.nl
SUMMARY:Intern 2-5
DESCRIPTION:
URL:https://meppelerschaakvereniging.nl/agenda/intern-2-5-3/
CATEGORIES:Senioren intern
END:VEVENT
BEGIN:VEVENT
DTSTART;TZID=Europe/Amsterdam:20220215T200000
DTEND;TZID=Europe/Amsterdam:20220215T200000
DTSTAMP:20260423T193748
CREATED:20211105T115350Z
LAST-MODIFIED:20220130T143411Z
UID:15204-1644955200-1644955200@meppelerschaakvereniging.nl
SUMMARY:Intern 2-4
DESCRIPTION:
URL:https://meppelerschaakvereniging.nl/agenda/intern-2-4-3/
CATEGORIES:Senioren intern
END:VEVENT
BEGIN:VEVENT
DTSTART;TZID=Europe/Amsterdam:20220208T200000
DTEND;TZID=Europe/Amsterdam:20220208T200000
DTSTAMP:20260423T193748
CREATED:20211105T115326Z
LAST-MODIFIED:20220130T143354Z
UID:15202-1644350400-1644350400@meppelerschaakvereniging.nl
SUMMARY:Intern 2-3
DESCRIPTION:
URL:https://meppelerschaakvereniging.nl/agenda/intern-2-3-3/
CATEGORIES:Senioren intern
END:VEVENT
BEGIN:VEVENT
DTSTART;TZID=Europe/Amsterdam:20220208T200000
DTEND;TZID=Europe/Amsterdam:20220208T200000
DTSTAMP:20260423T193748
CREATED:20210927T171022Z
LAST-MODIFIED:20210927T171022Z
UID:15144-1644350400-1644350400@meppelerschaakvereniging.nl
SUMMARY:MSV 1 - O&O 2
DESCRIPTION:
URL:https://meppelerschaakvereniging.nl/agenda/msv-1-oo-2/
CATEGORIES:Senioren extern
END:VEVENT
BEGIN:VEVENT
DTSTART;TZID=Europe/Amsterdam:20220205T130000
DTEND;TZID=Europe/Amsterdam:20220205T130000
DTSTAMP:20260423T193748
CREATED:20210927T164306Z
LAST-MODIFIED:20211006T100630Z
UID:15130-1644066000-1644066000@meppelerschaakvereniging.nl
SUMMARY:MSV 1 - Assen 1
DESCRIPTION:
URL:https://meppelerschaakvereniging.nl/agenda/msv-1-assen-1-2/
LOCATION:Eetcafé De Beurs\, Grote Kerkstraat 3\, Meppel\, 7941 LA\, Nederland
CATEGORIES:Senioren extern
END:VEVENT
BEGIN:VEVENT
DTSTART;TZID=Europe/Amsterdam:20220201T200000
DTEND;TZID=Europe/Amsterdam:20220201T200000
DTSTAMP:20260423T193748
CREATED:20211105T115148Z
LAST-MODIFIED:20220130T143338Z
UID:15200-1643745600-1643745600@meppelerschaakvereniging.nl
SUMMARY:Intern 2-2
DESCRIPTION:
URL:https://meppelerschaakvereniging.nl/agenda/intern-2-2-3/
CATEGORIES:Senioren intern
END:VEVENT
BEGIN:VEVENT
DTSTART;TZID=Europe/Amsterdam:20220125T200000
DTEND;TZID=Europe/Amsterdam:20220125T200000
DTSTAMP:20260423T193748
CREATED:20220115T142509Z
LAST-MODIFIED:20220115T142509Z
UID:15331-1643140800-1643140800@meppelerschaakvereniging.nl
SUMMARY:Internet Rapid schaken 67
DESCRIPTION:Samen met schakers uit Steenwijk rapid toernooitje op https://lichess.org/team/meppel-steenwijk\nTempo: 10 min + 5 sec per zet.
URL:https://meppelerschaakvereniging.nl/agenda/internet-rapid-schaken-67/
CATEGORIES:Internet
END:VEVENT
BEGIN:VEVENT
DTSTART;TZID=Europe/Amsterdam:20220118T200000
DTEND;TZID=Europe/Amsterdam:20220118T200000
DTSTAMP:20260423T193748
CREATED:20220115T142437Z
LAST-MODIFIED:20220115T142532Z
UID:15329-1642536000-1642536000@meppelerschaakvereniging.nl
SUMMARY:Internet Rapid schaken 66
DESCRIPTION:Samen met schakers uit Steenwijk rapid toernooitje op https://lichess.org/team/meppel-steenwijk\nTempo: 10 min + 5 sec per zet.
URL:https://meppelerschaakvereniging.nl/agenda/internet-rapid-schaken-66/
CATEGORIES:Internet
END:VEVENT
BEGIN:VEVENT
DTSTART;TZID=Europe/Amsterdam:20220111T200000
DTEND;TZID=Europe/Amsterdam:20220111T200000
DTSTAMP:20260423T193748
CREATED:20211215T141717Z
LAST-MODIFIED:20211215T141817Z
UID:15258-1641931200-1641931200@meppelerschaakvereniging.nl
SUMMARY:Internet Rapid schaken 65
DESCRIPTION:Samen met schakers uit Steenwijk rapid toernooitje op https://lichess.org/team/meppel-steenwijk\nTempo: 10 min + 5 sec per zet.
URL:https://meppelerschaakvereniging.nl/agenda/internet-rapid-schaken/
CATEGORIES:Internet
END:VEVENT
BEGIN:VEVENT
DTSTART;TZID=Europe/Amsterdam:20220104T200000
DTEND;TZID=Europe/Amsterdam:20220104T200000
DTSTAMP:20260423T193748
CREATED:20211215T141650Z
LAST-MODIFIED:20211215T141650Z
UID:15256-1641326400-1641326400@meppelerschaakvereniging.nl
SUMMARY:Internet Rapid schaken 64
DESCRIPTION:Samen met schakers uit Steenwijk rapid toernooitje op https://lichess.org/team/meppel-steenwijk\nTempo: 10 min + 5 sec per zet.
URL:https://meppelerschaakvereniging.nl/agenda/internet-rapid-schaken-64/
CATEGORIES:Internet
END:VEVENT
BEGIN:VEVENT
DTSTART;TZID=Europe/Amsterdam:20211228T200000
DTEND;TZID=Europe/Amsterdam:20211228T200000
DTSTAMP:20260423T193748
CREATED:20211215T141618Z
LAST-MODIFIED:20211215T141618Z
UID:15254-1640721600-1640721600@meppelerschaakvereniging.nl
SUMMARY:Internet Rapid schaken 63
DESCRIPTION:Samen met schakers uit Steenwijk rapid toernooitje op https://lichess.org/team/meppel-steenwijk\nTempo: 10 min + 5 sec per zet.
URL:https://meppelerschaakvereniging.nl/agenda/internet-rapid-schaken-63/
CATEGORIES:Internet
END:VEVENT
BEGIN:VEVENT
DTSTART;TZID=Europe/Amsterdam:20211221T200000
DTEND;TZID=Europe/Amsterdam:20211221T200000
DTSTAMP:20260423T193748
CREATED:20211128T095839Z
LAST-MODIFIED:20211128T095915Z
UID:15247-1640116800-1640116800@meppelerschaakvereniging.nl
SUMMARY:Internet Rapid schaken 62
DESCRIPTION:Samen met schakers uit Steenwijk rapid toernooitje op https://lichess.org/team/meppel-steenwijk\nTempo: 10 min + 5 sec per zet.
URL:https://meppelerschaakvereniging.nl/agenda/internet-rapid-schaken-62/
CATEGORIES:Internet
END:VEVENT
BEGIN:VEVENT
DTSTART;TZID=Europe/Amsterdam:20211214T200000
DTEND;TZID=Europe/Amsterdam:20211214T200000
DTSTAMP:20260423T193748
CREATED:20211127T123013Z
LAST-MODIFIED:20211127T123013Z
UID:15244-1639512000-1639512000@meppelerschaakvereniging.nl
SUMMARY:Internet Rapid schaken 61
DESCRIPTION:Samen met schakers uit Steenwijk rapid toernooitje op https://lichess.org/team/meppel-steenwijk\nTempo: 10 min + 5 sec per zet.
URL:https://meppelerschaakvereniging.nl/agenda/internet-rapid-schaken-61/
CATEGORIES:Internet
END:VEVENT
BEGIN:VEVENT
DTSTART;TZID=Europe/Amsterdam:20211207T200000
DTEND;TZID=Europe/Amsterdam:20211207T200000
DTSTAMP:20260423T193748
CREATED:20211127T122932Z
LAST-MODIFIED:20211127T123105Z
UID:15242-1638907200-1638907200@meppelerschaakvereniging.nl
SUMMARY:Internet Rapid schaken 60
DESCRIPTION:Samen met schakers uit Steenwijk rapid toernooitje op https://lichess.org/team/meppel-steenwijk\nTempo: 10 min + 5 sec per zet.
URL:https://meppelerschaakvereniging.nl/agenda/internet-rapid-schaken-60/
CATEGORIES:Internet
END:VEVENT
BEGIN:VEVENT
DTSTART;TZID=Europe/Amsterdam:20211130T200000
DTEND;TZID=Europe/Amsterdam:20211130T200000
DTSTAMP:20260423T193748
CREATED:20211127T122854Z
LAST-MODIFIED:20211127T122854Z
UID:15240-1638302400-1638302400@meppelerschaakvereniging.nl
SUMMARY:Internet Rapid schaken 59
DESCRIPTION:Samen met schakers uit Steenwijk rapid toernooitje op https://lichess.org/team/meppel-steenwijk\nTempo: 10 min + 5 sec per zet.
URL:https://meppelerschaakvereniging.nl/agenda/internet-rapid-schaken-59/
CATEGORIES:Internet
END:VEVENT
BEGIN:VEVENT
DTSTART;TZID=Europe/Amsterdam:20211123T200000
DTEND;TZID=Europe/Amsterdam:20211123T200000
DTSTAMP:20260423T193748
CREATED:20211105T115123Z
LAST-MODIFIED:20211105T115123Z
UID:15198-1637697600-1637697600@meppelerschaakvereniging.nl
SUMMARY:Intern 2-1
DESCRIPTION:
URL:https://meppelerschaakvereniging.nl/agenda/intern-2-1-3/
CATEGORIES:Senioren intern
END:VEVENT
BEGIN:VEVENT
DTSTART;TZID=Europe/Amsterdam:20211122T200000
DTEND;TZID=Europe/Amsterdam:20211122T200000
DTSTAMP:20260423T193748
CREATED:20211117T113744Z
LAST-MODIFIED:20211117T113744Z
UID:15234-1637611200-1637611200@meppelerschaakvereniging.nl
SUMMARY:Internet Rapid schaken 58
DESCRIPTION:Samen met schakers uit Steenwijk rapid toernooitje op https://lichess.org/team/meppel-steenwijk\nTempo: 10 min + 5 sec per zet.
URL:https://meppelerschaakvereniging.nl/agenda/internet-rapid-schaken-58/
CATEGORIES:Internet
END:VEVENT
BEGIN:VEVENT
DTSTART;TZID=Europe/Amsterdam:20211116T200000
DTEND;TZID=Europe/Amsterdam:20211116T200000
DTSTAMP:20260423T193748
CREATED:20211105T115036Z
LAST-MODIFIED:20211105T115036Z
UID:15196-1637092800-1637092800@meppelerschaakvereniging.nl
SUMMARY:Rapidschaak 1
DESCRIPTION:
URL:https://meppelerschaakvereniging.nl/agenda/rapidschaak-1-2/
CATEGORIES:Senioren intern
END:VEVENT
BEGIN:VEVENT
DTSTART;TZID=Europe/Amsterdam:20211115T200000
DTEND;TZID=Europe/Amsterdam:20211115T200000
DTSTAMP:20260423T193748
CREATED:20211112T094840Z
LAST-MODIFIED:20211112T094840Z
UID:15228-1637006400-1637006400@meppelerschaakvereniging.nl
SUMMARY:Internet Rapid schaken 57
DESCRIPTION:Samen met schakers uit Steenwijk rapid toernooitje op https://lichess.org/team/meppel-steenwijk\nTempo: 10 min + 5 sec per zet.
URL:https://meppelerschaakvereniging.nl/agenda/internet-rapid-schaken-57/
CATEGORIES:Internet
END:VEVENT
BEGIN:VEVENT
DTSTART;TZID=Europe/Amsterdam:20211111T200000
DTEND;TZID=Europe/Amsterdam:20211111T200000
DTSTAMP:20260423T193748
CREATED:20210927T170709Z
LAST-MODIFIED:20210927T170709Z
UID:15138-1636660800-1636660800@meppelerschaakvereniging.nl
SUMMARY:DSG Pallas 2 - MSV 1
DESCRIPTION:
URL:https://meppelerschaakvereniging.nl/agenda/dsg-pallas-2-msv-1/
CATEGORIES:Senioren extern
END:VEVENT
BEGIN:VEVENT
DTSTART;TZID=Europe/Amsterdam:20211109T200000
DTEND;TZID=Europe/Amsterdam:20211109T200000
DTSTAMP:20260423T193748
CREATED:20211006T121909Z
LAST-MODIFIED:20211026T211410Z
UID:15177-1636488000-1636488000@meppelerschaakvereniging.nl
SUMMARY:Intern 1-7
DESCRIPTION:
URL:https://meppelerschaakvereniging.nl/agenda/intern-1-7-2/
CATEGORIES:Senioren intern
END:VEVENT
BEGIN:VEVENT
DTSTART;TZID=Europe/Amsterdam:20211108T200000
DTEND;TZID=Europe/Amsterdam:20211108T200000
DTSTAMP:20260423T193748
CREATED:20211105T165458Z
LAST-MODIFIED:20211105T165458Z
UID:15220-1636401600-1636401600@meppelerschaakvereniging.nl
SUMMARY:Internet Rapid schaken 56
DESCRIPTION:Samen met schakers uit Steenwijk rapid toernooitje op https://lichess.org/team/meppel-steenwijk\nTempo: 10 min + 5 sec per zet.
URL:https://meppelerschaakvereniging.nl/agenda/internet-rapid-schaken-56/
CATEGORIES:Internet
END:VEVENT
BEGIN:VEVENT
DTSTART;TZID=Europe/Amsterdam:20211106T130000
DTEND;TZID=Europe/Amsterdam:20211106T130000
DTSTAMP:20260423T193748
CREATED:20210927T164043Z
LAST-MODIFIED:20210927T164049Z
UID:15124-1636203600-1636203600@meppelerschaakvereniging.nl
SUMMARY:Sneek 1 - MSV 1
DESCRIPTION:
URL:https://meppelerschaakvereniging.nl/agenda/sneek-1-msv-1-2/
CATEGORIES:Senioren extern
END:VEVENT
BEGIN:VEVENT
DTSTART;TZID=Europe/Amsterdam:20211102T200000
DTEND;TZID=Europe/Amsterdam:20211102T200000
DTSTAMP:20260423T193748
CREATED:20211026T211640Z
LAST-MODIFIED:20211026T211640Z
UID:15187-1635883200-1635883200@meppelerschaakvereniging.nl
SUMMARY:Algemene Leden Vergadering
DESCRIPTION:Jaarlijkse ALV. Stukken ontvangt men per e-mail.
URL:https://meppelerschaakvereniging.nl/agenda/algemene-leden-vergadering/
END:VEVENT
BEGIN:VEVENT
DTSTART;TZID=Europe/Amsterdam:20211101T200000
DTEND;TZID=Europe/Amsterdam:20211101T200000
DTSTAMP:20260423T193748
CREATED:20211006T122007Z
LAST-MODIFIED:20211006T122007Z
UID:15179-1635796800-1635796800@meppelerschaakvereniging.nl
SUMMARY:Internet rapid schaken 55
DESCRIPTION:Samen met schakers uit Steenwijk rapid toernooitje op https://lichess.org/team/meppel-steenwijk\nTempo: 10 min + 5 sec per zet.
URL:https://meppelerschaakvereniging.nl/agenda/internet-rapid-schaken-55/
CATEGORIES:Internet
END:VEVENT
END:VCALENDAR