BEGIN:VCALENDAR
VERSION:2.0
PRODID:-//Meppeler Schaakvereniging - ECPv6.15.20//NONSGML v1.0//EN
CALSCALE:GREGORIAN
METHOD:PUBLISH
X-WR-CALNAME:Meppeler Schaakvereniging
X-ORIGINAL-URL:https://meppelerschaakvereniging.nl
X-WR-CALDESC:Evenementen voor Meppeler Schaakvereniging
REFRESH-INTERVAL;VALUE=DURATION:PT1H
X-Robots-Tag:noindex
X-PUBLISHED-TTL:PT1H
BEGIN:VTIMEZONE
TZID:Europe/Amsterdam
BEGIN:DAYLIGHT
TZOFFSETFROM:+0100
TZOFFSETTO:+0200
TZNAME:CEST
DTSTART:20190331T010000
END:DAYLIGHT
BEGIN:STANDARD
TZOFFSETFROM:+0200
TZOFFSETTO:+0100
TZNAME:CET
DTSTART:20191027T010000
END:STANDARD
BEGIN:DAYLIGHT
TZOFFSETFROM:+0100
TZOFFSETTO:+0200
TZNAME:CEST
DTSTART:20200329T010000
END:DAYLIGHT
BEGIN:STANDARD
TZOFFSETFROM:+0200
TZOFFSETTO:+0100
TZNAME:CET
DTSTART:20201025T010000
END:STANDARD
BEGIN:DAYLIGHT
TZOFFSETFROM:+0100
TZOFFSETTO:+0200
TZNAME:CEST
DTSTART:20210328T010000
END:DAYLIGHT
BEGIN:STANDARD
TZOFFSETFROM:+0200
TZOFFSETTO:+0100
TZNAME:CET
DTSTART:20211031T010000
END:STANDARD
BEGIN:DAYLIGHT
TZOFFSETFROM:+0100
TZOFFSETTO:+0200
TZNAME:CEST
DTSTART:20220327T010000
END:DAYLIGHT
BEGIN:STANDARD
TZOFFSETFROM:+0200
TZOFFSETTO:+0100
TZNAME:CET
DTSTART:20221030T010000
END:STANDARD
END:VTIMEZONE
BEGIN:VEVENT
DTSTART;TZID=Europe/Amsterdam:20210713T200000
DTEND;TZID=Europe/Amsterdam:20210713T200000
DTSTAMP:20260424T070911
CREATED:20210712T105851Z
LAST-MODIFIED:20210712T105851Z
UID:14994-1626206400-1626206400@meppelerschaakvereniging.nl
SUMMARY:Internet rapid schaken 39
DESCRIPTION:Ivm Corona virus voorlopig geen schaken bij Ankie\,  maar samen met schakers uit Steenwijk\, wel een rapid toernooitje op https://lichess.org/team/meppel-steenwijk\nTempo: 10 min + 5 sec per zet.
URL:https://meppelerschaakvereniging.nl/agenda/internet-rapid-schaken-39/
CATEGORIES:Internet
END:VEVENT
BEGIN:VEVENT
DTSTART;TZID=Europe/Amsterdam:20210706T200000
DTEND;TZID=Europe/Amsterdam:20210706T200000
DTSTAMP:20260424T070911
CREATED:20210712T105819Z
LAST-MODIFIED:20210712T105819Z
UID:14992-1625601600-1625601600@meppelerschaakvereniging.nl
SUMMARY:Internet rapid schaken 38
DESCRIPTION:Ivm Corona virus voorlopig geen schaken bij Ankie\,  maar samen met schakers uit Steenwijk\, wel een rapid toernooitje op https://lichess.org/team/meppel-steenwijk\nTempo: 10 min + 5 sec per zet.
URL:https://meppelerschaakvereniging.nl/agenda/internet-rapid-schaken-38/
CATEGORIES:Internet
END:VEVENT
BEGIN:VEVENT
DTSTART;TZID=Europe/Amsterdam:20210629T200000
DTEND;TZID=Europe/Amsterdam:20210629T200000
DTSTAMP:20260424T070911
CREATED:20210608T174940Z
LAST-MODIFIED:20210608T174940Z
UID:14976-1624996800-1624996800@meppelerschaakvereniging.nl
SUMMARY:Internet rapid schaken 37
DESCRIPTION:Ivm Corona virus voorlopig geen schaken bij Ankie\,  maar samen met schakers uit Steenwijk\, wel een rapid toernooitje op https://lichess.org/team/meppel-steenwijk\nTempo: 10 min + 5 sec per zet.
URL:https://meppelerschaakvereniging.nl/agenda/internet-rapid-schaken-37/
CATEGORIES:Internet
END:VEVENT
BEGIN:VEVENT
DTSTART;TZID=Europe/Amsterdam:20210622T200000
DTEND;TZID=Europe/Amsterdam:20210622T200000
DTSTAMP:20260424T070911
CREATED:20210608T174904Z
LAST-MODIFIED:20210608T174904Z
UID:14974-1624392000-1624392000@meppelerschaakvereniging.nl
SUMMARY:Internet rapid schaken 36
DESCRIPTION:Ivm Corona virus voorlopig geen schaken bij Ankie\,  maar samen met schakers uit Steenwijk\, wel een rapid toernooitje op https://lichess.org/team/meppel-steenwijk\nTempo: 10 min + 5 sec per zet.
URL:https://meppelerschaakvereniging.nl/agenda/internet-rapid-schaken-36/
CATEGORIES:Internet
END:VEVENT
BEGIN:VEVENT
DTSTART;TZID=Europe/Amsterdam:20210615T080000
DTEND;TZID=Europe/Amsterdam:20210615T170000
DTSTAMP:20260424T070911
CREATED:20210508T174633Z
LAST-MODIFIED:20210508T174718Z
UID:14957-1623744000-1623776400@meppelerschaakvereniging.nl
SUMMARY:Internet rapid schaken 35
DESCRIPTION:Ivm Corona virus voorlopig geen schaken bij Ankie\,  maar samen met schakers uit Steenwijk\, wel een rapid toernooitje op https://lichess.org/team/meppel-steenwijk\nTempo: 10 min + 5 sec per zet.
URL:https://meppelerschaakvereniging.nl/agenda/internet-rapid-schaken-35/
CATEGORIES:Internet
END:VEVENT
BEGIN:VEVENT
DTSTART;TZID=Europe/Amsterdam:20210608T200000
DTEND;TZID=Europe/Amsterdam:20210608T200000
DTSTAMP:20260424T070911
CREATED:20210508T174811Z
LAST-MODIFIED:20210508T174811Z
UID:14959-1623182400-1623182400@meppelerschaakvereniging.nl
SUMMARY:Internet rapid schaken 34
DESCRIPTION:Ivm Corona virus voorlopig geen schaken bij Ankie\,  maar samen met schakers uit Steenwijk\, wel een rapid toernooitje op https://lichess.org/team/meppel-steenwijk\nTempo: 10 min + 5 sec per zet.
URL:https://meppelerschaakvereniging.nl/agenda/internet-rapid-schaken-34/
CATEGORIES:Internet
END:VEVENT
BEGIN:VEVENT
DTSTART;TZID=Europe/Amsterdam:20210601T080000
DTEND;TZID=Europe/Amsterdam:20210601T170000
DTSTAMP:20260424T070911
CREATED:20210508T174601Z
LAST-MODIFIED:20210508T174601Z
UID:14955-1622534400-1622566800@meppelerschaakvereniging.nl
SUMMARY:Internet rapid schaken 33
DESCRIPTION:Ivm Corona virus voorlopig geen schaken bij Ankie\,  maar samen met schakers uit Steenwijk\, wel een rapid toernooitje op https://lichess.org/team/meppel-steenwijk\nTempo: 10 min + 5 sec per zet.
URL:https://meppelerschaakvereniging.nl/agenda/internet-rapid-schaken-33/
CATEGORIES:Internet
END:VEVENT
BEGIN:VEVENT
DTSTART;TZID=Europe/Amsterdam:20210525T200000
DTEND;TZID=Europe/Amsterdam:20210525T200000
DTSTAMP:20260424T070911
CREATED:20210508T174529Z
LAST-MODIFIED:20210508T174529Z
UID:14953-1621972800-1621972800@meppelerschaakvereniging.nl
SUMMARY:Internet rapid schaken 32
DESCRIPTION:Ivm Corona virus voorlopig geen schaken bij Ankie\,  maar samen met schakers uit Steenwijk\, wel een rapid toernooitje op https://lichess.org/team/meppel-steenwijk\nTempo: 10 min + 5 sec per zet.
URL:https://meppelerschaakvereniging.nl/agenda/internet-rapid-schaken-32/
CATEGORIES:Internet
END:VEVENT
BEGIN:VEVENT
DTSTART;TZID=Europe/Amsterdam:20210518T200000
DTEND;TZID=Europe/Amsterdam:20210518T200000
DTSTAMP:20260424T070911
CREATED:20210508T174446Z
LAST-MODIFIED:20210508T174446Z
UID:14949-1621368000-1621368000@meppelerschaakvereniging.nl
SUMMARY:Internet rapid schaken 31
DESCRIPTION:Ivm Corona virus voorlopig geen schaken bij Ankie\,  maar samen met schakers uit Steenwijk\, wel een rapid toernooitje op https://lichess.org/team/meppel-steenwijk\nTempo: 10 min + 5 sec per zet.
URL:https://meppelerschaakvereniging.nl/agenda/internet-rapid-schaken-31/
CATEGORIES:Internet
END:VEVENT
BEGIN:VEVENT
DTSTART;TZID=Europe/Amsterdam:20210511T200000
DTEND;TZID=Europe/Amsterdam:20210511T200000
DTSTAMP:20260424T070911
CREATED:20210428T120204Z
LAST-MODIFIED:20210508T174439Z
UID:14938-1620763200-1620763200@meppelerschaakvereniging.nl
SUMMARY:Internet rapid schaken 30
DESCRIPTION:Ivm Corona virus voorlopig geen schaken bij Ankie\,  maar samen met schakers uit Steenwijk\, wel een rapid toernooitje op https://lichess.org/team/meppel-steenwijk\nTempo: 10 min + 5 sec per zet.
URL:https://meppelerschaakvereniging.nl/agenda/internet-rapid-schaken-30/
CATEGORIES:Internet
END:VEVENT
BEGIN:VEVENT
DTSTART;TZID=Europe/Amsterdam:20210504T203000
DTEND;TZID=Europe/Amsterdam:20210504T203000
DTSTAMP:20260424T070911
CREATED:20210420T203640Z
LAST-MODIFIED:20210502T121335Z
UID:14933-1620160200-1620160200@meppelerschaakvereniging.nl
SUMMARY:Internet rapid schaken 29
DESCRIPTION:Ivm Corona virus voorlopig geen schaken bij Ankie\, maar wel een rapid toernooitje op https://lichess.org/team/meppel-steenwijk\nTempo: 10 min + 5 sec per zet.\nAls het goed is ook met schakers uit Steenwijk\, vandaar de nieuwe link.\nI.v.m. dodenherdenking beginnen we deze dinsdag om 20:30 uur.
URL:https://meppelerschaakvereniging.nl/agenda/internet-rapid-schaken-29/
CATEGORIES:Internet
END:VEVENT
BEGIN:VEVENT
DTSTART;TZID=Europe/Amsterdam:20210427T200000
DTEND;TZID=Europe/Amsterdam:20210427T200000
DTSTAMP:20260424T070911
CREATED:20210411T160141Z
LAST-MODIFIED:20210411T160141Z
UID:14923-1619553600-1619553600@meppelerschaakvereniging.nl
SUMMARY:Internet rapid schaken 28
DESCRIPTION:Ivm Corona virus voorlopig geen schaken bij Ankie\, maar wel een rapid toernooitje op https://lichess.org/team/meppeler-sv\nTempo: 10 min + 10 sec per zet.
URL:https://meppelerschaakvereniging.nl/agenda/internet-rapid-schaken-28/
CATEGORIES:Internet
END:VEVENT
BEGIN:VEVENT
DTSTART;TZID=Europe/Amsterdam:20210420T200000
DTEND;TZID=Europe/Amsterdam:20210420T200000
DTSTAMP:20260424T070911
CREATED:20210408T192940Z
LAST-MODIFIED:20210408T192940Z
UID:14921-1618948800-1618948800@meppelerschaakvereniging.nl
SUMMARY:Internet rapid schaken 27
DESCRIPTION:Ivm Corona virus voorlopig geen schaken bij Ankie\, maar wel een rapid toernooitje op https://lichess.org/team/meppeler-sv\nTempo: 10 min + 10 sec per zet.
URL:https://meppelerschaakvereniging.nl/agenda/internet-rapid-schaken-27/
CATEGORIES:Internet
END:VEVENT
BEGIN:VEVENT
DTSTART;TZID=Europe/Amsterdam:20210413T200000
DTEND;TZID=Europe/Amsterdam:20210413T200000
DTSTAMP:20260424T070911
CREATED:20210323T192710Z
LAST-MODIFIED:20210323T192710Z
UID:14913-1618344000-1618344000@meppelerschaakvereniging.nl
SUMMARY:Internet rapid schaken 26
DESCRIPTION:Ivm Corona virus voorlopig geen schaken bij Ankie\, maar wel een rapid toernooitje op https://lichess.org/team/meppeler-sv\nTempo: 10 min + 10 sec per zet.
URL:https://meppelerschaakvereniging.nl/agenda/internet-rapid-schaken-26/
CATEGORIES:Internet
END:VEVENT
BEGIN:VEVENT
DTSTART;TZID=Europe/Amsterdam:20210406T200000
DTEND;TZID=Europe/Amsterdam:20210406T200000
DTSTAMP:20260424T070911
CREATED:20210323T192618Z
LAST-MODIFIED:20210323T192618Z
UID:14911-1617739200-1617739200@meppelerschaakvereniging.nl
SUMMARY:Internet rapid schaken 25
DESCRIPTION:Ivm Corona virus voorlopig geen schaken bij Ankie\, maar wel een rapid toernooitje op https://lichess.org/team/meppeler-sv\nTempo: 10 min + 10 sec per zet.
URL:https://meppelerschaakvereniging.nl/agenda/internet-rapid-schaken-25/
CATEGORIES:Internet
END:VEVENT
BEGIN:VEVENT
DTSTART;TZID=Europe/Amsterdam:20210330T200000
DTEND;TZID=Europe/Amsterdam:20210330T200000
DTSTAMP:20260424T070911
CREATED:20210307T204005Z
LAST-MODIFIED:20210307T204005Z
UID:14903-1617134400-1617134400@meppelerschaakvereniging.nl
SUMMARY:Internet rapid schaken 24
DESCRIPTION:Ivm Corona virus voorlopig geen schaken bij Ankie\, maar wel een rapid toernooitje op https://lichess.org/team/meppeler-sv\nTempo: 10 min + 10 sec per zet.
URL:https://meppelerschaakvereniging.nl/agenda/internet-rapid-schaken-24/
CATEGORIES:Internet
END:VEVENT
BEGIN:VEVENT
DTSTART;TZID=Europe/Amsterdam:20210323T200000
DTEND;TZID=Europe/Amsterdam:20210323T200000
DTSTAMP:20260424T070911
CREATED:20210221T212112Z
LAST-MODIFIED:20210221T212112Z
UID:14894-1616529600-1616529600@meppelerschaakvereniging.nl
SUMMARY:Internet rapid schaken 23
DESCRIPTION:Ivm Corona virus voorlopig geen schaken bij Ankie\, maar wel een rapid toernooitje op https://lichess.org/team/meppeler-sv\nTempo: 10 min + 10 sec per zet.
URL:https://meppelerschaakvereniging.nl/agenda/internet-rapid-schaken-23/
CATEGORIES:Internet
END:VEVENT
BEGIN:VEVENT
DTSTART;TZID=Europe/Amsterdam:20210316T200000
DTEND;TZID=Europe/Amsterdam:20210316T200000
DTSTAMP:20260424T070911
CREATED:20210221T212040Z
LAST-MODIFIED:20210221T212040Z
UID:14892-1615924800-1615924800@meppelerschaakvereniging.nl
SUMMARY:Internet rapid schaken 22
DESCRIPTION:Ivm Corona virus voorlopig geen schaken bij Ankie\, maar wel een rapid toernooitje op https://lichess.org/team/meppeler-sv\nTempo: 10 min + 10 sec per zet.
URL:https://meppelerschaakvereniging.nl/agenda/internet-rapid-schaken-22/
CATEGORIES:Internet
END:VEVENT
BEGIN:VEVENT
DTSTART;TZID=Europe/Amsterdam:20210309T200000
DTEND;TZID=Europe/Amsterdam:20210309T200000
DTSTAMP:20260424T070911
CREATED:20210221T212006Z
LAST-MODIFIED:20210221T212006Z
UID:14890-1615320000-1615320000@meppelerschaakvereniging.nl
SUMMARY:Internet rapid schaken 21
DESCRIPTION:Ivm Corona virus voorlopig geen schaken bij Ankie\, maar wel een rapid toernooitje op https://lichess.org/team/meppeler-sv\nTempo: 10 min + 10 sec per zet.
URL:https://meppelerschaakvereniging.nl/agenda/internet-rapid-schaken-21/
CATEGORIES:Internet
END:VEVENT
BEGIN:VEVENT
DTSTART;TZID=Europe/Amsterdam:20210302T200000
DTEND;TZID=Europe/Amsterdam:20210302T200000
DTSTAMP:20260424T070911
CREATED:20210202T180535Z
LAST-MODIFIED:20210202T180535Z
UID:14878-1614715200-1614715200@meppelerschaakvereniging.nl
SUMMARY:Internet rapid schaken 20
DESCRIPTION:Ivm Corona virus voorlopig geen schaken bij Ankie\, maar wel een rapid toernooitje op https://lichess.org/team/meppeler-sv\nTempo: 10 min + 10 sec per zet.
URL:https://meppelerschaakvereniging.nl/agenda/internet-rapid-schaken-20/
CATEGORIES:Internet
END:VEVENT
BEGIN:VEVENT
DTSTART;TZID=Europe/Amsterdam:20210223T200000
DTEND;TZID=Europe/Amsterdam:20210223T200000
DTSTAMP:20260424T070911
CREATED:20210202T180421Z
LAST-MODIFIED:20210202T180421Z
UID:14876-1614110400-1614110400@meppelerschaakvereniging.nl
SUMMARY:Internet rapid schaken 19
DESCRIPTION:Ivm Corona virus voorlopig geen schaken bij Ankie\, maar wel een rapid toernooitje op https://lichess.org/team/meppeler-sv\nTempo: 10 min + 10 sec per zet.
URL:https://meppelerschaakvereniging.nl/agenda/internet-rapid-schaken-19/
CATEGORIES:Internet
END:VEVENT
BEGIN:VEVENT
DTSTART;TZID=Europe/Amsterdam:20210216T200000
DTEND;TZID=Europe/Amsterdam:20210216T200000
DTSTAMP:20260424T070911
CREATED:20210202T180330Z
LAST-MODIFIED:20210202T180330Z
UID:14874-1613505600-1613505600@meppelerschaakvereniging.nl
SUMMARY:Internet rapid schaken 18
DESCRIPTION:Ivm Corona virus voorlopig geen schaken bij Ankie\, maar wel een rapid toernooitje op https://lichess.org/team/meppeler-sv\nTempo: 10 min + 10 sec per zet.
URL:https://meppelerschaakvereniging.nl/agenda/internet-rapid-schaken-18/
CATEGORIES:Internet
END:VEVENT
BEGIN:VEVENT
DTSTART;TZID=Europe/Amsterdam:20210209T200000
DTEND;TZID=Europe/Amsterdam:20210209T200000
DTSTAMP:20260424T070911
CREATED:20210124T101112Z
LAST-MODIFIED:20210124T101112Z
UID:14858-1612900800-1612900800@meppelerschaakvereniging.nl
SUMMARY:Internet rapid schaken 17
DESCRIPTION:Ivm Corona virus voorlopig geen schaken bij Ankie\, maar wel een rapid toernooitje op https://lichess.org/team/meppeler-sv\nTempo: 10 min + 10 sec per zet.
URL:https://meppelerschaakvereniging.nl/agenda/internet-rapid-schaken-17/
CATEGORIES:Internet
END:VEVENT
BEGIN:VEVENT
DTSTART;TZID=Europe/Amsterdam:20210202T200000
DTEND;TZID=Europe/Amsterdam:20210202T200000
DTSTAMP:20260424T070911
CREATED:20210106T205505Z
LAST-MODIFIED:20210106T205505Z
UID:14850-1612296000-1612296000@meppelerschaakvereniging.nl
SUMMARY:Internet rapid schaken 16
DESCRIPTION:Ivm Corona virus voorlopig geen schaken bij Ankie\, maar wel een rapid toernooitje op https://lichess.org/team/meppeler-sv\nTempo: 10 min + 10 sec per zet.
URL:https://meppelerschaakvereniging.nl/agenda/internet-rapid-schaken-16/
CATEGORIES:Internet
END:VEVENT
BEGIN:VEVENT
DTSTART;TZID=Europe/Amsterdam:20210126T200000
DTEND;TZID=Europe/Amsterdam:20210126T200000
DTSTAMP:20260424T070911
CREATED:20210106T205430Z
LAST-MODIFIED:20210106T205430Z
UID:14848-1611691200-1611691200@meppelerschaakvereniging.nl
SUMMARY:Internet rapid schaken 15
DESCRIPTION:Ivm Corona virus voorlopig geen schaken bij Ankie\, maar wel een rapid toernooitje op https://lichess.org/team/meppeler-sv\nTempo: 10 min + 10 sec per zet.
URL:https://meppelerschaakvereniging.nl/agenda/internet-rapid-schaken-15/
CATEGORIES:Internet
END:VEVENT
BEGIN:VEVENT
DTSTART;TZID=Europe/Amsterdam:20210119T200000
DTEND;TZID=Europe/Amsterdam:20210119T200000
DTSTAMP:20260424T070911
CREATED:20201218T212358Z
LAST-MODIFIED:20201218T212358Z
UID:14835-1611086400-1611086400@meppelerschaakvereniging.nl
SUMMARY:Internet rapid schaken 14
DESCRIPTION:Ivm Corona virus voorlopig geen schaken bij Ankie\, maar wel een rapid toernooitje op https://lichess.org/team/meppeler-sv\nTempo: 10 min + 10 sec per zet.
URL:https://meppelerschaakvereniging.nl/agenda/internet-rapid-schaken-14/
CATEGORIES:Internet
END:VEVENT
BEGIN:VEVENT
DTSTART;TZID=Europe/Amsterdam:20210112T200000
DTEND;TZID=Europe/Amsterdam:20210112T200000
DTSTAMP:20260424T070911
CREATED:20201218T212329Z
LAST-MODIFIED:20201218T212329Z
UID:14833-1610481600-1610481600@meppelerschaakvereniging.nl
SUMMARY:Internet rapid schaken 13
DESCRIPTION:Ivm Corona virus voorlopig geen schaken bij Ankie\, maar wel een rapid toernooitje op https://lichess.org/team/meppeler-sv\nTempo: 10 min + 10 sec per zet.
URL:https://meppelerschaakvereniging.nl/agenda/internet-rapid-schaken-13/
CATEGORIES:Internet
END:VEVENT
BEGIN:VEVENT
DTSTART;TZID=Europe/Amsterdam:20210105T200000
DTEND;TZID=Europe/Amsterdam:20210105T200000
DTSTAMP:20260424T070911
CREATED:20201218T212238Z
LAST-MODIFIED:20201218T212238Z
UID:14831-1609876800-1609876800@meppelerschaakvereniging.nl
SUMMARY:Internet rapid schaken 12
DESCRIPTION:Ivm Corona virus voorlopig geen schaken bij Ankie\, maar wel een rapid toernooitje op https://lichess.org/team/meppeler-sv\nTempo: 10 min + 10 sec per zet.
URL:https://meppelerschaakvereniging.nl/agenda/internet-rapid-schaken-12/
CATEGORIES:Internet
END:VEVENT
BEGIN:VEVENT
DTSTART;TZID=Europe/Amsterdam:20201229T200000
DTEND;TZID=Europe/Amsterdam:20201229T200000
DTSTAMP:20260424T070911
CREATED:20201218T212159Z
LAST-MODIFIED:20201218T212159Z
UID:14829-1609272000-1609272000@meppelerschaakvereniging.nl
SUMMARY:Internet rapid schaken 11
DESCRIPTION:Ivm Corona virus voorlopig geen schaken bij Ankie\, maar wel een rapid toernooitje op https://lichess.org/team/meppeler-sv\nTempo: 10 min + 10 sec per zet.
URL:https://meppelerschaakvereniging.nl/agenda/internet-rapid-schaken-11/
CATEGORIES:Internet
END:VEVENT
BEGIN:VEVENT
DTSTART;TZID=Europe/Amsterdam:20201222T200000
DTEND;TZID=Europe/Amsterdam:20201222T200000
DTSTAMP:20260424T070911
CREATED:20201118T182304Z
LAST-MODIFIED:20201118T182304Z
UID:14780-1608667200-1608667200@meppelerschaakvereniging.nl
SUMMARY:Internet rapid schaken 10
DESCRIPTION:Ivm Corona virus voorlopig geen schaken bij Ankie\, maar wel een rapid toernooitje op https://lichess.org/team/meppeler-sv\nTempo: 10 min + 10 sec per zet.
URL:https://meppelerschaakvereniging.nl/agenda/internet-rapid-schaken-10/
CATEGORIES:Internet
END:VEVENT
END:VCALENDAR