BEGIN:VCALENDAR
VERSION:2.0
PRODID:-//Meppeler Schaakvereniging - ECPv6.15.20//NONSGML v1.0//EN
CALSCALE:GREGORIAN
METHOD:PUBLISH
X-WR-CALNAME:Meppeler Schaakvereniging
X-ORIGINAL-URL:https://meppelerschaakvereniging.nl
X-WR-CALDESC:Evenementen voor Meppeler Schaakvereniging
REFRESH-INTERVAL;VALUE=DURATION:PT1H
X-Robots-Tag:noindex
X-PUBLISHED-TTL:PT1H
BEGIN:VTIMEZONE
TZID:Europe/Amsterdam
BEGIN:DAYLIGHT
TZOFFSETFROM:+0100
TZOFFSETTO:+0200
TZNAME:CEST
DTSTART:20240331T010000
END:DAYLIGHT
BEGIN:STANDARD
TZOFFSETFROM:+0200
TZOFFSETTO:+0100
TZNAME:CET
DTSTART:20241027T010000
END:STANDARD
BEGIN:DAYLIGHT
TZOFFSETFROM:+0100
TZOFFSETTO:+0200
TZNAME:CEST
DTSTART:20250330T010000
END:DAYLIGHT
BEGIN:STANDARD
TZOFFSETFROM:+0200
TZOFFSETTO:+0100
TZNAME:CET
DTSTART:20251026T010000
END:STANDARD
BEGIN:DAYLIGHT
TZOFFSETFROM:+0100
TZOFFSETTO:+0200
TZNAME:CEST
DTSTART:20260329T010000
END:DAYLIGHT
BEGIN:STANDARD
TZOFFSETFROM:+0200
TZOFFSETTO:+0100
TZNAME:CET
DTSTART:20261025T010000
END:STANDARD
END:VTIMEZONE
BEGIN:VEVENT
DTSTART;TZID=Europe/Amsterdam:20251202T200000
DTEND;TZID=Europe/Amsterdam:20251202T200000
DTSTAMP:20260421T225307
CREATED:20250723T174516Z
LAST-MODIFIED:20250723T174516Z
UID:17487-1764705600-1764705600@meppelerschaakvereniging.nl
SUMMARY:Intern P2-R2
DESCRIPTION:
URL:https://meppelerschaakvereniging.nl/agenda/intern-p2-r2-3/
LOCATION:Stadscafe Oasis\, Kerkplein 15\, Meppel\, 7941 BG\, Nederland
CATEGORIES:Senioren intern
END:VEVENT
BEGIN:VEVENT
DTSTART;TZID=Europe/Amsterdam:20251125T200000
DTEND;TZID=Europe/Amsterdam:20251125T200000
DTSTAMP:20260421T225307
CREATED:20250901T153457Z
LAST-MODIFIED:20250901T153457Z
UID:17633-1764100800-1764100800@meppelerschaakvereniging.nl
SUMMARY:Denk en Zet 1 - MSV 2  (SOS)
DESCRIPTION:Zie ook: https://sosc.netstand.nl/rounds/view/3230
URL:https://meppelerschaakvereniging.nl/agenda/denk-en-zet-1-msv-2-sos/
CATEGORIES:Senioren extern
END:VEVENT
BEGIN:VEVENT
DTSTART;TZID=Europe/Amsterdam:20251125T200000
DTEND;TZID=Europe/Amsterdam:20251125T200000
DTSTAMP:20260421T225307
CREATED:20250901T152404Z
LAST-MODIFIED:20251111T101310Z
UID:17620-1764100800-1764100800@meppelerschaakvereniging.nl
SUMMARY:MSV 1 - Raalte 1  (SOS)
DESCRIPTION:Zie ook: https://sosc.netstand.nl/rounds/view/3195
URL:https://meppelerschaakvereniging.nl/agenda/msv-1-raalte-1-sos/
LOCATION:Stadscafe Oasis\, Kerkplein 15\, Meppel\, 7941 BG\, Nederland
CATEGORIES:Senioren extern
END:VEVENT
BEGIN:VEVENT
DTSTART;TZID=Europe/Amsterdam:20251125T200000
DTEND;TZID=Europe/Amsterdam:20251125T200000
DTSTAMP:20260421T225307
CREATED:20250723T174434Z
LAST-MODIFIED:20250723T174434Z
UID:17485-1764100800-1764100800@meppelerschaakvereniging.nl
SUMMARY:Intern P2-R1
DESCRIPTION:
URL:https://meppelerschaakvereniging.nl/agenda/intern-p2-r1-3/
LOCATION:Stadscafe Oasis\, Kerkplein 15\, Meppel\, 7941 BG\, Nederland
CATEGORIES:Senioren intern
END:VEVENT
BEGIN:VEVENT
DTSTART;TZID=Europe/Amsterdam:20251122T130000
DTEND;TZID=Europe/Amsterdam:20251122T190000
DTSTAMP:20260421T225307
CREATED:20250804T174521Z
LAST-MODIFIED:20250807T152243Z
UID:17558-1763816400-1763838000@meppelerschaakvereniging.nl
SUMMARY:MSV 1 - En Passant 1  (KNSB)
DESCRIPTION:Zie ook: https://knsb.netstand.nl/rounds/view/3918
URL:https://meppelerschaakvereniging.nl/agenda/msv-1-en-passant-1-knsb/
LOCATION:Stadscafe Oasis\, Kerkplein 15\, Meppel\, 7941 BG\, Nederland
CATEGORIES:Senioren extern
END:VEVENT
BEGIN:VEVENT
DTSTART;TZID=Europe/Amsterdam:20251118T200000
DTEND;TZID=Europe/Amsterdam:20251118T200000
DTSTAMP:20260421T225307
CREATED:20250723T174305Z
LAST-MODIFIED:20250723T174305Z
UID:17483-1763496000-1763496000@meppelerschaakvereniging.nl
SUMMARY:Intern P1-R9
DESCRIPTION:
URL:https://meppelerschaakvereniging.nl/agenda/intern-p1-r9-3/
LOCATION:Stadscafe Oasis\, Kerkplein 15\, Meppel\, 7941 BG\, Nederland
CATEGORIES:Senioren intern
END:VEVENT
BEGIN:VEVENT
DTSTART;TZID=Europe/Amsterdam:20251111T200000
DTEND;TZID=Europe/Amsterdam:20251111T200000
DTSTAMP:20260421T225307
CREATED:20250901T153340Z
LAST-MODIFIED:20250901T153340Z
UID:17631-1762891200-1762891200@meppelerschaakvereniging.nl
SUMMARY:MSV 2 - O&O 3  (SOS)
DESCRIPTION:Zie ook:  https://sosc.netstand.nl/rounds/view/3229
URL:https://meppelerschaakvereniging.nl/agenda/msv-2-oo-3-sos/
LOCATION:Stadscafe Oasis\, Kerkplein 15\, Meppel\, 7941 BG\, Nederland
CATEGORIES:Senioren extern
END:VEVENT
BEGIN:VEVENT
DTSTART;TZID=Europe/Amsterdam:20251111T200000
DTEND;TZID=Europe/Amsterdam:20251111T200000
DTSTAMP:20260421T225307
CREATED:20250723T174232Z
LAST-MODIFIED:20250723T174232Z
UID:17481-1762891200-1762891200@meppelerschaakvereniging.nl
SUMMARY:Intern P1-R8
DESCRIPTION:
URL:https://meppelerschaakvereniging.nl/agenda/intern-p1-r8-3/
LOCATION:Stadscafe Oasis\, Kerkplein 15\, Meppel\, 7941 BG\, Nederland
CATEGORIES:Senioren intern
END:VEVENT
BEGIN:VEVENT
DTSTART;TZID=Europe/Amsterdam:20251104T200000
DTEND;TZID=Europe/Amsterdam:20251104T200000
DTSTAMP:20260421T225307
CREATED:20250723T174201Z
LAST-MODIFIED:20250723T174201Z
UID:17479-1762286400-1762286400@meppelerschaakvereniging.nl
SUMMARY:Intern P1-R7
DESCRIPTION:
URL:https://meppelerschaakvereniging.nl/agenda/intern-p1-r7-3/
LOCATION:Stadscafe Oasis\, Kerkplein 15\, Meppel\, 7941 BG\, Nederland
CATEGORIES:Senioren intern
END:VEVENT
BEGIN:VEVENT
DTSTART;TZID=Europe/Amsterdam:20251103T200000
DTEND;TZID=Europe/Amsterdam:20251103T200000
DTSTAMP:20260421T225307
CREATED:20250901T152234Z
LAST-MODIFIED:20250901T152234Z
UID:17618-1762200000-1762200000@meppelerschaakvereniging.nl
SUMMARY:ENO 1 - MSV 1  (SOS)
DESCRIPTION:Zie ook: https://sosc.netstand.nl/rounds/view/3194
URL:https://meppelerschaakvereniging.nl/agenda/eno-1-msv-1-sos-2/
CATEGORIES:Senioren extern
END:VEVENT
BEGIN:VEVENT
DTSTART;TZID=Europe/Amsterdam:20251101T130000
DTEND;TZID=Europe/Amsterdam:20251101T190000
DTSTAMP:20260421T225307
CREATED:20250804T174233Z
LAST-MODIFIED:20250807T152049Z
UID:17554-1762002000-1762023600@meppelerschaakvereniging.nl
SUMMARY:Spassky's 1 - MSV 1  (KNSB)
DESCRIPTION:Zie ook: https://knsb.netstand.nl/rounds/view/3917 \n 
URL:https://meppelerschaakvereniging.nl/agenda/spasskys-1-msv-1-knsb/
CATEGORIES:Senioren extern
END:VEVENT
BEGIN:VEVENT
DTSTART;TZID=Europe/Amsterdam:20251028T200000
DTEND;TZID=Europe/Amsterdam:20251028T200000
DTSTAMP:20260421T225307
CREATED:20250723T174105Z
LAST-MODIFIED:20250723T174105Z
UID:17477-1761681600-1761681600@meppelerschaakvereniging.nl
SUMMARY:Intern P1-R6
DESCRIPTION:
URL:https://meppelerschaakvereniging.nl/agenda/intern-p1-r6-3/
LOCATION:Stadscafe Oasis\, Kerkplein 15\, Meppel\, 7941 BG\, Nederland
CATEGORIES:Senioren intern
END:VEVENT
BEGIN:VEVENT
DTSTART;TZID=Europe/Amsterdam:20251021T200000
DTEND;TZID=Europe/Amsterdam:20251021T200000
DTSTAMP:20260421T225307
CREATED:20250723T174024Z
LAST-MODIFIED:20250723T174024Z
UID:17475-1761076800-1761076800@meppelerschaakvereniging.nl
SUMMARY:Intern P1-R5
DESCRIPTION:
URL:https://meppelerschaakvereniging.nl/agenda/intern-p1-r5-3/
LOCATION:Stadscafe Oasis\, Kerkplein 15\, Meppel\, 7941 BG\, Nederland
CATEGORIES:Senioren intern
END:VEVENT
BEGIN:VEVENT
DTSTART;TZID=Europe/Amsterdam:20251014T200000
DTEND;TZID=Europe/Amsterdam:20251014T200000
DTSTAMP:20260421T225307
CREATED:20250723T173933Z
LAST-MODIFIED:20250723T173933Z
UID:17473-1760472000-1760472000@meppelerschaakvereniging.nl
SUMMARY:Intern P1-R4
DESCRIPTION:
URL:https://meppelerschaakvereniging.nl/agenda/intern-p1-r4-3/
LOCATION:Stadscafe Oasis\, Kerkplein 15\, Meppel\, 7941 BG\, Nederland
CATEGORIES:Senioren intern
END:VEVENT
BEGIN:VEVENT
DTSTART;TZID=Europe/Amsterdam:20251007T200000
DTEND;TZID=Europe/Amsterdam:20251007T200000
DTSTAMP:20260421T225307
CREATED:20250827T171653Z
LAST-MODIFIED:20250901T152107Z
UID:17611-1759867200-1759867200@meppelerschaakvereniging.nl
SUMMARY:MSV 1 - S.C. 't Zwarte Paard 1  (SOS)
DESCRIPTION:Zie ook: https://sosc.netstand.nl/rounds/view/3193
URL:https://meppelerschaakvereniging.nl/agenda/msv-1-s-c-t-zwarte-paard-1-sos/
LOCATION:Stadscafe Oasis\, Kerkplein 15\, Meppel\, 7941 BG\, Nederland
CATEGORIES:Senioren extern
END:VEVENT
BEGIN:VEVENT
DTSTART;TZID=Europe/Amsterdam:20251007T200000
DTEND;TZID=Europe/Amsterdam:20251007T200000
DTSTAMP:20260421T225307
CREATED:20250723T173829Z
LAST-MODIFIED:20250723T173829Z
UID:17471-1759867200-1759867200@meppelerschaakvereniging.nl
SUMMARY:Intern P1-R3
DESCRIPTION:
URL:https://meppelerschaakvereniging.nl/agenda/intern-p1-r3-3/
LOCATION:Stadscafe Oasis\, Kerkplein 15\, Meppel\, 7941 BG\, Nederland
CATEGORIES:Senioren intern
END:VEVENT
BEGIN:VEVENT
DTSTART;TZID=Europe/Amsterdam:20251004T130000
DTEND;TZID=Europe/Amsterdam:20251004T190000
DTSTAMP:20260421T225307
CREATED:20250804T174057Z
LAST-MODIFIED:20250807T153154Z
UID:17552-1759582800-1759604400@meppelerschaakvereniging.nl
SUMMARY:MSV 1 - LOS 1  (KNSB)
DESCRIPTION:Zie ook: https://knsb.netstand.nl/rounds/view/3916
URL:https://meppelerschaakvereniging.nl/agenda/msv-1-los-1-knsb/
LOCATION:Stadscafe Oasis\, Kerkplein 15\, Meppel\, 7941 BG\, Nederland
CATEGORIES:Senioren extern
END:VEVENT
BEGIN:VEVENT
DTSTART;TZID=Europe/Amsterdam:20251002T200000
DTEND;TZID=Europe/Amsterdam:20251002T200000
DTSTAMP:20260421T225307
CREATED:20250827T171747Z
LAST-MODIFIED:20250901T153212Z
UID:17613-1759435200-1759435200@meppelerschaakvereniging.nl
SUMMARY:ZZS! 2 - MSV 2  (SOS)
DESCRIPTION:Zie ook: https://sosc.netstand.nl/rounds/view/3228
URL:https://meppelerschaakvereniging.nl/agenda/zzs-2-msv-2-sos-3/
CATEGORIES:Senioren extern
END:VEVENT
BEGIN:VEVENT
DTSTART;TZID=Europe/Amsterdam:20250930T193000
DTEND;TZID=Europe/Amsterdam:20250930T193000
DTSTAMP:20260421T225307
CREATED:20250723T173746Z
LAST-MODIFIED:20250723T175539Z
UID:17469-1759260600-1759260600@meppelerschaakvereniging.nl
SUMMARY:Jaarvergadering + Rapid 1
DESCRIPTION:De stukken voor de jaarvergadering ontvangt men in september. \nLET OP: Aanvang van de vergadering:  19:30 uur !!! \nNa de jaarvergadering is er rapid schaken voor de liefhebbers (4 of 5 rondes met speeltempo: 10 min. p.p. + 5 sec. increment) .
URL:https://meppelerschaakvereniging.nl/agenda/jaarvergadering-rapid/
LOCATION:Stadscafe Oasis\, Kerkplein 15\, Meppel\, 7941 BG\, Nederland
CATEGORIES:Algemeen
END:VEVENT
BEGIN:VEVENT
DTSTART;TZID=Europe/Amsterdam:20250923T200000
DTEND;TZID=Europe/Amsterdam:20250923T200000
DTSTAMP:20260421T225307
CREATED:20250723T173458Z
LAST-MODIFIED:20250723T173458Z
UID:17467-1758657600-1758657600@meppelerschaakvereniging.nl
SUMMARY:Intern P1-R2
DESCRIPTION:
URL:https://meppelerschaakvereniging.nl/agenda/intern-p1-r2-3/
LOCATION:Stadscafe Oasis\, Kerkplein 15\, Meppel\, 7941 BG\, Nederland
CATEGORIES:Senioren intern
END:VEVENT
BEGIN:VEVENT
DTSTART;TZID=Europe/Amsterdam:20250920T130000
DTEND;TZID=Europe/Amsterdam:20250920T190000
DTSTAMP:20260421T225307
CREATED:20250804T173951Z
LAST-MODIFIED:20250807T151811Z
UID:17550-1758373200-1758394800@meppelerschaakvereniging.nl
SUMMARY:Assen 1 - MSV 1  (KNSB)
DESCRIPTION:Zie ook: https://knsb.netstand.nl/rounds/view/3915
URL:https://meppelerschaakvereniging.nl/agenda/assen-1-msv-1-knsb/
CATEGORIES:Senioren extern
END:VEVENT
BEGIN:VEVENT
DTSTART;TZID=Europe/Amsterdam:20250916T200000
DTEND;TZID=Europe/Amsterdam:20250916T200000
DTSTAMP:20260421T225307
CREATED:20250701T095236Z
LAST-MODIFIED:20250701T095236Z
UID:17450-1758052800-1758052800@meppelerschaakvereniging.nl
SUMMARY:Intern P1-R1
DESCRIPTION:
URL:https://meppelerschaakvereniging.nl/agenda/intern-p1-r1-3/
LOCATION:Stadscafe Oasis\, Kerkplein 15\, Meppel\, 7941 BG\, Nederland
CATEGORIES:Senioren intern
END:VEVENT
BEGIN:VEVENT
DTSTART;TZID=Europe/Amsterdam:20250909T200000
DTEND;TZID=Europe/Amsterdam:20250909T200000
DTSTAMP:20260421T225307
CREATED:20250502T181314Z
LAST-MODIFIED:20250502T181314Z
UID:17349-1757448000-1757448000@meppelerschaakvereniging.nl
SUMMARY:Zomerschaak 12
DESCRIPTION:Rapidtoernooi buiten op het terras bij Stadscafé Oasis. \nWe spelen 5 ronden per avond. \nKom gerust langs als je zin hebt in een potje schaken.
URL:https://meppelerschaakvereniging.nl/agenda/zomerschaak-12-2/
LOCATION:Stadscafe Oasis\, Kerkplein 15\, Meppel\, 7941 BG\, Nederland
CATEGORIES:Algemeen
END:VEVENT
BEGIN:VEVENT
DTSTART;TZID=Europe/Amsterdam:20250902T200000
DTEND;TZID=Europe/Amsterdam:20250902T200000
DTSTAMP:20260421T225307
CREATED:20250502T181225Z
LAST-MODIFIED:20250502T181225Z
UID:17347-1756843200-1756843200@meppelerschaakvereniging.nl
SUMMARY:Zomerschaak 11
DESCRIPTION:Rapidtoernooi buiten op het terras bij Stadscafé Oasis. \nWe spelen 5 ronden per avond. \nKom gerust langs als je zin hebt in een potje schaken.
URL:https://meppelerschaakvereniging.nl/agenda/zomerschaak-11-2/
LOCATION:Stadscafe Oasis\, Kerkplein 15\, Meppel\, 7941 BG\, Nederland
CATEGORIES:Algemeen
END:VEVENT
BEGIN:VEVENT
DTSTART;TZID=Europe/Amsterdam:20250826T200000
DTEND;TZID=Europe/Amsterdam:20250826T200000
DTSTAMP:20260421T225307
CREATED:20250502T181139Z
LAST-MODIFIED:20250502T181139Z
UID:17345-1756238400-1756238400@meppelerschaakvereniging.nl
SUMMARY:Zomerschaak 10
DESCRIPTION:Rapidtoernooi buiten op het terras bij Stadscafé Oasis. \nWe spelen 5 ronden per avond. \nKom gerust langs als je zin hebt in een potje schaken.
URL:https://meppelerschaakvereniging.nl/agenda/zomerschaak-10-4/
LOCATION:Stadscafe Oasis\, Kerkplein 15\, Meppel\, 7941 BG\, Nederland
CATEGORIES:Algemeen
END:VEVENT
BEGIN:VEVENT
DTSTART;TZID=Europe/Amsterdam:20250819T200000
DTEND;TZID=Europe/Amsterdam:20250819T200000
DTSTAMP:20260421T225307
CREATED:20250502T181050Z
LAST-MODIFIED:20250502T181050Z
UID:17343-1755633600-1755633600@meppelerschaakvereniging.nl
SUMMARY:Zomerschaak 9
DESCRIPTION:Rapidtoernooi buiten op het terras bij Stadscafé Oasis. \nWe spelen 5 ronden per avond. \nKom gerust langs als je zin hebt in een potje schaken.
URL:https://meppelerschaakvereniging.nl/agenda/zomerschaak-9-4/
LOCATION:Stadscafe Oasis\, Kerkplein 15\, Meppel\, 7941 BG\, Nederland
CATEGORIES:Algemeen
END:VEVENT
BEGIN:VEVENT
DTSTART;TZID=Europe/Amsterdam:20250812T200000
DTEND;TZID=Europe/Amsterdam:20250812T200000
DTSTAMP:20260421T225307
CREATED:20250502T180927Z
LAST-MODIFIED:20250502T181002Z
UID:17340-1755028800-1755028800@meppelerschaakvereniging.nl
SUMMARY:Zomerschaak 8
DESCRIPTION:Rapidtoernooi buiten op het terras bij Stadscafé Oasis. \nWe spelen 5 ronden per avond. \nKom gerust langs als je zin hebt in een potje schaken.
URL:https://meppelerschaakvereniging.nl/agenda/zomerschaak-8-4/
LOCATION:Stadscafe Oasis\, Kerkplein 15\, Meppel\, 7941 BG\, Nederland
CATEGORIES:Algemeen
END:VEVENT
BEGIN:VEVENT
DTSTART;TZID=Europe/Amsterdam:20250805T200000
DTEND;TZID=Europe/Amsterdam:20250805T200000
DTSTAMP:20260421T225307
CREATED:20250502T180831Z
LAST-MODIFIED:20250502T180831Z
UID:17338-1754424000-1754424000@meppelerschaakvereniging.nl
SUMMARY:Zomerschaak 7
DESCRIPTION:Rapidtoernooi buiten op het terras bij Stadscafé Oasis. \nWe spelen 5 ronden per avond. \nKom gerust langs als je zin hebt in een potje schaken.
URL:https://meppelerschaakvereniging.nl/agenda/zomerschaak-7-4/
LOCATION:Stadscafe Oasis\, Kerkplein 15\, Meppel\, 7941 BG\, Nederland
CATEGORIES:Algemeen
END:VEVENT
BEGIN:VEVENT
DTSTART;TZID=Europe/Amsterdam:20250729T200000
DTEND;TZID=Europe/Amsterdam:20250729T200000
DTSTAMP:20260421T225307
CREATED:20250502T180738Z
LAST-MODIFIED:20250502T180738Z
UID:17336-1753819200-1753819200@meppelerschaakvereniging.nl
SUMMARY:Zomerschaak 6
DESCRIPTION:Rapidtoernooi buiten op het terras bij Stadscafé Oasis. \nWe spelen 5 ronden per avond. \nKom gerust langs als je zin hebt in een potje schaken.
URL:https://meppelerschaakvereniging.nl/agenda/zomerschaak-6-4/
LOCATION:Stadscafe Oasis\, Kerkplein 15\, Meppel\, 7941 BG\, Nederland
CATEGORIES:Algemeen
END:VEVENT
BEGIN:VEVENT
DTSTART;TZID=Europe/Amsterdam:20250722T200000
DTEND;TZID=Europe/Amsterdam:20250722T200000
DTSTAMP:20260421T225307
CREATED:20250502T180650Z
LAST-MODIFIED:20250502T180650Z
UID:17334-1753214400-1753214400@meppelerschaakvereniging.nl
SUMMARY:Zomerschaak 5
DESCRIPTION:Rapidtoernooi buiten op het terras bij Stadscafé Oasis. \nWe spelen 5 ronden per avond. \nKom gerust langs als je zin hebt in een potje schaken.
URL:https://meppelerschaakvereniging.nl/agenda/zomerschaak-5-4/
LOCATION:Stadscafe Oasis\, Kerkplein 15\, Meppel\, 7941 BG\, Nederland
CATEGORIES:Algemeen
END:VEVENT
END:VCALENDAR