BEGIN:VCALENDAR
VERSION:2.0
PRODID:-//Meppeler Schaakvereniging - ECPv6.15.20//NONSGML v1.0//EN
CALSCALE:GREGORIAN
METHOD:PUBLISH
X-ORIGINAL-URL:https://meppelerschaakvereniging.nl
X-WR-CALDESC:Evenementen voor Meppeler Schaakvereniging
REFRESH-INTERVAL;VALUE=DURATION:PT1H
X-Robots-Tag:noindex
X-PUBLISHED-TTL:PT1H
BEGIN:VTIMEZONE
TZID:Europe/Amsterdam
BEGIN:DAYLIGHT
TZOFFSETFROM:+0100
TZOFFSETTO:+0200
TZNAME:CEST
DTSTART:20240331T010000
END:DAYLIGHT
BEGIN:STANDARD
TZOFFSETFROM:+0200
TZOFFSETTO:+0100
TZNAME:CET
DTSTART:20241027T010000
END:STANDARD
BEGIN:DAYLIGHT
TZOFFSETFROM:+0100
TZOFFSETTO:+0200
TZNAME:CEST
DTSTART:20250330T010000
END:DAYLIGHT
BEGIN:STANDARD
TZOFFSETFROM:+0200
TZOFFSETTO:+0100
TZNAME:CET
DTSTART:20251026T010000
END:STANDARD
BEGIN:DAYLIGHT
TZOFFSETFROM:+0100
TZOFFSETTO:+0200
TZNAME:CEST
DTSTART:20260329T010000
END:DAYLIGHT
BEGIN:STANDARD
TZOFFSETFROM:+0200
TZOFFSETTO:+0100
TZNAME:CET
DTSTART:20261025T010000
END:STANDARD
END:VTIMEZONE
BEGIN:VEVENT
DTSTART;TZID=Europe/Amsterdam:20250205T133000
DTEND;TZID=Europe/Amsterdam:20250205T170000
DTSTAMP:20260423T001602
CREATED:20240909T183909Z
LAST-MODIFIED:20240909T183909Z
UID:16798-1738762200-1738774800@meppelerschaakvereniging.nl
SUMMARY:Basisschool schaakkampioenschap dag 2
DESCRIPTION:Dag 2 van het Meppeler Basisschool schaakkampioenschap. \nVandaag spelen we ronde 7 t/m 12. \nZaal open vanaf 13:00 uur.
URL:https://meppelerschaakvereniging.nl/agenda/basisschool-schaakkampioenschap-dag-2-3/
LOCATION:Wijkcentrum de Poele\, Groen van Prinstererstraat 1A\, Meppel\, 7942 CW \, Nederland
CATEGORIES:Jeugd
END:VEVENT
BEGIN:VEVENT
DTSTART;TZID=Europe/Amsterdam:20250208T130000
DTEND;TZID=Europe/Amsterdam:20250208T190000
DTSTAMP:20260423T001602
CREATED:20240815T203934Z
LAST-MODIFIED:20240815T204439Z
UID:16736-1739019600-1739041200@meppelerschaakvereniging.nl
SUMMARY:MSV 1 - SG Max Euwe 2  (KNSB)
DESCRIPTION:Zie https://knsb.netstand.nl/rounds/view/3351
URL:https://meppelerschaakvereniging.nl/agenda/msv-1-sg-max-euwe-2-knsb/
LOCATION:Stadscafe Oasis\, Kerkplein 15\, Meppel\, 7941 BG\, Nederland
CATEGORIES:Senioren extern
END:VEVENT
BEGIN:VEVENT
DTSTART;TZID=Europe/Amsterdam:20250211T200000
DTEND;TZID=Europe/Amsterdam:20250211T200000
DTSTAMP:20260423T001602
CREATED:20241111T171817Z
LAST-MODIFIED:20241111T171817Z
UID:17059-1739304000-1739304000@meppelerschaakvereniging.nl
SUMMARY:Intern P2-R8
DESCRIPTION:
URL:https://meppelerschaakvereniging.nl/agenda/intern-p2-r8-2/
LOCATION:Stadscafe Oasis\, Kerkplein 15\, Meppel\, 7941 BG\, Nederland
CATEGORIES:Senioren intern
END:VEVENT
BEGIN:VEVENT
DTSTART;TZID=Europe/Amsterdam:20250213T200000
DTEND;TZID=Europe/Amsterdam:20250213T200000
DTSTAMP:20260423T001602
CREATED:20240824T124428Z
LAST-MODIFIED:20240824T124428Z
UID:16766-1739476800-1739476800@meppelerschaakvereniging.nl
SUMMARY:S.C. Caïssa 1 - MSV 2  (SOS)
DESCRIPTION:Zie: https://sosc.netstand.nl/rounds/view/2859
URL:https://meppelerschaakvereniging.nl/agenda/s-c-caissa-1-msv-2-sos/
CATEGORIES:Senioren extern
END:VEVENT
BEGIN:VEVENT
DTSTART;TZID=Europe/Amsterdam:20250218T200000
DTEND;TZID=Europe/Amsterdam:20250218T200000
DTSTAMP:20260423T001602
CREATED:20241111T171850Z
LAST-MODIFIED:20241111T171850Z
UID:17061-1739908800-1739908800@meppelerschaakvereniging.nl
SUMMARY:Intern P2-R9
DESCRIPTION:
URL:https://meppelerschaakvereniging.nl/agenda/intern-p2-r9-2/
LOCATION:Stadscafe Oasis\, Kerkplein 15\, Meppel\, 7941 BG\, Nederland
CATEGORIES:Senioren intern
END:VEVENT
BEGIN:VEVENT
DTSTART;TZID=Europe/Amsterdam:20250225T200000
DTEND;TZID=Europe/Amsterdam:20250225T200000
DTSTAMP:20260423T001602
CREATED:20241111T172016Z
LAST-MODIFIED:20241111T172016Z
UID:17063-1740513600-1740513600@meppelerschaakvereniging.nl
SUMMARY:Rapid 2
DESCRIPTION:
URL:https://meppelerschaakvereniging.nl/agenda/rapid-2-3/
LOCATION:Stadscafe Oasis\, Kerkplein 15\, Meppel\, 7941 BG\, Nederland
CATEGORIES:Senioren intern
END:VEVENT
BEGIN:VEVENT
DTSTART;TZID=Europe/Amsterdam:20250304T200000
DTEND;TZID=Europe/Amsterdam:20250304T200000
DTSTAMP:20260423T001602
CREATED:20241113T202826Z
LAST-MODIFIED:20241113T202826Z
UID:17075-1741118400-1741118400@meppelerschaakvereniging.nl
SUMMARY:Intern P3-R1
DESCRIPTION:
URL:https://meppelerschaakvereniging.nl/agenda/intern-p3-r1-2/
LOCATION:Stadscafe Oasis\, Kerkplein 15\, Meppel\, 7941 BG\, Nederland
CATEGORIES:Senioren intern
END:VEVENT
BEGIN:VEVENT
DTSTART;TZID=Europe/Amsterdam:20250308T130000
DTEND;TZID=Europe/Amsterdam:20250308T190000
DTSTAMP:20260423T001602
CREATED:20240815T204046Z
LAST-MODIFIED:20240815T204046Z
UID:16738-1741438800-1741460400@meppelerschaakvereniging.nl
SUMMARY:ASV 2 - MSV 1  (KNSB)
DESCRIPTION:Zie https://knsb.netstand.nl/rounds/view/3352
URL:https://meppelerschaakvereniging.nl/agenda/asv-2-msv-1-knsb/
CATEGORIES:Senioren extern
END:VEVENT
BEGIN:VEVENT
DTSTART;TZID=Europe/Amsterdam:20250310T200000
DTEND;TZID=Europe/Amsterdam:20250310T200000
DTSTAMP:20260423T001602
CREATED:20240824T125544Z
LAST-MODIFIED:20240824T125544Z
UID:16783-1741636800-1741636800@meppelerschaakvereniging.nl
SUMMARY:Raalte 1 - MSV 1  (SOS)
DESCRIPTION:Zie: https://sosc.netstand.nl/rounds/view/2805
URL:https://meppelerschaakvereniging.nl/agenda/raalte-1-msv-1-sos/
CATEGORIES:Senioren extern
END:VEVENT
BEGIN:VEVENT
DTSTART;TZID=Europe/Amsterdam:20250311T200000
DTEND;TZID=Europe/Amsterdam:20250311T200000
DTSTAMP:20260423T001602
CREATED:20241113T202905Z
LAST-MODIFIED:20241113T202905Z
UID:17077-1741723200-1741723200@meppelerschaakvereniging.nl
SUMMARY:Intern P3-R2
DESCRIPTION:
URL:https://meppelerschaakvereniging.nl/agenda/intern-p3-r2-2/
LOCATION:Stadscafe Oasis\, Kerkplein 15\, Meppel\, 7941 BG\, Nederland
CATEGORIES:Senioren intern
END:VEVENT
BEGIN:VEVENT
DTSTART;TZID=Europe/Amsterdam:20250318T200000
DTEND;TZID=Europe/Amsterdam:20250318T200000
DTSTAMP:20260423T001602
CREATED:20240824T124537Z
LAST-MODIFIED:20240824T124537Z
UID:16768-1742328000-1742328000@meppelerschaakvereniging.nl
SUMMARY:MSV 2 - VSG 4  (SOS)
DESCRIPTION:Zie: https://sosc.netstand.nl/rounds/view/2860
URL:https://meppelerschaakvereniging.nl/agenda/msv-2-vsg-4-sos/
LOCATION:Stadscafe Oasis\, Kerkplein 15\, Meppel\, 7941 BG\, Nederland
CATEGORIES:Senioren extern
END:VEVENT
BEGIN:VEVENT
DTSTART;TZID=Europe/Amsterdam:20250318T200000
DTEND;TZID=Europe/Amsterdam:20250318T200000
DTSTAMP:20260423T001602
CREATED:20241113T202942Z
LAST-MODIFIED:20241113T202942Z
UID:17079-1742328000-1742328000@meppelerschaakvereniging.nl
SUMMARY:Intern P3-R3
DESCRIPTION:
URL:https://meppelerschaakvereniging.nl/agenda/intern-p3-r3-2/
LOCATION:Stadscafe Oasis\, Kerkplein 15\, Meppel\, 7941 BG\, Nederland
CATEGORIES:Senioren intern
END:VEVENT
BEGIN:VEVENT
DTSTART;TZID=Europe/Amsterdam:20250325T200000
DTEND;TZID=Europe/Amsterdam:20250325T200000
DTSTAMP:20260423T001602
CREATED:20241113T203044Z
LAST-MODIFIED:20241113T203044Z
UID:17081-1742932800-1742932800@meppelerschaakvereniging.nl
SUMMARY:Intern P3-R4
DESCRIPTION:
URL:https://meppelerschaakvereniging.nl/agenda/intern-p3-r4-2/
LOCATION:Stadscafe Oasis\, Kerkplein 15\, Meppel\, 7941 BG\, Nederland
CATEGORIES:Senioren intern
END:VEVENT
BEGIN:VEVENT
DTSTART;TZID=Europe/Amsterdam:20250401T200000
DTEND;TZID=Europe/Amsterdam:20250401T200000
DTSTAMP:20260423T001602
CREATED:20241113T203122Z
LAST-MODIFIED:20241113T203122Z
UID:17083-1743537600-1743537600@meppelerschaakvereniging.nl
SUMMARY:Intern P3-R5
DESCRIPTION:
URL:https://meppelerschaakvereniging.nl/agenda/intern-p3-r5-2/
LOCATION:Stadscafe Oasis\, Kerkplein 15\, Meppel\, 7941 BG\, Nederland
CATEGORIES:Senioren intern
END:VEVENT
BEGIN:VEVENT
DTSTART;TZID=Europe/Amsterdam:20250405T130000
DTEND;TZID=Europe/Amsterdam:20250405T190000
DTSTAMP:20260423T001602
CREATED:20240815T204235Z
LAST-MODIFIED:20240815T204235Z
UID:16740-1743858000-1743879600@meppelerschaakvereniging.nl
SUMMARY:MSV 1 - BSG 1  (KNSB)
DESCRIPTION:Zie https://knsb.netstand.nl/rounds/view/3353
URL:https://meppelerschaakvereniging.nl/agenda/msv-1-bsg-1-knsb/
LOCATION:Stadscafe Oasis\, Kerkplein 15\, Meppel\, 7941 BG\, Nederland
CATEGORIES:Senioren extern
END:VEVENT
BEGIN:VEVENT
DTSTART;TZID=Europe/Amsterdam:20250408T200000
DTEND;TZID=Europe/Amsterdam:20250408T200000
DTSTAMP:20260423T001602
CREATED:20240824T125702Z
LAST-MODIFIED:20240824T125702Z
UID:16785-1744142400-1744142400@meppelerschaakvereniging.nl
SUMMARY:MSV 1 - Het Zwarte Paard 1  (SOS)
DESCRIPTION:Zie: https://sosc.netstand.nl/rounds/view/2806
URL:https://meppelerschaakvereniging.nl/agenda/msv-1-het-zwarte-paard-1-sos/
LOCATION:Stadscafe Oasis\, Kerkplein 15\, Meppel\, 7941 BG\, Nederland
CATEGORIES:Senioren extern
END:VEVENT
BEGIN:VEVENT
DTSTART;TZID=Europe/Amsterdam:20250408T200000
DTEND;TZID=Europe/Amsterdam:20250408T200000
DTSTAMP:20260423T001602
CREATED:20241113T203201Z
LAST-MODIFIED:20241113T203201Z
UID:17085-1744142400-1744142400@meppelerschaakvereniging.nl
SUMMARY:Intern P3-R6
DESCRIPTION:
URL:https://meppelerschaakvereniging.nl/agenda/intern-p3-r6-2/
LOCATION:Stadscafe Oasis\, Kerkplein 15\, Meppel\, 7941 BG\, Nederland
CATEGORIES:Senioren intern
END:VEVENT
BEGIN:VEVENT
DTSTART;TZID=Europe/Amsterdam:20250415T200000
DTEND;TZID=Europe/Amsterdam:20250415T200000
DTSTAMP:20260423T001602
CREATED:20241113T203236Z
LAST-MODIFIED:20241113T203236Z
UID:17087-1744747200-1744747200@meppelerschaakvereniging.nl
SUMMARY:Intern P3-R7
DESCRIPTION:
URL:https://meppelerschaakvereniging.nl/agenda/intern-p3-r7-2/
LOCATION:Stadscafe Oasis\, Kerkplein 15\, Meppel\, 7941 BG\, Nederland
CATEGORIES:Senioren intern
END:VEVENT
BEGIN:VEVENT
DTSTART;TZID=Europe/Amsterdam:20250417T200000
DTEND;TZID=Europe/Amsterdam:20250417T200000
DTSTAMP:20260423T001602
CREATED:20240824T124650Z
LAST-MODIFIED:20240824T124650Z
UID:16770-1744920000-1744920000@meppelerschaakvereniging.nl
SUMMARY:ZZS! 2 - MSV 2  (SOS)
DESCRIPTION:Zie: https://sosc.netstand.nl/rounds/view/2861
URL:https://meppelerschaakvereniging.nl/agenda/zzs-2-msv-2-sos-2/
CATEGORIES:Senioren extern
END:VEVENT
BEGIN:VEVENT
DTSTART;TZID=Europe/Amsterdam:20250422T200000
DTEND;TZID=Europe/Amsterdam:20250422T200000
DTSTAMP:20260423T001602
CREATED:20241113T203310Z
LAST-MODIFIED:20241113T203310Z
UID:17089-1745352000-1745352000@meppelerschaakvereniging.nl
SUMMARY:Intern P3-R8
DESCRIPTION:
URL:https://meppelerschaakvereniging.nl/agenda/intern-p3-r8-2/
LOCATION:Stadscafe Oasis\, Kerkplein 15\, Meppel\, 7941 BG\, Nederland
CATEGORIES:Senioren intern
END:VEVENT
BEGIN:VEVENT
DTSTART;TZID=Europe/Amsterdam:20250429T200000
DTEND;TZID=Europe/Amsterdam:20250429T200000
DTSTAMP:20260423T001602
CREATED:20241113T203354Z
LAST-MODIFIED:20241113T203354Z
UID:17091-1745956800-1745956800@meppelerschaakvereniging.nl
SUMMARY:Intern P4-R1
DESCRIPTION:
URL:https://meppelerschaakvereniging.nl/agenda/intern-p4-r1-2/
LOCATION:Stadscafe Oasis\, Kerkplein 15\, Meppel\, 7941 BG\, Nederland
CATEGORIES:Senioren intern
END:VEVENT
BEGIN:VEVENT
DTSTART;TZID=Europe/Amsterdam:20250506T200000
DTEND;TZID=Europe/Amsterdam:20250506T200000
DTSTAMP:20260423T001602
CREATED:20241113T203428Z
LAST-MODIFIED:20241113T203428Z
UID:17093-1746561600-1746561600@meppelerschaakvereniging.nl
SUMMARY:Intern P4-R2
DESCRIPTION:
URL:https://meppelerschaakvereniging.nl/agenda/intern-p4-r2-2/
LOCATION:Stadscafe Oasis\, Kerkplein 15\, Meppel\, 7941 BG\, Nederland
CATEGORIES:Senioren intern
END:VEVENT
BEGIN:VEVENT
DTSTART;TZID=Europe/Amsterdam:20250510T130000
DTEND;TZID=Europe/Amsterdam:20250510T190000
DTSTAMP:20260423T001602
CREATED:20240815T204330Z
LAST-MODIFIED:20240815T204330Z
UID:16742-1746882000-1746903600@meppelerschaakvereniging.nl
SUMMARY:Zevenaar 1 - MSV 1  (KNSB)
DESCRIPTION:
URL:https://meppelerschaakvereniging.nl/agenda/zevenaar-1-msv-1-knsb/
CATEGORIES:Senioren extern
END:VEVENT
BEGIN:VEVENT
DTSTART;TZID=Europe/Amsterdam:20250513T200000
DTEND;TZID=Europe/Amsterdam:20250513T200000
DTSTAMP:20260423T001602
CREATED:20241113T203504Z
LAST-MODIFIED:20241113T203504Z
UID:17095-1747166400-1747166400@meppelerschaakvereniging.nl
SUMMARY:Intern P4-R3
DESCRIPTION:
URL:https://meppelerschaakvereniging.nl/agenda/intern-p4-r3-2/
LOCATION:Stadscafe Oasis\, Kerkplein 15\, Meppel\, 7941 BG\, Nederland
CATEGORIES:Senioren intern
END:VEVENT
BEGIN:VEVENT
DTSTART;TZID=Europe/Amsterdam:20250515T200000
DTEND;TZID=Europe/Amsterdam:20250515T200000
DTSTAMP:20260423T001602
CREATED:20240824T124759Z
LAST-MODIFIED:20241111T153236Z
UID:16772-1747339200-1747339200@meppelerschaakvereniging.nl
SUMMARY:MSV 2 - Pegasus 2  (SOS)
DESCRIPTION:Slotronde bij Caïssa te Elburg. \nZie: https://sosc.netstand.nl/rounds/view/2862
URL:https://meppelerschaakvereniging.nl/agenda/msv-2-pegasus-2/
CATEGORIES:Senioren extern
END:VEVENT
BEGIN:VEVENT
DTSTART;TZID=Europe/Amsterdam:20250515T200000
DTEND;TZID=Europe/Amsterdam:20250515T200000
DTSTAMP:20260423T001602
CREATED:20240824T125802Z
LAST-MODIFIED:20241111T153533Z
UID:16787-1747339200-1747339200@meppelerschaakvereniging.nl
SUMMARY:Borne 1 - MSV 1  (SOS)
DESCRIPTION:Slotronde bij Het Zwarte Paard te Ommen. \nZie: https://sosc.netstand.nl/rounds/view/2807
URL:https://meppelerschaakvereniging.nl/agenda/borne-1-msv-1-sos/
CATEGORIES:Senioren extern
END:VEVENT
BEGIN:VEVENT
DTSTART;TZID=Europe/Amsterdam:20250520T200000
DTEND;TZID=Europe/Amsterdam:20250520T200000
DTSTAMP:20260423T001602
CREATED:20241113T203538Z
LAST-MODIFIED:20241113T203538Z
UID:17097-1747771200-1747771200@meppelerschaakvereniging.nl
SUMMARY:Intern P4-R4
DESCRIPTION:
URL:https://meppelerschaakvereniging.nl/agenda/intern-p4-r4-2/
LOCATION:Stadscafe Oasis\, Kerkplein 15\, Meppel\, 7941 BG\, Nederland
CATEGORIES:Senioren intern
END:VEVENT
BEGIN:VEVENT
DTSTART;TZID=Europe/Amsterdam:20250527T200000
DTEND;TZID=Europe/Amsterdam:20250527T200000
DTSTAMP:20260423T001602
CREATED:20241113T203616Z
LAST-MODIFIED:20241113T203616Z
UID:17099-1748376000-1748376000@meppelerschaakvereniging.nl
SUMMARY:Intern P4-R5
DESCRIPTION:
URL:https://meppelerschaakvereniging.nl/agenda/intern-p4-r5-2/
LOCATION:Stadscafe Oasis\, Kerkplein 15\, Meppel\, 7941 BG\, Nederland
CATEGORIES:Senioren intern
END:VEVENT
BEGIN:VEVENT
DTSTART;TZID=Europe/Amsterdam:20250603T200000
DTEND;TZID=Europe/Amsterdam:20250603T200000
DTSTAMP:20260423T001602
CREATED:20241113T203655Z
LAST-MODIFIED:20241113T203655Z
UID:17101-1748980800-1748980800@meppelerschaakvereniging.nl
SUMMARY:Intern P4-R6
DESCRIPTION:
URL:https://meppelerschaakvereniging.nl/agenda/intern-p4-r6-2/
LOCATION:Stadscafe Oasis\, Kerkplein 15\, Meppel\, 7941 BG\, Nederland
CATEGORIES:Senioren intern
END:VEVENT
BEGIN:VEVENT
DTSTART;TZID=Europe/Amsterdam:20250610T200000
DTEND;TZID=Europe/Amsterdam:20250610T200000
DTSTAMP:20260423T001602
CREATED:20241113T203732Z
LAST-MODIFIED:20241113T203732Z
UID:17103-1749585600-1749585600@meppelerschaakvereniging.nl
SUMMARY:Intern P4-R7
DESCRIPTION:
URL:https://meppelerschaakvereniging.nl/agenda/intern-p4-r7-2/
LOCATION:Stadscafe Oasis\, Kerkplein 15\, Meppel\, 7941 BG\, Nederland
CATEGORIES:Senioren intern
END:VEVENT
END:VCALENDAR