BEGIN:VCALENDAR
VERSION:2.0
PRODID:-//Meppeler Schaakvereniging - ECPv6.15.20//NONSGML v1.0//EN
CALSCALE:GREGORIAN
METHOD:PUBLISH
X-WR-CALNAME:Meppeler Schaakvereniging
X-ORIGINAL-URL:https://meppelerschaakvereniging.nl
X-WR-CALDESC:Evenementen voor Meppeler Schaakvereniging
REFRESH-INTERVAL;VALUE=DURATION:PT1H
X-Robots-Tag:noindex
X-PUBLISHED-TTL:PT1H
BEGIN:VTIMEZONE
TZID:Europe/Amsterdam
BEGIN:DAYLIGHT
TZOFFSETFROM:+0100
TZOFFSETTO:+0200
TZNAME:CEST
DTSTART:20190331T010000
END:DAYLIGHT
BEGIN:STANDARD
TZOFFSETFROM:+0200
TZOFFSETTO:+0100
TZNAME:CET
DTSTART:20191027T010000
END:STANDARD
BEGIN:DAYLIGHT
TZOFFSETFROM:+0100
TZOFFSETTO:+0200
TZNAME:CEST
DTSTART:20200329T010000
END:DAYLIGHT
BEGIN:STANDARD
TZOFFSETFROM:+0200
TZOFFSETTO:+0100
TZNAME:CET
DTSTART:20201025T010000
END:STANDARD
BEGIN:DAYLIGHT
TZOFFSETFROM:+0100
TZOFFSETTO:+0200
TZNAME:CEST
DTSTART:20210328T010000
END:DAYLIGHT
BEGIN:STANDARD
TZOFFSETFROM:+0200
TZOFFSETTO:+0100
TZNAME:CET
DTSTART:20211031T010000
END:STANDARD
END:VTIMEZONE
BEGIN:VEVENT
DTSTART;TZID=Europe/Amsterdam:20200526T200000
DTEND;TZID=Europe/Amsterdam:20200526T200000
DTSTAMP:20260424T164944
CREATED:20190922T112737Z
LAST-MODIFIED:20200514T103200Z
UID:13884-1590523200-1590523200@meppelerschaakvereniging.nl
SUMMARY:Intern 5-5 (gecanceld)
DESCRIPTION:
URL:https://meppelerschaakvereniging.nl/agenda/intern-5-5/
CATEGORIES:Senioren intern
END:VEVENT
BEGIN:VEVENT
DTSTART;TZID=Europe/Amsterdam:20200519T200000
DTEND;TZID=Europe/Amsterdam:20200519T223000
DTSTAMP:20260424T164944
CREATED:20200429T200006Z
LAST-MODIFIED:20200429T200006Z
UID:14449-1589918400-1589927400@meppelerschaakvereniging.nl
SUMMARY:Internet rapid schaken ronde 6
DESCRIPTION:Ivm Corona virus voorlopig geen schaken op dinsdag bij Ankie\, maar wel een rapid toernooitje op https://www.chess.com/club/meppeler-sv.\nTempo: 10 min + 10 sec per zet.
URL:https://meppelerschaakvereniging.nl/agenda/internet-rapid-schaken-ronde-6-2/
CATEGORIES:Internet
END:VEVENT
BEGIN:VEVENT
DTSTART;TZID=Europe/Amsterdam:20200519T200000
DTEND;TZID=Europe/Amsterdam:20200519T200000
DTSTAMP:20260424T164944
CREATED:20190922T112701Z
LAST-MODIFIED:20200423T171258Z
UID:13882-1589918400-1589918400@meppelerschaakvereniging.nl
SUMMARY:Intern 5-4 (gecanceld)
DESCRIPTION:
URL:https://meppelerschaakvereniging.nl/agenda/intern-5-4/
CATEGORIES:Senioren intern
END:VEVENT
BEGIN:VEVENT
DTSTART;TZID=Europe/Amsterdam:20200516T130000
DTEND;TZID=Europe/Amsterdam:20200516T130000
DTSTAMP:20260424T164944
CREATED:20190922T113843Z
LAST-MODIFIED:20200404T143915Z
UID:13910-1589634000-1589634000@meppelerschaakvereniging.nl
SUMMARY:MSV 1 - SSC 1922 1  (gecanceld)
DESCRIPTION:
URL:https://meppelerschaakvereniging.nl/agenda/msv-1-ssc-1922-1/
CATEGORIES:Senioren extern
END:VEVENT
BEGIN:VEVENT
DTSTART;TZID=Europe/Amsterdam:20200512T200000
DTEND;TZID=Europe/Amsterdam:20200512T223000
DTSTAMP:20260424T164944
CREATED:20200429T180931Z
LAST-MODIFIED:20200429T195800Z
UID:14446-1589313600-1589322600@meppelerschaakvereniging.nl
SUMMARY:Internet rapid schaken ronde 5
DESCRIPTION:Ivm Corona virus voorlopig geen schaken op dinsdag bij Ankie\, maar wel een rapid toernooitje op https://www.chess.com/club/meppeler-sv.\nTempo: 10 min + 10 sec per zet.
URL:https://meppelerschaakvereniging.nl/agenda/internet-rapid-schaken-ronde-6/
CATEGORIES:Internet
END:VEVENT
BEGIN:VEVENT
DTSTART;TZID=Europe/Amsterdam:20200512T200000
DTEND;TZID=Europe/Amsterdam:20200512T200000
DTSTAMP:20260424T164944
CREATED:20190922T112637Z
LAST-MODIFIED:20200423T171218Z
UID:13880-1589313600-1589313600@meppelerschaakvereniging.nl
SUMMARY:Intern 5-3 (gecanceld)
DESCRIPTION:
URL:https://meppelerschaakvereniging.nl/agenda/intern-5-3/
CATEGORIES:Senioren intern
END:VEVENT
BEGIN:VEVENT
DTSTART;TZID=Europe/Amsterdam:20200511T200000
DTEND;TZID=Europe/Amsterdam:20200511T200000
DTSTAMP:20260424T164944
CREATED:20191007T193634Z
LAST-MODIFIED:20200401T184249Z
UID:13993-1589227200-1589227200@meppelerschaakvereniging.nl
SUMMARY:O&O 1 - MSV 1-4 (gecanceld)
DESCRIPTION:
URL:https://meppelerschaakvereniging.nl/agenda/oo-1-msv-1-4/
CATEGORIES:Senioren extern
END:VEVENT
BEGIN:VEVENT
DTSTART;TZID=Europe/Amsterdam:20200505T200000
DTEND;TZID=Europe/Amsterdam:20200505T223000
DTSTAMP:20260424T164944
CREATED:20200429T180813Z
LAST-MODIFIED:20200429T180813Z
UID:14444-1588708800-1588717800@meppelerschaakvereniging.nl
SUMMARY:Internet rapid schaken ronde 4
DESCRIPTION:Ivm Corona virus voorlopig geen schaken op dinsdag bij Ankie\, maar wel een rapid toernooitje op https://www.chess.com/club/meppeler-sv.\nTempo: 10 min + 10 sec per zet.
URL:https://meppelerschaakvereniging.nl/agenda/internet-rapid-schaken-ronde-4/
CATEGORIES:Internet
END:VEVENT
BEGIN:VEVENT
DTSTART;TZID=Europe/Amsterdam:20200505T200000
DTEND;TZID=Europe/Amsterdam:20200505T200000
DTSTAMP:20260424T164944
CREATED:20190922T112609Z
LAST-MODIFIED:20200423T171136Z
UID:13878-1588708800-1588708800@meppelerschaakvereniging.nl
SUMMARY:Intern 5-2 (gecanceld)
DESCRIPTION:
URL:https://meppelerschaakvereniging.nl/agenda/intern-5-2/
CATEGORIES:Senioren intern
END:VEVENT
BEGIN:VEVENT
DTSTART;TZID=Europe/Amsterdam:20200428T200000
DTEND;TZID=Europe/Amsterdam:20200428T223000
DTSTAMP:20260424T164944
CREATED:20200423T173740Z
LAST-MODIFIED:20200423T173911Z
UID:14426-1588104000-1588113000@meppelerschaakvereniging.nl
SUMMARY:Internet rapid schaken ronde 3
DESCRIPTION:Ivm Corona virus voorlopig geen schaken op dinsdag bij Ankie\, maar wel een rapid toernooitje op https://www.chess.com/club/meppeler-sv.\nTempo: 10 min + 10 sec per zet.
URL:https://meppelerschaakvereniging.nl/agenda/internet-rapid-schaken-ronde-3/
CATEGORIES:Internet
END:VEVENT
BEGIN:VEVENT
DTSTART;TZID=Europe/Amsterdam:20200428T200000
DTEND;TZID=Europe/Amsterdam:20200428T200000
DTSTAMP:20260424T164944
CREATED:20190922T112508Z
LAST-MODIFIED:20200331T170853Z
UID:13876-1588104000-1588104000@meppelerschaakvereniging.nl
SUMMARY:Intern 5-1 en Beker (gecanceld)
DESCRIPTION:
URL:https://meppelerschaakvereniging.nl/agenda/intern-5-1-en-beker/
CATEGORIES:Senioren intern
END:VEVENT
BEGIN:VEVENT
DTSTART;TZID=Europe/Amsterdam:20200423T200000
DTEND;TZID=Europe/Amsterdam:20200423T220000
DTSTAMP:20260424T164944
CREATED:20200423T171531Z
LAST-MODIFIED:20200423T172421Z
UID:14423-1587672000-1587679200@meppelerschaakvereniging.nl
SUMMARY:Internet snelschaken
DESCRIPTION:
URL:https://meppelerschaakvereniging.nl/agenda/internet-snelschaken/
CATEGORIES:Internet
END:VEVENT
BEGIN:VEVENT
DTSTART;TZID=Europe/Amsterdam:20200421T200000
DTEND;TZID=Europe/Amsterdam:20200421T220000
DTSTAMP:20260424T164944
CREATED:20200418T140941Z
LAST-MODIFIED:20200423T173932Z
UID:14411-1587499200-1587506400@meppelerschaakvereniging.nl
SUMMARY:Internet rapid schaken ronde 2
DESCRIPTION:Ivm Corona virus voorlopig geen schaken op dinsdag bij Ankie\, maar wel een rapid toernooitje op https://www.chess.com/club/meppeler-sv.\nTempo: 10 min + 10 sec per zet.
URL:https://meppelerschaakvereniging.nl/agenda/internet-schaken-ronde-2/
CATEGORIES:Internet
END:VEVENT
BEGIN:VEVENT
DTSTART;TZID=Europe/Amsterdam:20200421T200000
DTEND;TZID=Europe/Amsterdam:20200421T200000
DTSTAMP:20260424T164944
CREATED:20190922T112433Z
LAST-MODIFIED:20200331T170822Z
UID:13874-1587499200-1587499200@meppelerschaakvereniging.nl
SUMMARY:Rapid/groepjes (gecanceld)
DESCRIPTION:
URL:https://meppelerschaakvereniging.nl/agenda/rapid-groepjes-2/
CATEGORIES:Senioren intern
END:VEVENT
BEGIN:VEVENT
DTSTART;TZID=Europe/Amsterdam:20200418T130000
DTEND;TZID=Europe/Amsterdam:20200418T130000
DTSTAMP:20260424T164944
CREATED:20190922T113801Z
LAST-MODIFIED:20200331T170801Z
UID:13908-1587214800-1587214800@meppelerschaakvereniging.nl
SUMMARY:MSV 1 - Emanuel Lasker 1  (gecanceld)
DESCRIPTION:
URL:https://meppelerschaakvereniging.nl/agenda/msv-1-emanuel-lasker-1/
CATEGORIES:Senioren extern
END:VEVENT
BEGIN:VEVENT
DTSTART;TZID=Europe/Amsterdam:20200414T200000
DTEND;TZID=Europe/Amsterdam:20200414T223000
DTSTAMP:20260424T164944
CREATED:20200411T163556Z
LAST-MODIFIED:20200423T173852Z
UID:14404-1586894400-1586903400@meppelerschaakvereniging.nl
SUMMARY:Internet rapid schaken ronde 1
DESCRIPTION:Ivm Corona virus voorlopig geen schaken op dinsdag bij Ankie\, maar wel een rapid toernooitje op https://www.chess.com/club/meppeler-sv.\nTempo: 10 min + 10 sec per zet.
URL:https://meppelerschaakvereniging.nl/agenda/internet-schaken/
CATEGORIES:Internet
END:VEVENT
BEGIN:VEVENT
DTSTART;TZID=Europe/Amsterdam:20200414T200000
DTEND;TZID=Europe/Amsterdam:20200414T200000
DTSTAMP:20260424T164944
CREATED:20190922T112355Z
LAST-MODIFIED:20200331T170740Z
UID:13872-1586894400-1586894400@meppelerschaakvereniging.nl
SUMMARY:Intern 4-7 (gecanceld)
DESCRIPTION:
URL:https://meppelerschaakvereniging.nl/agenda/intern-4-7-2/
CATEGORIES:Senioren intern
END:VEVENT
BEGIN:VEVENT
DTSTART;TZID=Europe/Amsterdam:20200407T200000
DTEND;TZID=Europe/Amsterdam:20200407T200000
DTSTAMP:20260424T164944
CREATED:20190922T112331Z
LAST-MODIFIED:20200331T170708Z
UID:13870-1586289600-1586289600@meppelerschaakvereniging.nl
SUMMARY:Intern 4-6 (gecanceld)
DESCRIPTION:
URL:https://meppelerschaakvereniging.nl/agenda/intern-4-6-2/
CATEGORIES:Senioren intern
END:VEVENT
BEGIN:VEVENT
DTSTART;TZID=Europe/Amsterdam:20200403T200000
DTEND;TZID=Europe/Amsterdam:20200403T200000
DTSTAMP:20260424T164944
CREATED:20190925T171330Z
LAST-MODIFIED:20200316T194113Z
UID:13960-1585944000-1585944000@meppelerschaakvereniging.nl
SUMMARY:MSV 3-8 - Schaakstad Apeldoorn 5J  (gecanceld)
DESCRIPTION:Slotronde bij Schaakstad Apeldoorn
URL:https://meppelerschaakvereniging.nl/agenda/msv-3-8-schaakstad-apeldoorn-5j/
CATEGORIES:Senioren extern
END:VEVENT
BEGIN:VEVENT
DTSTART;TZID=Europe/Amsterdam:20200403T200000
DTEND;TZID=Europe/Amsterdam:20200403T200000
DTSTAMP:20260424T164944
CREATED:20190925T170742Z
LAST-MODIFIED:20200316T194049Z
UID:13948-1585944000-1585944000@meppelerschaakvereniging.nl
SUMMARY:MSV 2-8 - S.C. Dronten 1 (gecanceld)
DESCRIPTION:Slotronde bij Swols S.G.
URL:https://meppelerschaakvereniging.nl/agenda/msv-2-8-s-c-dronten-1/
CATEGORIES:Senioren extern
END:VEVENT
BEGIN:VEVENT
DTSTART;TZID=Europe/Amsterdam:20200331T200000
DTEND;TZID=Europe/Amsterdam:20200331T200000
DTSTAMP:20260424T164944
CREATED:20190925T165958Z
LAST-MODIFIED:20200316T193704Z
UID:13934-1585684800-1585684800@meppelerschaakvereniging.nl
SUMMARY:MSV 1-8 - Veenendaalse S.V. 1 (gecanceld)
DESCRIPTION:Slotronde bij Veluws S.G.
URL:https://meppelerschaakvereniging.nl/agenda/msv-1-8-veenendaalse-s-v-1/
CATEGORIES:Senioren extern
END:VEVENT
BEGIN:VEVENT
DTSTART;TZID=Europe/Amsterdam:20200331T200000
DTEND;TZID=Europe/Amsterdam:20200331T200000
DTSTAMP:20260424T164944
CREATED:20190922T112300Z
LAST-MODIFIED:20200316T194016Z
UID:13868-1585684800-1585684800@meppelerschaakvereniging.nl
SUMMARY:Intern 4-5 (gecanceld)
DESCRIPTION:
URL:https://meppelerschaakvereniging.nl/agenda/intern-4-5-2/
CATEGORIES:Senioren intern
END:VEVENT
BEGIN:VEVENT
DTSTART;TZID=Europe/Amsterdam:20200328T130000
DTEND;TZID=Europe/Amsterdam:20200328T130000
DTSTAMP:20260424T164944
CREATED:20190922T113708Z
LAST-MODIFIED:20200316T193932Z
UID:13906-1585400400-1585400400@meppelerschaakvereniging.nl
SUMMARY:Arnhemse Schaakacademie 1 -  MSV 1 (gecanceld)
DESCRIPTION:
URL:https://meppelerschaakvereniging.nl/agenda/arnhemse-schaakacademie-1-msv-1/
CATEGORIES:Senioren extern
END:VEVENT
BEGIN:VEVENT
DTSTART;TZID=Europe/Amsterdam:20200324T200000
DTEND;TZID=Europe/Amsterdam:20200324T200000
DTSTAMP:20260424T164944
CREATED:20191007T193435Z
LAST-MODIFIED:20200316T193904Z
UID:13991-1585080000-1585080000@meppelerschaakvereniging.nl
SUMMARY:Denk en Zet / N.G.K.Z. 1 - MSV 1-4  (gecanceld)
DESCRIPTION:
URL:https://meppelerschaakvereniging.nl/agenda/denk-en-zet-n-g-k-z-1-msv-1-4/
CATEGORIES:Senioren extern
END:VEVENT
BEGIN:VEVENT
DTSTART;TZID=Europe/Amsterdam:20200324T200000
DTEND;TZID=Europe/Amsterdam:20200324T200000
DTSTAMP:20260424T164944
CREATED:20190922T112224Z
LAST-MODIFIED:20200316T193837Z
UID:13866-1585080000-1585080000@meppelerschaakvereniging.nl
SUMMARY:Intern 4-4 (gecanceld)
DESCRIPTION:
URL:https://meppelerschaakvereniging.nl/agenda/intern-4-4-2/
CATEGORIES:Senioren intern
END:VEVENT
BEGIN:VEVENT
DTSTART;TZID=Europe/Amsterdam:20200317T200000
DTEND;TZID=Europe/Amsterdam:20200317T200000
DTSTAMP:20260424T164944
CREATED:20190922T112157Z
LAST-MODIFIED:20200316T193814Z
UID:13864-1584475200-1584475200@meppelerschaakvereniging.nl
SUMMARY:Intern 4-3 (gecanceld)
DESCRIPTION:
URL:https://meppelerschaakvereniging.nl/agenda/intern-4-3-2/
CATEGORIES:Senioren intern
END:VEVENT
BEGIN:VEVENT
DTSTART;TZID=Europe/Amsterdam:20200316T200000
DTEND;TZID=Europe/Amsterdam:20200316T200000
DTSTAMP:20260424T164944
CREATED:20190925T171219Z
LAST-MODIFIED:20200316T193738Z
UID:13958-1584388800-1584388800@meppelerschaakvereniging.nl
SUMMARY:Voorster SC 2 - MSV 3-8 (gecanceld)
DESCRIPTION:
URL:https://meppelerschaakvereniging.nl/agenda/twellose-sc-1-msv-3-8/
CATEGORIES:Senioren extern
END:VEVENT
BEGIN:VEVENT
DTSTART;TZID=Europe/Amsterdam:20200310T200000
DTEND;TZID=Europe/Amsterdam:20200310T200000
DTSTAMP:20260424T164944
CREATED:20190925T170607Z
LAST-MODIFIED:20190925T170607Z
UID:13946-1583870400-1583870400@meppelerschaakvereniging.nl
SUMMARY:Denk en Zet / N.G.K.Z. 1 - MSV 2-8
DESCRIPTION:
URL:https://meppelerschaakvereniging.nl/agenda/denk-en-zet-n-g-k-z-1-msv-2-8/
CATEGORIES:Senioren extern
END:VEVENT
BEGIN:VEVENT
DTSTART;TZID=Europe/Amsterdam:20200310T200000
DTEND;TZID=Europe/Amsterdam:20200310T200000
DTSTAMP:20260424T164944
CREATED:20190925T165754Z
LAST-MODIFIED:20190925T165754Z
UID:13932-1583870400-1583870400@meppelerschaakvereniging.nl
SUMMARY:MSV 1-8 - Arnhemsche S.V. 1
DESCRIPTION:
URL:https://meppelerschaakvereniging.nl/agenda/msv-1-8-arnhemsche-s-v-1/
CATEGORIES:Senioren extern
END:VEVENT
BEGIN:VEVENT
DTSTART;TZID=Europe/Amsterdam:20200310T200000
DTEND;TZID=Europe/Amsterdam:20200310T200000
DTSTAMP:20260424T164944
CREATED:20190922T112131Z
LAST-MODIFIED:20190922T112131Z
UID:13862-1583870400-1583870400@meppelerschaakvereniging.nl
SUMMARY:Intern 4-2
DESCRIPTION:
URL:https://meppelerschaakvereniging.nl/agenda/intern-4-2/
CATEGORIES:Senioren intern
END:VEVENT
END:VCALENDAR