BEGIN:VCALENDAR
VERSION:2.0
PRODID:-//Meppeler Schaakvereniging - ECPv6.15.20//NONSGML v1.0//EN
CALSCALE:GREGORIAN
METHOD:PUBLISH
X-WR-CALNAME:Meppeler Schaakvereniging
X-ORIGINAL-URL:https://meppelerschaakvereniging.nl
X-WR-CALDESC:Evenementen voor Meppeler Schaakvereniging
REFRESH-INTERVAL;VALUE=DURATION:PT1H
X-Robots-Tag:noindex
X-PUBLISHED-TTL:PT1H
BEGIN:VTIMEZONE
TZID:Europe/Amsterdam
BEGIN:DAYLIGHT
TZOFFSETFROM:+0100
TZOFFSETTO:+0200
TZNAME:CEST
DTSTART:20190331T010000
END:DAYLIGHT
BEGIN:STANDARD
TZOFFSETFROM:+0200
TZOFFSETTO:+0100
TZNAME:CET
DTSTART:20191027T010000
END:STANDARD
BEGIN:DAYLIGHT
TZOFFSETFROM:+0100
TZOFFSETTO:+0200
TZNAME:CEST
DTSTART:20200329T010000
END:DAYLIGHT
BEGIN:STANDARD
TZOFFSETFROM:+0200
TZOFFSETTO:+0100
TZNAME:CET
DTSTART:20201025T010000
END:STANDARD
BEGIN:DAYLIGHT
TZOFFSETFROM:+0100
TZOFFSETTO:+0200
TZNAME:CEST
DTSTART:20210328T010000
END:DAYLIGHT
BEGIN:STANDARD
TZOFFSETFROM:+0200
TZOFFSETTO:+0100
TZNAME:CET
DTSTART:20211031T010000
END:STANDARD
END:VTIMEZONE
BEGIN:VEVENT
DTSTART;TZID=Europe/Amsterdam:20201229T200000
DTEND;TZID=Europe/Amsterdam:20201229T200000
DTSTAMP:20260424T162047
CREATED:20201218T212159Z
LAST-MODIFIED:20201218T212159Z
UID:14829-1609272000-1609272000@meppelerschaakvereniging.nl
SUMMARY:Internet rapid schaken 11
DESCRIPTION:Ivm Corona virus voorlopig geen schaken bij Ankie\, maar wel een rapid toernooitje op https://lichess.org/team/meppeler-sv\nTempo: 10 min + 10 sec per zet.
URL:https://meppelerschaakvereniging.nl/agenda/internet-rapid-schaken-11/
CATEGORIES:Internet
END:VEVENT
BEGIN:VEVENT
DTSTART;TZID=Europe/Amsterdam:20201222T200000
DTEND;TZID=Europe/Amsterdam:20201222T200000
DTSTAMP:20260424T162047
CREATED:20201118T182304Z
LAST-MODIFIED:20201118T182304Z
UID:14780-1608667200-1608667200@meppelerschaakvereniging.nl
SUMMARY:Internet rapid schaken 10
DESCRIPTION:Ivm Corona virus voorlopig geen schaken bij Ankie\, maar wel een rapid toernooitje op https://lichess.org/team/meppeler-sv\nTempo: 10 min + 10 sec per zet.
URL:https://meppelerschaakvereniging.nl/agenda/internet-rapid-schaken-10/
CATEGORIES:Internet
END:VEVENT
BEGIN:VEVENT
DTSTART;TZID=Europe/Amsterdam:20201215T200000
DTEND;TZID=Europe/Amsterdam:20201215T200000
DTSTAMP:20260424T162047
CREATED:20201118T182231Z
LAST-MODIFIED:20201118T182231Z
UID:14778-1608062400-1608062400@meppelerschaakvereniging.nl
SUMMARY:Internet rapid schaken 9
DESCRIPTION:Ivm Corona virus voorlopig geen schaken bij Ankie\, maar wel een rapid toernooitje op https://lichess.org/team/meppeler-sv\nTempo: 10 min + 10 sec per zet.
URL:https://meppelerschaakvereniging.nl/agenda/internet-rapid-schaken-9/
CATEGORIES:Internet
END:VEVENT
BEGIN:VEVENT
DTSTART;TZID=Europe/Amsterdam:20201208T200000
DTEND;TZID=Europe/Amsterdam:20201208T200000
DTSTAMP:20260424T162047
CREATED:20201118T182157Z
LAST-MODIFIED:20201118T182157Z
UID:14776-1607457600-1607457600@meppelerschaakvereniging.nl
SUMMARY:Internet rapid schaken 8
DESCRIPTION:Ivm Corona virus voorlopig geen schaken bij Ankie\, maar wel een rapid toernooitje op https://lichess.org/team/meppeler-sv\nTempo: 10 min + 10 sec per zet.
URL:https://meppelerschaakvereniging.nl/agenda/internet-rapid-schaken-8/
CATEGORIES:Internet
END:VEVENT
BEGIN:VEVENT
DTSTART;TZID=Europe/Amsterdam:20201201T200000
DTEND;TZID=Europe/Amsterdam:20201201T200000
DTSTAMP:20260424T162047
CREATED:20201118T182121Z
LAST-MODIFIED:20201118T182121Z
UID:14774-1606852800-1606852800@meppelerschaakvereniging.nl
SUMMARY:Internet rapid schaken 7
DESCRIPTION:Ivm Corona virus voorlopig geen schaken bij Ankie\, maar wel een rapid toernooitje op https://lichess.org/team/meppeler-sv\nTempo: 10 min + 10 sec per zet.
URL:https://meppelerschaakvereniging.nl/agenda/internet-rapid-schaken-7/
CATEGORIES:Internet
END:VEVENT
BEGIN:VEVENT
DTSTART;TZID=Europe/Amsterdam:20201124T200000
DTEND;TZID=Europe/Amsterdam:20201124T200000
DTSTAMP:20260424T162047
CREATED:20201103T180841Z
LAST-MODIFIED:20201103T180841Z
UID:14754-1606248000-1606248000@meppelerschaakvereniging.nl
SUMMARY:Internet rapid schaken 6
DESCRIPTION:Ivm Corona virus voorlopig geen schaken bij Ankie\, maar wel een rapid toernooitje op https://lichess.org/team/meppeler-sv\nTempo: 10 min + 10 sec per zet.
URL:https://meppelerschaakvereniging.nl/agenda/internet-rapid-schaken-6/
CATEGORIES:Internet
END:VEVENT
BEGIN:VEVENT
DTSTART;TZID=Europe/Amsterdam:20201117T200000
DTEND;TZID=Europe/Amsterdam:20201117T200000
DTSTAMP:20260424T162047
CREATED:20201103T180808Z
LAST-MODIFIED:20201103T180808Z
UID:14752-1605643200-1605643200@meppelerschaakvereniging.nl
SUMMARY:Internet rapid schaken 5
DESCRIPTION:Ivm Corona virus voorlopig geen schaken bij Ankie\, maar wel een rapid toernooitje op https://lichess.org/team/meppeler-sv\nTempo: 10 min + 10 sec per zet.
URL:https://meppelerschaakvereniging.nl/agenda/internet-rapid-schaken-5/
CATEGORIES:Internet
END:VEVENT
BEGIN:VEVENT
DTSTART;TZID=Europe/Amsterdam:20201110T200000
DTEND;TZID=Europe/Amsterdam:20201110T200000
DTSTAMP:20260424T162047
CREATED:20201028T084325Z
LAST-MODIFIED:20201028T084424Z
UID:14736-1605038400-1605038400@meppelerschaakvereniging.nl
SUMMARY:Internet rapid schaken 4
DESCRIPTION:Ivm Corona virus voorlopig geen schaken bij Ankie\, maar wel een rapid toernooitje op https://lichess.org/team/meppeler-sv\nTempo: 10 min + 10 sec per zet.
URL:https://meppelerschaakvereniging.nl/agenda/internet-rapid-schaken-4/
CATEGORIES:Internet
END:VEVENT
BEGIN:VEVENT
DTSTART;TZID=Europe/Amsterdam:20201103T200000
DTEND;TZID=Europe/Amsterdam:20201103T200000
DTSTAMP:20260424T162047
CREATED:20201014T194259Z
LAST-MODIFIED:20201014T194259Z
UID:14714-1604433600-1604433600@meppelerschaakvereniging.nl
SUMMARY:Internet rapid schaken 3
DESCRIPTION:Ivm Corona virus voorlopig geen schaken bij Ankie\, maar wel een rapid toernooitje op https://lichess.org/team/meppeler-sv\nTempo: 10 min + 10 sec per zet.
URL:https://meppelerschaakvereniging.nl/agenda/internet-rapid-schaken-3/
CATEGORIES:Internet
END:VEVENT
BEGIN:VEVENT
DTSTART;TZID=Europe/Amsterdam:20201027T200000
DTEND;TZID=Europe/Amsterdam:20201027T200000
DTSTAMP:20260424T162047
CREATED:20201014T194153Z
LAST-MODIFIED:20201014T194153Z
UID:14712-1603828800-1603828800@meppelerschaakvereniging.nl
SUMMARY:Internet rapid schaken 2
DESCRIPTION:Ivm Corona virus voorlopig geen schaken bij Ankie\, maar wel een rapid toernooitje op https://lichess.org/team/meppeler-sv\nTempo: 10 min + 10 sec per zet.
URL:https://meppelerschaakvereniging.nl/agenda/internet-rapid-schaken-2/
CATEGORIES:Internet
END:VEVENT
BEGIN:VEVENT
DTSTART;TZID=Europe/Amsterdam:20201020T200000
DTEND;TZID=Europe/Amsterdam:20201020T200000
DTSTAMP:20260424T162047
CREATED:20201014T194053Z
LAST-MODIFIED:20201014T194053Z
UID:14710-1603224000-1603224000@meppelerschaakvereniging.nl
SUMMARY:Internet rapid schaken 1
DESCRIPTION:Ivm Corona virus voorlopig geen schaken bij Ankie\, maar wel een rapid toernooitje op https://lichess.org/team/meppeler-sv\nTempo: 10 min + 10 sec per zet.
URL:https://meppelerschaakvereniging.nl/agenda/internet-rapid-schaken-1/
CATEGORIES:Internet
END:VEVENT
BEGIN:VEVENT
DTSTART;TZID=Europe/Amsterdam:20201013T200000
DTEND;TZID=Europe/Amsterdam:20201013T200000
DTSTAMP:20260424T162047
CREATED:20200924T200156Z
LAST-MODIFIED:20200924T200156Z
UID:14568-1602619200-1602619200@meppelerschaakvereniging.nl
SUMMARY:Intern 4-1
DESCRIPTION:
URL:https://meppelerschaakvereniging.nl/agenda/intern-4-1-2/
CATEGORIES:Senioren intern
END:VEVENT
BEGIN:VEVENT
DTSTART;TZID=Europe/Amsterdam:20201006T200000
DTEND;TZID=Europe/Amsterdam:20201006T200000
DTSTAMP:20260424T162047
CREATED:20200919T174424Z
LAST-MODIFIED:20200919T174424Z
UID:14563-1602014400-1602014400@meppelerschaakvereniging.nl
SUMMARY:Intern 3-1
DESCRIPTION:
URL:https://meppelerschaakvereniging.nl/agenda/intern-3-1/
CATEGORIES:Senioren intern
END:VEVENT
BEGIN:VEVENT
DTSTART;TZID=Europe/Amsterdam:20200929T200000
DTEND;TZID=Europe/Amsterdam:20200929T200000
DTSTAMP:20260424T162047
CREATED:20200919T173900Z
LAST-MODIFIED:20200919T173900Z
UID:14560-1601409600-1601409600@meppelerschaakvereniging.nl
SUMMARY:Intern 2-1
DESCRIPTION:
URL:https://meppelerschaakvereniging.nl/agenda/intern-2-1/
CATEGORIES:Senioren intern
END:VEVENT
BEGIN:VEVENT
DTSTART;TZID=Europe/Amsterdam:20200922T200000
DTEND;TZID=Europe/Amsterdam:20200922T200000
DTSTAMP:20260424T162047
CREATED:20200901T184128Z
LAST-MODIFIED:20200901T202604Z
UID:14549-1600804800-1600804800@meppelerschaakvereniging.nl
SUMMARY:Intern 1-1
DESCRIPTION:
URL:https://meppelerschaakvereniging.nl/agenda/intern-1-1-2/
CATEGORIES:Senioren intern
END:VEVENT
BEGIN:VEVENT
DTSTART;VALUE=DATE:20200915
DTEND;VALUE=DATE:20200916
DTSTAMP:20260424T162047
CREATED:20200901T184032Z
LAST-MODIFIED:20200901T202413Z
UID:14546-1600128000-1600214399@meppelerschaakvereniging.nl
SUMMARY:Jaarvergadering om 19:45
DESCRIPTION:Aanvang: 19:45\nEventueel schaken na afloop.
URL:https://meppelerschaakvereniging.nl/agenda/jaarvergadering/
LOCATION:Onderwijspark Ezinge\, Ezingerweg 52\, Meppel\, 7943 AZ\, Nederland
CATEGORIES:Jeugd,Senioren intern
END:VEVENT
BEGIN:VEVENT
DTSTART;TZID=Europe/Amsterdam:20200908T200000
DTEND;TZID=Europe/Amsterdam:20200908T223000
DTSTAMP:20260424T162047
CREATED:20200901T183742Z
LAST-MODIFIED:20200901T183742Z
UID:14544-1599595200-1599604200@meppelerschaakvereniging.nl
SUMMARY:Internet rapid schaken ronde 22
DESCRIPTION:Ivm Corona virus voorlopig online rapid toernooitje op https://lichess.org/team/meppeler-sv\nTempo: 10 min + 10 sec per zet.
URL:https://meppelerschaakvereniging.nl/agenda/internet-rapid-schaken-ronde-22/
CATEGORIES:Internet
END:VEVENT
BEGIN:VEVENT
DTSTART;TZID=Europe/Amsterdam:20200901T200000
DTEND;TZID=Europe/Amsterdam:20200901T223000
DTSTAMP:20260424T162047
CREATED:20200901T102926Z
LAST-MODIFIED:20200901T183730Z
UID:14541-1598990400-1598999400@meppelerschaakvereniging.nl
SUMMARY:Internet rapid schaken ronde 21
DESCRIPTION:Ivm Corona virus voorlopig online rapid toernooitje op https://lichess.org/team/meppeler-sv\nTempo: 10 min + 10 sec per zet.
URL:https://meppelerschaakvereniging.nl/agenda/internet-rapid-schaken-ronde-21/
CATEGORIES:Internet
END:VEVENT
BEGIN:VEVENT
DTSTART;TZID=Europe/Amsterdam:20200825T200000
DTEND;TZID=Europe/Amsterdam:20200825T223000
DTSTAMP:20260424T162047
CREATED:20200703T144624Z
LAST-MODIFIED:20200703T144624Z
UID:14515-1598385600-1598394600@meppelerschaakvereniging.nl
SUMMARY:Internet rapid schaken ronde 20
DESCRIPTION:Ivm Corona virus voorlopig geen zomerschaak bij Oasis\, maar wel een rapid toernooitje op https://www.chess.com/club/meppeler-sv.\nTempo: 10 min + 10 sec per zet.
URL:https://meppelerschaakvereniging.nl/agenda/internet-rapid-schaken-ronde-20/
CATEGORIES:Internet
END:VEVENT
BEGIN:VEVENT
DTSTART;TZID=Europe/Amsterdam:20200818T200000
DTEND;TZID=Europe/Amsterdam:20200818T223000
DTSTAMP:20260424T162047
CREATED:20200703T144509Z
LAST-MODIFIED:20200703T144509Z
UID:14513-1597780800-1597789800@meppelerschaakvereniging.nl
SUMMARY:Internet rapid schaken ronde 19
DESCRIPTION:Ivm Corona virus voorlopig geen zomerschaak bij Oasis\, maar wel een rapid toernooitje op https://www.chess.com/club/meppeler-sv.\nTempo: 10 min + 10 sec per zet.
URL:https://meppelerschaakvereniging.nl/agenda/internet-rapid-schaken-ronde-19/
CATEGORIES:Internet
END:VEVENT
BEGIN:VEVENT
DTSTART;TZID=Europe/Amsterdam:20200811T200000
DTEND;TZID=Europe/Amsterdam:20200811T223000
DTSTAMP:20260424T162047
CREATED:20200703T144415Z
LAST-MODIFIED:20200703T144702Z
UID:14511-1597176000-1597185000@meppelerschaakvereniging.nl
SUMMARY:Internet rapid schaken ronde 18
DESCRIPTION:Ivm Corona virus voorlopig geen zomerschaak bij Oasis\, maar wel een rapid toernooitje op https://www.chess.com/club/meppeler-sv.\nTempo: 10 min + 10 sec per zet.
URL:https://meppelerschaakvereniging.nl/agenda/internet-rapid-schaken-ronde-18/
CATEGORIES:Internet
END:VEVENT
BEGIN:VEVENT
DTSTART;TZID=Europe/Amsterdam:20200804T200000
DTEND;TZID=Europe/Amsterdam:20200804T223000
DTSTAMP:20260424T162047
CREATED:20200703T144327Z
LAST-MODIFIED:20200703T144639Z
UID:14505-1596571200-1596580200@meppelerschaakvereniging.nl
SUMMARY:Internet rapid schaken ronde 17
DESCRIPTION:Ivm Corona virus voorlopig geen zomerschaak bij Oasis\, maar wel een rapid toernooitje op https://www.chess.com/club/meppeler-sv.\nTempo: 10 min + 10 sec per zet.
URL:https://meppelerschaakvereniging.nl/agenda/internet-rapid-schaken-ronde-17/
CATEGORIES:Internet
END:VEVENT
BEGIN:VEVENT
DTSTART;TZID=Europe/Amsterdam:20200728T200000
DTEND;TZID=Europe/Amsterdam:20200728T223000
DTSTAMP:20260424T162047
CREATED:20200604T175553Z
LAST-MODIFIED:20200703T144116Z
UID:14492-1595966400-1595975400@meppelerschaakvereniging.nl
SUMMARY:Internet rapid schaken ronde 16
DESCRIPTION:Ivm Corona virus voorlopig geen zomerschaak bij Oasis\, maar wel een rapid toernooitje op https://www.chess.com/club/meppeler-sv.\nTempo: 10 min + 10 sec per zet.
URL:https://meppelerschaakvereniging.nl/agenda/internet-rapid-schaken-ronde-16/
CATEGORIES:Internet
END:VEVENT
BEGIN:VEVENT
DTSTART;TZID=Europe/Amsterdam:20200721T200000
DTEND;TZID=Europe/Amsterdam:20200721T223000
DTSTAMP:20260424T162047
CREATED:20200604T175447Z
LAST-MODIFIED:20200703T144059Z
UID:14490-1595361600-1595370600@meppelerschaakvereniging.nl
SUMMARY:Internet rapid schaken ronde 15
DESCRIPTION:Ivm Corona virus voorlopig geen zomerschaak bij Oasis\, maar wel een rapid toernooitje op https://www.chess.com/club/meppeler-sv.\nTempo: 10 min + 10 sec per zet.
URL:https://meppelerschaakvereniging.nl/agenda/internet-rapid-schaken-ronde-15/
CATEGORIES:Internet
END:VEVENT
BEGIN:VEVENT
DTSTART;TZID=Europe/Amsterdam:20200714T200000
DTEND;TZID=Europe/Amsterdam:20200714T223000
DTSTAMP:20260424T162047
CREATED:20200604T175316Z
LAST-MODIFIED:20200703T144042Z
UID:14487-1594756800-1594765800@meppelerschaakvereniging.nl
SUMMARY:Internet rapid schaken ronde 14
DESCRIPTION:Ivm Corona virus voorlopig geen zomerschaak bij Oasis\, maar wel een rapid toernooitje op https://www.chess.com/club/meppeler-sv.\nTempo: 10 min + 10 sec per zet.
URL:https://meppelerschaakvereniging.nl/agenda/internet-rapid-schaken-ronde-14/
CATEGORIES:Internet
END:VEVENT
BEGIN:VEVENT
DTSTART;TZID=Europe/Amsterdam:20200707T200000
DTEND;TZID=Europe/Amsterdam:20200707T223000
DTSTAMP:20260424T162047
CREATED:20200604T175216Z
LAST-MODIFIED:20200703T144024Z
UID:14485-1594152000-1594161000@meppelerschaakvereniging.nl
SUMMARY:Internet rapid schaken ronde 13
DESCRIPTION:Ivm Corona virus voorlopig geen zomerschaak bij Oasis\, maar wel een rapid toernooitje op https://www.chess.com/club/meppeler-sv.\nTempo: 10 min + 10 sec per zet.
URL:https://meppelerschaakvereniging.nl/agenda/internet-rapid-schaken-ronde-13/
CATEGORIES:Internet
END:VEVENT
BEGIN:VEVENT
DTSTART;TZID=Europe/Amsterdam:20200630T200000
DTEND;TZID=Europe/Amsterdam:20200630T223000
DTSTAMP:20260424T162047
CREATED:20200604T175110Z
LAST-MODIFIED:20200604T175110Z
UID:14483-1593547200-1593556200@meppelerschaakvereniging.nl
SUMMARY:Internet rapid schaken ronde 12
DESCRIPTION:Ivm Corona virus voorlopig geen schaken op dinsdag bij Ankie\, maar wel een rapid toernooitje op https://www.chess.com/club/meppeler-sv.\nTempo: 10 min + 10 sec per zet.
URL:https://meppelerschaakvereniging.nl/agenda/internet-rapid-schaken-ronde-12/
CATEGORIES:Internet
END:VEVENT
BEGIN:VEVENT
DTSTART;TZID=Europe/Amsterdam:20200623T200000
DTEND;TZID=Europe/Amsterdam:20200623T223000
DTSTAMP:20260424T162047
CREATED:20200604T174917Z
LAST-MODIFIED:20200604T174945Z
UID:14480-1592942400-1592951400@meppelerschaakvereniging.nl
SUMMARY:Internet rapid schaken ronde 11
DESCRIPTION:Ivm Corona virus voorlopig geen schaken op dinsdag bij Ankie\, maar wel een rapid toernooitje op https://www.chess.com/club/meppeler-sv.\nTempo: 10 min + 10 sec per zet.
URL:https://meppelerschaakvereniging.nl/agenda/internet-rapid-schaken-ronde-10-2/
CATEGORIES:Internet
END:VEVENT
BEGIN:VEVENT
DTSTART;TZID=Europe/Amsterdam:20200616T200000
DTEND;TZID=Europe/Amsterdam:20200616T223000
DTSTAMP:20260424T162047
CREATED:20200514T104112Z
LAST-MODIFIED:20200514T104112Z
UID:14471-1592337600-1592346600@meppelerschaakvereniging.nl
SUMMARY:Internet rapid schaken ronde 10
DESCRIPTION:Ivm Corona virus voorlopig geen schaken op dinsdag bij Ankie\, maar wel een rapid toernooitje op https://www.chess.com/club/meppeler-sv.\nTempo: 10 min + 10 sec per zet.
URL:https://meppelerschaakvereniging.nl/agenda/internet-rapid-schaken-ronde-10/
CATEGORIES:Internet
END:VEVENT
BEGIN:VEVENT
DTSTART;TZID=Europe/Amsterdam:20200616T200000
DTEND;TZID=Europe/Amsterdam:20200616T200000
DTSTAMP:20260424T162047
CREATED:20190922T112923Z
LAST-MODIFIED:20200514T103334Z
UID:13890-1592337600-1592337600@meppelerschaakvereniging.nl
SUMMARY:Rapid/groepjes (gecanceld)
DESCRIPTION:
URL:https://meppelerschaakvereniging.nl/agenda/rapid-groepjes-3/
CATEGORIES:Senioren intern
END:VEVENT
END:VCALENDAR