BEGIN:VCALENDAR
VERSION:2.0
PRODID:-//Meppeler Schaakvereniging - ECPv6.15.20//NONSGML v1.0//EN
CALSCALE:GREGORIAN
METHOD:PUBLISH
X-WR-CALNAME:Meppeler Schaakvereniging
X-ORIGINAL-URL:https://meppelerschaakvereniging.nl
X-WR-CALDESC:Evenementen voor Meppeler Schaakvereniging
REFRESH-INTERVAL;VALUE=DURATION:PT1H
X-Robots-Tag:noindex
X-PUBLISHED-TTL:PT1H
BEGIN:VTIMEZONE
TZID:Europe/Amsterdam
BEGIN:DAYLIGHT
TZOFFSETFROM:+0100
TZOFFSETTO:+0200
TZNAME:CEST
DTSTART:20190331T010000
END:DAYLIGHT
BEGIN:STANDARD
TZOFFSETFROM:+0200
TZOFFSETTO:+0100
TZNAME:CET
DTSTART:20191027T010000
END:STANDARD
BEGIN:DAYLIGHT
TZOFFSETFROM:+0100
TZOFFSETTO:+0200
TZNAME:CEST
DTSTART:20200329T010000
END:DAYLIGHT
BEGIN:STANDARD
TZOFFSETFROM:+0200
TZOFFSETTO:+0100
TZNAME:CET
DTSTART:20201025T010000
END:STANDARD
BEGIN:DAYLIGHT
TZOFFSETFROM:+0100
TZOFFSETTO:+0200
TZNAME:CEST
DTSTART:20210328T010000
END:DAYLIGHT
BEGIN:STANDARD
TZOFFSETFROM:+0200
TZOFFSETTO:+0100
TZNAME:CET
DTSTART:20211031T010000
END:STANDARD
END:VTIMEZONE
BEGIN:VEVENT
DTSTART;TZID=Europe/Amsterdam:20200331T200000
DTEND;TZID=Europe/Amsterdam:20200331T200000
DTSTAMP:20260424T200757
CREATED:20190925T165958Z
LAST-MODIFIED:20200316T193704Z
UID:13934-1585684800-1585684800@meppelerschaakvereniging.nl
SUMMARY:MSV 1-8 - Veenendaalse S.V. 1 (gecanceld)
DESCRIPTION:Slotronde bij Veluws S.G.
URL:https://meppelerschaakvereniging.nl/agenda/msv-1-8-veenendaalse-s-v-1/
CATEGORIES:Senioren extern
END:VEVENT
BEGIN:VEVENT
DTSTART;TZID=Europe/Amsterdam:20200331T200000
DTEND;TZID=Europe/Amsterdam:20200331T200000
DTSTAMP:20260424T200757
CREATED:20190922T112300Z
LAST-MODIFIED:20200316T194016Z
UID:13868-1585684800-1585684800@meppelerschaakvereniging.nl
SUMMARY:Intern 4-5 (gecanceld)
DESCRIPTION:
URL:https://meppelerschaakvereniging.nl/agenda/intern-4-5-2/
CATEGORIES:Senioren intern
END:VEVENT
BEGIN:VEVENT
DTSTART;TZID=Europe/Amsterdam:20200328T130000
DTEND;TZID=Europe/Amsterdam:20200328T130000
DTSTAMP:20260424T200757
CREATED:20190922T113708Z
LAST-MODIFIED:20200316T193932Z
UID:13906-1585400400-1585400400@meppelerschaakvereniging.nl
SUMMARY:Arnhemse Schaakacademie 1 -  MSV 1 (gecanceld)
DESCRIPTION:
URL:https://meppelerschaakvereniging.nl/agenda/arnhemse-schaakacademie-1-msv-1/
CATEGORIES:Senioren extern
END:VEVENT
BEGIN:VEVENT
DTSTART;TZID=Europe/Amsterdam:20200324T200000
DTEND;TZID=Europe/Amsterdam:20200324T200000
DTSTAMP:20260424T200757
CREATED:20191007T193435Z
LAST-MODIFIED:20200316T193904Z
UID:13991-1585080000-1585080000@meppelerschaakvereniging.nl
SUMMARY:Denk en Zet / N.G.K.Z. 1 - MSV 1-4  (gecanceld)
DESCRIPTION:
URL:https://meppelerschaakvereniging.nl/agenda/denk-en-zet-n-g-k-z-1-msv-1-4/
CATEGORIES:Senioren extern
END:VEVENT
BEGIN:VEVENT
DTSTART;TZID=Europe/Amsterdam:20200324T200000
DTEND;TZID=Europe/Amsterdam:20200324T200000
DTSTAMP:20260424T200757
CREATED:20190922T112224Z
LAST-MODIFIED:20200316T193837Z
UID:13866-1585080000-1585080000@meppelerschaakvereniging.nl
SUMMARY:Intern 4-4 (gecanceld)
DESCRIPTION:
URL:https://meppelerschaakvereniging.nl/agenda/intern-4-4-2/
CATEGORIES:Senioren intern
END:VEVENT
BEGIN:VEVENT
DTSTART;TZID=Europe/Amsterdam:20200317T200000
DTEND;TZID=Europe/Amsterdam:20200317T200000
DTSTAMP:20260424T200757
CREATED:20190922T112157Z
LAST-MODIFIED:20200316T193814Z
UID:13864-1584475200-1584475200@meppelerschaakvereniging.nl
SUMMARY:Intern 4-3 (gecanceld)
DESCRIPTION:
URL:https://meppelerschaakvereniging.nl/agenda/intern-4-3-2/
CATEGORIES:Senioren intern
END:VEVENT
BEGIN:VEVENT
DTSTART;TZID=Europe/Amsterdam:20200316T200000
DTEND;TZID=Europe/Amsterdam:20200316T200000
DTSTAMP:20260424T200757
CREATED:20190925T171219Z
LAST-MODIFIED:20200316T193738Z
UID:13958-1584388800-1584388800@meppelerschaakvereniging.nl
SUMMARY:Voorster SC 2 - MSV 3-8 (gecanceld)
DESCRIPTION:
URL:https://meppelerschaakvereniging.nl/agenda/twellose-sc-1-msv-3-8/
CATEGORIES:Senioren extern
END:VEVENT
BEGIN:VEVENT
DTSTART;TZID=Europe/Amsterdam:20200310T200000
DTEND;TZID=Europe/Amsterdam:20200310T200000
DTSTAMP:20260424T200757
CREATED:20190925T170607Z
LAST-MODIFIED:20190925T170607Z
UID:13946-1583870400-1583870400@meppelerschaakvereniging.nl
SUMMARY:Denk en Zet / N.G.K.Z. 1 - MSV 2-8
DESCRIPTION:
URL:https://meppelerschaakvereniging.nl/agenda/denk-en-zet-n-g-k-z-1-msv-2-8/
CATEGORIES:Senioren extern
END:VEVENT
BEGIN:VEVENT
DTSTART;TZID=Europe/Amsterdam:20200310T200000
DTEND;TZID=Europe/Amsterdam:20200310T200000
DTSTAMP:20260424T200757
CREATED:20190925T165754Z
LAST-MODIFIED:20190925T165754Z
UID:13932-1583870400-1583870400@meppelerschaakvereniging.nl
SUMMARY:MSV 1-8 - Arnhemsche S.V. 1
DESCRIPTION:
URL:https://meppelerschaakvereniging.nl/agenda/msv-1-8-arnhemsche-s-v-1/
CATEGORIES:Senioren extern
END:VEVENT
BEGIN:VEVENT
DTSTART;TZID=Europe/Amsterdam:20200310T200000
DTEND;TZID=Europe/Amsterdam:20200310T200000
DTSTAMP:20260424T200757
CREATED:20190922T112131Z
LAST-MODIFIED:20190922T112131Z
UID:13862-1583870400-1583870400@meppelerschaakvereniging.nl
SUMMARY:Intern 4-2
DESCRIPTION:
URL:https://meppelerschaakvereniging.nl/agenda/intern-4-2/
CATEGORIES:Senioren intern
END:VEVENT
BEGIN:VEVENT
DTSTART;TZID=Europe/Amsterdam:20200307T130000
DTEND;TZID=Europe/Amsterdam:20200307T130000
DTSTAMP:20260424T200757
CREATED:20190922T113617Z
LAST-MODIFIED:20190922T113617Z
UID:13904-1583586000-1583586000@meppelerschaakvereniging.nl
SUMMARY:MSV 1 - Assen 1
DESCRIPTION:
URL:https://meppelerschaakvereniging.nl/agenda/msv-1-assen-1/
CATEGORIES:Senioren extern
END:VEVENT
BEGIN:VEVENT
DTSTART;TZID=Europe/Amsterdam:20200304T133000
DTEND;TZID=Europe/Amsterdam:20200304T163000
DTSTAMP:20260424T200757
CREATED:20200114T171057Z
LAST-MODIFIED:20200114T171057Z
UID:14216-1583328600-1583339400@meppelerschaakvereniging.nl
SUMMARY:Basisschool schaakkampioenschap dag 2
DESCRIPTION:2e (en laatste) dag van het Meppeler Basisschool schaakkampioenschap voor leerlingen van groep 6 t/m 8.
URL:https://meppelerschaakvereniging.nl/agenda/basisschool-schaakkampioenschap-dag-2/
LOCATION:Wijkcentrum de Poele\, Groen van Prinstererstraat 1A\, Meppel\, 7942 CW \, Nederland
CATEGORIES:Jeugd
END:VEVENT
BEGIN:VEVENT
DTSTART;TZID=Europe/Amsterdam:20200303T200000
DTEND;TZID=Europe/Amsterdam:20200303T200000
DTSTAMP:20260424T200757
CREATED:20191007T193326Z
LAST-MODIFIED:20191007T193326Z
UID:13989-1583265600-1583265600@meppelerschaakvereniging.nl
SUMMARY:MSV 1-4 - S.V. Het Zwarte Water 2
DESCRIPTION:
URL:https://meppelerschaakvereniging.nl/agenda/msv-1-4-s-v-het-zwarte-water-2/
CATEGORIES:Senioren extern
END:VEVENT
BEGIN:VEVENT
DTSTART;TZID=Europe/Amsterdam:20200303T200000
DTEND;TZID=Europe/Amsterdam:20200303T200000
DTSTAMP:20260424T200757
CREATED:20190922T112108Z
LAST-MODIFIED:20190922T112108Z
UID:13860-1583265600-1583265600@meppelerschaakvereniging.nl
SUMMARY:Intern 4-1 en Beker
DESCRIPTION:
URL:https://meppelerschaakvereniging.nl/agenda/intern-4-1-en-beker/
CATEGORIES:Senioren intern
END:VEVENT
BEGIN:VEVENT
DTSTART;TZID=Europe/Amsterdam:20200226T133000
DTEND;TZID=Europe/Amsterdam:20200226T163000
DTSTAMP:20260424T200757
CREATED:20200114T170831Z
LAST-MODIFIED:20200114T170844Z
UID:14214-1582723800-1582734600@meppelerschaakvereniging.nl
SUMMARY:Basisschool schaakkampioenschap dag 1
DESCRIPTION:1e dag van het Meppeler Basisschool schaakkampioenschap voor leerlingen van groep 6 t/m 8.
URL:https://meppelerschaakvereniging.nl/agenda/basisschool-schaakkampioenschap-dag-1/
LOCATION:Wijkcentrum de Poele\, Groen van Prinstererstraat 1A\, Meppel\, 7942 CW \, Nederland
CATEGORIES:Jeugd
END:VEVENT
BEGIN:VEVENT
DTSTART;TZID=Europe/Amsterdam:20200225T200000
DTEND;TZID=Europe/Amsterdam:20200225T200000
DTSTAMP:20260424T200757
CREATED:20190922T112031Z
LAST-MODIFIED:20190922T112031Z
UID:13858-1582660800-1582660800@meppelerschaakvereniging.nl
SUMMARY:Rapid/groepjes
DESCRIPTION:
URL:https://meppelerschaakvereniging.nl/agenda/rapid-groepjes/
CATEGORIES:Senioren intern
END:VEVENT
BEGIN:VEVENT
DTSTART;TZID=Europe/Amsterdam:20200218T200000
DTEND;TZID=Europe/Amsterdam:20200218T200000
DTSTAMP:20260424T200757
CREATED:20190922T111918Z
LAST-MODIFIED:20190922T111918Z
UID:13856-1582056000-1582056000@meppelerschaakvereniging.nl
SUMMARY:Intern 3-7
DESCRIPTION:
URL:https://meppelerschaakvereniging.nl/agenda/intern-3-7/
CATEGORIES:Senioren intern
END:VEVENT
BEGIN:VEVENT
DTSTART;TZID=Europe/Amsterdam:20200213T200000
DTEND;TZID=Europe/Amsterdam:20200213T200000
DTSTAMP:20260424T200757
CREATED:20190925T165712Z
LAST-MODIFIED:20190925T165712Z
UID:13930-1581624000-1581624000@meppelerschaakvereniging.nl
SUMMARY:D.S.G. Pallas 1 - MSV 1-8
DESCRIPTION:
URL:https://meppelerschaakvereniging.nl/agenda/d-s-g-pallas-1-msv-1-8/
CATEGORIES:Senioren extern
END:VEVENT
BEGIN:VEVENT
DTSTART;TZID=Europe/Amsterdam:20200211T200000
DTEND;TZID=Europe/Amsterdam:20200211T200000
DTSTAMP:20260424T200757
CREATED:20190925T171141Z
LAST-MODIFIED:20191004T102728Z
UID:13956-1581451200-1581451200@meppelerschaakvereniging.nl
SUMMARY:MSV 3-8 - Twellose SC 2
DESCRIPTION:
URL:https://meppelerschaakvereniging.nl/agenda/msv-3-8-veluws-s-g-3/
CATEGORIES:Senioren extern
END:VEVENT
BEGIN:VEVENT
DTSTART;TZID=Europe/Amsterdam:20200211T200000
DTEND;TZID=Europe/Amsterdam:20200211T200000
DTSTAMP:20260424T200757
CREATED:20190925T170519Z
LAST-MODIFIED:20190925T170519Z
UID:13944-1581451200-1581451200@meppelerschaakvereniging.nl
SUMMARY:MSV 2-8 - Zwols S.G. 2
DESCRIPTION:
URL:https://meppelerschaakvereniging.nl/agenda/msv-2-8-zwols-s-g-2/
CATEGORIES:Senioren extern
END:VEVENT
BEGIN:VEVENT
DTSTART;TZID=Europe/Amsterdam:20200211T200000
DTEND;TZID=Europe/Amsterdam:20200211T200000
DTSTAMP:20260424T200757
CREATED:20190922T111854Z
LAST-MODIFIED:20190922T111854Z
UID:13854-1581451200-1581451200@meppelerschaakvereniging.nl
SUMMARY:Intern 3-6
DESCRIPTION:
URL:https://meppelerschaakvereniging.nl/agenda/intern-3-6-2/
CATEGORIES:Senioren intern
END:VEVENT
BEGIN:VEVENT
DTSTART;TZID=Europe/Amsterdam:20200204T200000
DTEND;TZID=Europe/Amsterdam:20200204T200000
DTSTAMP:20260424T200757
CREATED:20191007T193207Z
LAST-MODIFIED:20191007T193207Z
UID:13987-1580846400-1580846400@meppelerschaakvereniging.nl
SUMMARY:MSV 1-4 - O&O 1
DESCRIPTION:
URL:https://meppelerschaakvereniging.nl/agenda/msv-1-4-oo-1/
CATEGORIES:Senioren extern
END:VEVENT
BEGIN:VEVENT
DTSTART;TZID=Europe/Amsterdam:20200204T200000
DTEND;TZID=Europe/Amsterdam:20200204T200000
DTSTAMP:20260424T200757
CREATED:20190922T111820Z
LAST-MODIFIED:20190922T111820Z
UID:13852-1580846400-1580846400@meppelerschaakvereniging.nl
SUMMARY:Intern 3-5
DESCRIPTION:
URL:https://meppelerschaakvereniging.nl/agenda/intern-3-5-2/
CATEGORIES:Senioren intern
END:VEVENT
BEGIN:VEVENT
DTSTART;TZID=Europe/Amsterdam:20200201T130000
DTEND;TZID=Europe/Amsterdam:20200201T130000
DTSTAMP:20260424T200757
CREATED:20190922T113537Z
LAST-MODIFIED:20190922T113537Z
UID:13902-1580562000-1580562000@meppelerschaakvereniging.nl
SUMMARY:SISSA 1 - MSV 1
DESCRIPTION:
URL:https://meppelerschaakvereniging.nl/agenda/sissa-1-msv-1/
CATEGORIES:Senioren extern
END:VEVENT
BEGIN:VEVENT
DTSTART;TZID=Europe/Amsterdam:20200128T200000
DTEND;TZID=Europe/Amsterdam:20200128T200000
DTSTAMP:20260424T200757
CREATED:20190922T111743Z
LAST-MODIFIED:20190922T111743Z
UID:13850-1580241600-1580241600@meppelerschaakvereniging.nl
SUMMARY:Intern 3-4
DESCRIPTION:
URL:https://meppelerschaakvereniging.nl/agenda/intern-3-4-2/
CATEGORIES:Senioren intern
END:VEVENT
BEGIN:VEVENT
DTSTART;TZID=Europe/Amsterdam:20200121T200000
DTEND;TZID=Europe/Amsterdam:20200121T200000
DTSTAMP:20260424T200757
CREATED:20190922T111709Z
LAST-MODIFIED:20190922T111709Z
UID:13848-1579636800-1579636800@meppelerschaakvereniging.nl
SUMMARY:Intern 3-3
DESCRIPTION:
URL:https://meppelerschaakvereniging.nl/agenda/intern-3-3-2/
CATEGORIES:Senioren intern
END:VEVENT
BEGIN:VEVENT
DTSTART;TZID=Europe/Amsterdam:20200114T200000
DTEND;TZID=Europe/Amsterdam:20200114T200000
DTSTAMP:20260424T200757
CREATED:20190922T111554Z
LAST-MODIFIED:20191224T125639Z
UID:13843-1579032000-1579032000@meppelerschaakvereniging.nl
SUMMARY:Snelschaakkampioenschap
DESCRIPTION:
URL:https://meppelerschaakvereniging.nl/agenda/snelschaaktoernooi/
CATEGORIES:Senioren intern
END:VEVENT
BEGIN:VEVENT
DTSTART;TZID=Europe/Amsterdam:20200107T200000
DTEND;TZID=Europe/Amsterdam:20200107T200000
DTSTAMP:20260424T200757
CREATED:20190925T171056Z
LAST-MODIFIED:20191004T102635Z
UID:13954-1578427200-1578427200@meppelerschaakvereniging.nl
SUMMARY:Veluws S.G. 3 - MSV 3-8
DESCRIPTION:
URL:https://meppelerschaakvereniging.nl/agenda/twellose-sc-2-msv-3-8/
CATEGORIES:Senioren extern
END:VEVENT
BEGIN:VEVENT
DTSTART;TZID=Europe/Amsterdam:20200107T200000
DTEND;TZID=Europe/Amsterdam:20200107T200000
DTSTAMP:20260424T200757
CREATED:20190925T165624Z
LAST-MODIFIED:20190925T165624Z
UID:13928-1578427200-1578427200@meppelerschaakvereniging.nl
SUMMARY:MSV 1-8 - S.G. Amersfoort 2
DESCRIPTION:
URL:https://meppelerschaakvereniging.nl/agenda/msv-1-8-s-g-amersfoort-2/
CATEGORIES:Senioren extern
END:VEVENT
BEGIN:VEVENT
DTSTART;TZID=Europe/Amsterdam:20200107T200000
DTEND;TZID=Europe/Amsterdam:20200107T200000
DTSTAMP:20260424T200757
CREATED:20190922T111644Z
LAST-MODIFIED:20191224T125601Z
UID:13846-1578427200-1578427200@meppelerschaakvereniging.nl
SUMMARY:Intern 3-2
DESCRIPTION:
URL:https://meppelerschaakvereniging.nl/agenda/intern-3-2-2/
CATEGORIES:Senioren intern
END:VEVENT
END:VCALENDAR