BEGIN:VCALENDAR
VERSION:2.0
PRODID:-//Meppeler Schaakvereniging - ECPv6.15.20//NONSGML v1.0//EN
CALSCALE:GREGORIAN
METHOD:PUBLISH
X-WR-CALNAME:Meppeler Schaakvereniging
X-ORIGINAL-URL:https://meppelerschaakvereniging.nl
X-WR-CALDESC:Evenementen voor Meppeler Schaakvereniging
REFRESH-INTERVAL;VALUE=DURATION:PT1H
X-Robots-Tag:noindex
X-PUBLISHED-TTL:PT1H
BEGIN:VTIMEZONE
TZID:Europe/Amsterdam
BEGIN:DAYLIGHT
TZOFFSETFROM:+0100
TZOFFSETTO:+0200
TZNAME:CEST
DTSTART:20180325T010000
END:DAYLIGHT
BEGIN:STANDARD
TZOFFSETFROM:+0200
TZOFFSETTO:+0100
TZNAME:CET
DTSTART:20181028T010000
END:STANDARD
BEGIN:DAYLIGHT
TZOFFSETFROM:+0100
TZOFFSETTO:+0200
TZNAME:CEST
DTSTART:20190331T010000
END:DAYLIGHT
BEGIN:STANDARD
TZOFFSETFROM:+0200
TZOFFSETTO:+0100
TZNAME:CET
DTSTART:20191027T010000
END:STANDARD
BEGIN:DAYLIGHT
TZOFFSETFROM:+0100
TZOFFSETTO:+0200
TZNAME:CEST
DTSTART:20200329T010000
END:DAYLIGHT
BEGIN:STANDARD
TZOFFSETFROM:+0200
TZOFFSETTO:+0100
TZNAME:CET
DTSTART:20201025T010000
END:STANDARD
BEGIN:DAYLIGHT
TZOFFSETFROM:+0100
TZOFFSETTO:+0200
TZNAME:CEST
DTSTART:20210328T010000
END:DAYLIGHT
BEGIN:STANDARD
TZOFFSETFROM:+0200
TZOFFSETTO:+0100
TZNAME:CET
DTSTART:20211031T010000
END:STANDARD
END:VTIMEZONE
BEGIN:VEVENT
DTSTART;TZID=Europe/Amsterdam:20200106T200000
DTEND;TZID=Europe/Amsterdam:20200106T200000
DTSTAMP:20260425T005352
CREATED:20190925T170414Z
LAST-MODIFIED:20190925T170414Z
UID:13942-1578340800-1578340800@meppelerschaakvereniging.nl
SUMMARY:Oefening & Ontspanning 1 - MSV 2-8
DESCRIPTION:
URL:https://meppelerschaakvereniging.nl/agenda/oefening-ontspanning-1-msv-2-8/
CATEGORIES:Senioren extern
END:VEVENT
BEGIN:VEVENT
DTSTART;TZID=Europe/Amsterdam:20191220T200000
DTEND;TZID=Europe/Amsterdam:20191220T200000
DTSTAMP:20260425T005352
CREATED:20190925T114202Z
LAST-MODIFIED:20190925T114202Z
UID:13926-1576872000-1576872000@meppelerschaakvereniging.nl
SUMMARY:Zwols S.G. 1 - MSV 1-8
DESCRIPTION:
URL:https://meppelerschaakvereniging.nl/agenda/zwols-s-g-1-msv-1-8/
CATEGORIES:Senioren extern
END:VEVENT
BEGIN:VEVENT
DTSTART;TZID=Europe/Amsterdam:20191217T200000
DTEND;TZID=Europe/Amsterdam:20191217T200000
DTSTAMP:20260425T005352
CREATED:20190925T170332Z
LAST-MODIFIED:20190925T170332Z
UID:13940-1576612800-1576612800@meppelerschaakvereniging.nl
SUMMARY:MSV 2-8 - Schaakstad Apeldoorn 2
DESCRIPTION:
URL:https://meppelerschaakvereniging.nl/agenda/msv-2-8-schaakstad-apeldoorn-2/
CATEGORIES:Senioren extern
END:VEVENT
BEGIN:VEVENT
DTSTART;TZID=Europe/Amsterdam:20191217T200000
DTEND;TZID=Europe/Amsterdam:20191217T200000
DTSTAMP:20260425T005352
CREATED:20190922T111514Z
LAST-MODIFIED:20190922T111514Z
UID:13841-1576612800-1576612800@meppelerschaakvereniging.nl
SUMMARY:Intern 3-1 en Beker
DESCRIPTION:
URL:https://meppelerschaakvereniging.nl/agenda/intern-3-1-en-beker/
CATEGORIES:Senioren intern
END:VEVENT
BEGIN:VEVENT
DTSTART;TZID=Europe/Amsterdam:20191214T130000
DTEND;TZID=Europe/Amsterdam:20191214T130000
DTSTAMP:20260425T005352
CREATED:20190922T113439Z
LAST-MODIFIED:20190922T113439Z
UID:13900-1576328400-1576328400@meppelerschaakvereniging.nl
SUMMARY:MSV 1 - MuConsult Apeldoorn 2
DESCRIPTION:
URL:https://meppelerschaakvereniging.nl/agenda/msv-1-muconsult-apeldoorn-2/
CATEGORIES:Senioren extern
END:VEVENT
BEGIN:VEVENT
DTSTART;TZID=Europe/Amsterdam:20191210T200000
DTEND;TZID=Europe/Amsterdam:20191210T200000
DTSTAMP:20260425T005352
CREATED:20190925T171006Z
LAST-MODIFIED:20190925T171006Z
UID:13952-1576008000-1576008000@meppelerschaakvereniging.nl
SUMMARY:MSV 3-8 - Schaakstad Apeldoorn 3
DESCRIPTION:
URL:https://meppelerschaakvereniging.nl/agenda/msv-3-8-schaakstad-apeldoorn-3/
CATEGORIES:Senioren extern
END:VEVENT
BEGIN:VEVENT
DTSTART;TZID=Europe/Amsterdam:20191210T200000
DTEND;TZID=Europe/Amsterdam:20191210T200000
DTSTAMP:20260425T005352
CREATED:20190922T111428Z
LAST-MODIFIED:20190922T111435Z
UID:13839-1576008000-1576008000@meppelerschaakvereniging.nl
SUMMARY:Intern 2-7
DESCRIPTION:
URL:https://meppelerschaakvereniging.nl/agenda/intern-2-7/
CATEGORIES:Senioren intern
END:VEVENT
BEGIN:VEVENT
DTSTART;TZID=Europe/Amsterdam:20191203T200000
DTEND;TZID=Europe/Amsterdam:20191203T200000
DTSTAMP:20260425T005352
CREATED:20191007T193043Z
LAST-MODIFIED:20191007T193043Z
UID:13985-1575403200-1575403200@meppelerschaakvereniging.nl
SUMMARY:MSV 1-4 - Denk en Zet / N.G.K.Z. 1
DESCRIPTION:
URL:https://meppelerschaakvereniging.nl/agenda/msv-1-4-denk-en-zet-n-g-k-z-1/
CATEGORIES:Senioren extern
END:VEVENT
BEGIN:VEVENT
DTSTART;TZID=Europe/Amsterdam:20191203T200000
DTEND;TZID=Europe/Amsterdam:20191203T200000
DTSTAMP:20260425T005352
CREATED:20190922T111400Z
LAST-MODIFIED:20190922T111400Z
UID:13837-1575403200-1575403200@meppelerschaakvereniging.nl
SUMMARY:Intern 2-6
DESCRIPTION:
URL:https://meppelerschaakvereniging.nl/agenda/intern-2-6-2/
CATEGORIES:Senioren intern
END:VEVENT
BEGIN:VEVENT
DTSTART;TZID=Europe/Amsterdam:20191126T200000
DTEND;TZID=Europe/Amsterdam:20191126T200000
DTSTAMP:20260425T005352
CREATED:20190922T105326Z
LAST-MODIFIED:20190922T111315Z
UID:13835-1574798400-1574798400@meppelerschaakvereniging.nl
SUMMARY:Intern 2-5
DESCRIPTION:
URL:https://meppelerschaakvereniging.nl/agenda/intern-2-5-2/
CATEGORIES:Senioren intern
END:VEVENT
BEGIN:VEVENT
DTSTART;TZID=Europe/Amsterdam:20191123T130000
DTEND;TZID=Europe/Amsterdam:20191123T130000
DTSTAMP:20260425T005352
CREATED:20190922T113358Z
LAST-MODIFIED:20190922T113358Z
UID:13898-1574514000-1574514000@meppelerschaakvereniging.nl
SUMMARY:Almere 1 - MSV 1
DESCRIPTION:
URL:https://meppelerschaakvereniging.nl/agenda/almere-1-msv-1/
CATEGORIES:Senioren extern
END:VEVENT
BEGIN:VEVENT
DTSTART;TZID=Europe/Amsterdam:20191119T200000
DTEND;TZID=Europe/Amsterdam:20191119T200000
DTSTAMP:20260425T005352
CREATED:20190922T105303Z
LAST-MODIFIED:20190922T105303Z
UID:13833-1574193600-1574193600@meppelerschaakvereniging.nl
SUMMARY:Intern 2-4
DESCRIPTION:
URL:https://meppelerschaakvereniging.nl/agenda/intern-2-4-2/
CATEGORIES:Senioren intern
END:VEVENT
BEGIN:VEVENT
DTSTART;TZID=Europe/Amsterdam:20191112T200000
DTEND;TZID=Europe/Amsterdam:20191112T200000
DTSTAMP:20260425T005352
CREATED:20190925T170251Z
LAST-MODIFIED:20190925T170251Z
UID:13938-1573588800-1573588800@meppelerschaakvereniging.nl
SUMMARY:Veluws S.G. 2 - MSV 2-8
DESCRIPTION:
URL:https://meppelerschaakvereniging.nl/agenda/veluws-s-g-2-msv-2-8/
CATEGORIES:Senioren extern
END:VEVENT
BEGIN:VEVENT
DTSTART;TZID=Europe/Amsterdam:20191112T200000
DTEND;TZID=Europe/Amsterdam:20191112T200000
DTSTAMP:20260425T005352
CREATED:20190925T114106Z
LAST-MODIFIED:20190925T114106Z
UID:13924-1573588800-1573588800@meppelerschaakvereniging.nl
SUMMARY:MSV 1-8 - Veluws S.G. 1
DESCRIPTION:
URL:https://meppelerschaakvereniging.nl/agenda/msv-1-8-veluws-s-g-1/
CATEGORIES:Senioren extern
END:VEVENT
BEGIN:VEVENT
DTSTART;TZID=Europe/Amsterdam:20191112T200000
DTEND;TZID=Europe/Amsterdam:20191112T200000
DTSTAMP:20260425T005352
CREATED:20190922T105229Z
LAST-MODIFIED:20190922T105229Z
UID:13831-1573588800-1573588800@meppelerschaakvereniging.nl
SUMMARY:Intern 2-3
DESCRIPTION:
URL:https://meppelerschaakvereniging.nl/agenda/intern-2-3-2/
CATEGORIES:Senioren intern
END:VEVENT
BEGIN:VEVENT
DTSTART;TZID=Europe/Amsterdam:20191105T200000
DTEND;TZID=Europe/Amsterdam:20191105T200000
DTSTAMP:20260425T005352
CREATED:20191007T192753Z
LAST-MODIFIED:20191007T193113Z
UID:13983-1572984000-1572984000@meppelerschaakvereniging.nl
SUMMARY:S.V. Het Zwarte Water 2 - MSV 1-4
DESCRIPTION:
URL:https://meppelerschaakvereniging.nl/agenda/s-v-het-zwarte-water-2-msv-1-4/
CATEGORIES:Senioren extern
END:VEVENT
BEGIN:VEVENT
DTSTART;TZID=Europe/Amsterdam:20191105T200000
DTEND;TZID=Europe/Amsterdam:20191105T200000
DTSTAMP:20260425T005352
CREATED:20190922T105131Z
LAST-MODIFIED:20190922T105131Z
UID:13829-1572984000-1572984000@meppelerschaakvereniging.nl
SUMMARY:Intern 2-2
DESCRIPTION:
URL:https://meppelerschaakvereniging.nl/agenda/intern-2-2-2/
CATEGORIES:Senioren intern
END:VEVENT
BEGIN:VEVENT
DTSTART;TZID=Europe/Amsterdam:20191102T130000
DTEND;TZID=Europe/Amsterdam:20191102T130000
DTSTAMP:20260425T005352
CREATED:20190922T113310Z
LAST-MODIFIED:20190922T113310Z
UID:13896-1572699600-1572699600@meppelerschaakvereniging.nl
SUMMARY:MSV 1 - Sneek 1
DESCRIPTION:
URL:https://meppelerschaakvereniging.nl/agenda/msv-1-sneek-1/
CATEGORIES:Senioren extern
END:VEVENT
BEGIN:VEVENT
DTSTART;TZID=Europe/Amsterdam:20191029T200000
DTEND;TZID=Europe/Amsterdam:20191029T200000
DTSTAMP:20260425T005352
CREATED:20190925T113934Z
LAST-MODIFIED:20190925T113934Z
UID:13922-1572379200-1572379200@meppelerschaakvereniging.nl
SUMMARY:Barneveld 1 - MSV 1-8
DESCRIPTION:
URL:https://meppelerschaakvereniging.nl/agenda/barneveld-1-msv-1-8/
CATEGORIES:Senioren extern
END:VEVENT
BEGIN:VEVENT
DTSTART;TZID=Europe/Amsterdam:20191029T200000
DTEND;TZID=Europe/Amsterdam:20191029T200000
DTSTAMP:20260425T005352
CREATED:20190922T105104Z
LAST-MODIFIED:20190922T105104Z
UID:13827-1572379200-1572379200@meppelerschaakvereniging.nl
SUMMARY:Intern 2-1 en Beker
DESCRIPTION:
URL:https://meppelerschaakvereniging.nl/agenda/intern-2-1-en-beker/
CATEGORIES:Senioren intern
END:VEVENT
BEGIN:VEVENT
DTSTART;TZID=Europe/Amsterdam:20191022T200000
DTEND;TZID=Europe/Amsterdam:20191022T200000
DTSTAMP:20260425T005352
CREATED:20190925T170923Z
LAST-MODIFIED:20190925T170923Z
UID:13950-1571774400-1571774400@meppelerschaakvereniging.nl
SUMMARY:S.V. De Zeven Pionnen 2 - MSV 3-8
DESCRIPTION:
URL:https://meppelerschaakvereniging.nl/agenda/s-v-de-zeven-pionnen-2-msv-3-8/
CATEGORIES:Senioren extern
END:VEVENT
BEGIN:VEVENT
DTSTART;TZID=Europe/Amsterdam:20191022T200000
DTEND;TZID=Europe/Amsterdam:20191022T200000
DTSTAMP:20260425T005352
CREATED:20190925T170151Z
LAST-MODIFIED:20190925T170151Z
UID:13936-1571774400-1571774400@meppelerschaakvereniging.nl
SUMMARY:MSV 2-8 - S.C. 't Zwarte Paard 2
DESCRIPTION:
URL:https://meppelerschaakvereniging.nl/agenda/msv-2-8-s-c-t-zwarte-paard-2/
CATEGORIES:Senioren extern
END:VEVENT
BEGIN:VEVENT
DTSTART;TZID=Europe/Amsterdam:20191022T200000
DTEND;TZID=Europe/Amsterdam:20191022T200000
DTSTAMP:20260425T005352
CREATED:20190922T105028Z
LAST-MODIFIED:20190922T120802Z
UID:13825-1571774400-1571774400@meppelerschaakvereniging.nl
SUMMARY:Intern 1-7
DESCRIPTION:
URL:https://meppelerschaakvereniging.nl/agenda/intern-1-7/
CATEGORIES:Senioren intern
END:VEVENT
BEGIN:VEVENT
DTSTART;TZID=Europe/Amsterdam:20191015T200000
DTEND;TZID=Europe/Amsterdam:20191015T200000
DTSTAMP:20260425T005352
CREATED:20191009T083158Z
LAST-MODIFIED:20191009T083158Z
UID:14008-1571169600-1571169600@meppelerschaakvereniging.nl
SUMMARY:Hoogeveen 1 - MSV 1
DESCRIPTION:Beker KNSB
URL:https://meppelerschaakvereniging.nl/agenda/hoogeveen-1-msv-1/
CATEGORIES:Senioren extern
END:VEVENT
BEGIN:VEVENT
DTSTART;TZID=Europe/Amsterdam:20191015T200000
DTEND;TZID=Europe/Amsterdam:20191015T200000
DTSTAMP:20260425T005352
CREATED:20190922T104952Z
LAST-MODIFIED:20190922T104952Z
UID:13823-1571169600-1571169600@meppelerschaakvereniging.nl
SUMMARY:Intern 1-6
DESCRIPTION:
URL:https://meppelerschaakvereniging.nl/agenda/intern-1-6-2/
CATEGORIES:Senioren intern
END:VEVENT
BEGIN:VEVENT
DTSTART;TZID=Europe/Amsterdam:20191008T200000
DTEND;TZID=Europe/Amsterdam:20191008T200000
DTSTAMP:20260425T005352
CREATED:20190922T104735Z
LAST-MODIFIED:20190922T104757Z
UID:13821-1570564800-1570564800@meppelerschaakvereniging.nl
SUMMARY:Intern 1-5
DESCRIPTION:
URL:https://meppelerschaakvereniging.nl/agenda/intern-1-5-2/
CATEGORIES:Senioren intern
END:VEVENT
BEGIN:VEVENT
DTSTART;TZID=Europe/Amsterdam:20191001T200000
DTEND;TZID=Europe/Amsterdam:20191001T200000
DTSTAMP:20260425T005352
CREATED:20190922T104654Z
LAST-MODIFIED:20190922T104830Z
UID:13819-1569960000-1569960000@meppelerschaakvereniging.nl
SUMMARY:Intern 1-4
DESCRIPTION:
URL:https://meppelerschaakvereniging.nl/agenda/intern-1-4-2/
CATEGORIES:Senioren intern
END:VEVENT
BEGIN:VEVENT
DTSTART;TZID=Europe/Amsterdam:20190928T130000
DTEND;TZID=Europe/Amsterdam:20190928T130000
DTSTAMP:20260425T005352
CREATED:20190922T113211Z
LAST-MODIFIED:20190922T113211Z
UID:13894-1569675600-1569675600@meppelerschaakvereniging.nl
SUMMARY:ASV 1 - MSV 1
DESCRIPTION:
URL:https://meppelerschaakvereniging.nl/agenda/asv-1-msv-1/
CATEGORIES:Senioren extern
END:VEVENT
BEGIN:VEVENT
DTSTART;TZID=Europe/Amsterdam:20190924T200000
DTEND;TZID=Europe/Amsterdam:20190924T200000
DTSTAMP:20260425T005352
CREATED:20190913T082140Z
LAST-MODIFIED:20190922T104818Z
UID:13811-1569355200-1569355200@meppelerschaakvereniging.nl
SUMMARY:Intern 1-3
DESCRIPTION:
URL:https://meppelerschaakvereniging.nl/agenda/intern-1-3/
CATEGORIES:Senioren intern
END:VEVENT
BEGIN:VEVENT
DTSTART;TZID=Europe/Amsterdam:20190917T194500
DTEND;TZID=Europe/Amsterdam:20190917T194500
DTSTAMP:20260425T005352
CREATED:20190907T095616Z
LAST-MODIFIED:20190913T081638Z
UID:13793-1568749500-1568749500@meppelerschaakvereniging.nl
SUMMARY:Jaarvergadering MSV
DESCRIPTION:
URL:https://meppelerschaakvereniging.nl/agenda/jaarvergadering-msv-2/
END:VEVENT
END:VCALENDAR