BEGIN:VCALENDAR
VERSION:2.0
PRODID:-//Meppeler Schaakvereniging - ECPv6.15.20//NONSGML v1.0//EN
CALSCALE:GREGORIAN
METHOD:PUBLISH
X-WR-CALNAME:Meppeler Schaakvereniging
X-ORIGINAL-URL:https://meppelerschaakvereniging.nl
X-WR-CALDESC:Evenementen voor Meppeler Schaakvereniging
REFRESH-INTERVAL;VALUE=DURATION:PT1H
X-Robots-Tag:noindex
X-PUBLISHED-TTL:PT1H
BEGIN:VTIMEZONE
TZID:Europe/Helsinki
BEGIN:DAYLIGHT
TZOFFSETFROM:+0200
TZOFFSETTO:+0300
TZNAME:EEST
DTSTART:20170326T010000
END:DAYLIGHT
BEGIN:STANDARD
TZOFFSETFROM:+0300
TZOFFSETTO:+0200
TZNAME:EET
DTSTART:20171029T010000
END:STANDARD
BEGIN:DAYLIGHT
TZOFFSETFROM:+0200
TZOFFSETTO:+0300
TZNAME:EEST
DTSTART:20180325T010000
END:DAYLIGHT
BEGIN:STANDARD
TZOFFSETFROM:+0300
TZOFFSETTO:+0200
TZNAME:EET
DTSTART:20181028T010000
END:STANDARD
BEGIN:DAYLIGHT
TZOFFSETFROM:+0200
TZOFFSETTO:+0300
TZNAME:EEST
DTSTART:20190331T010000
END:DAYLIGHT
BEGIN:STANDARD
TZOFFSETFROM:+0300
TZOFFSETTO:+0200
TZNAME:EET
DTSTART:20191027T010000
END:STANDARD
BEGIN:DAYLIGHT
TZOFFSETFROM:+0200
TZOFFSETTO:+0300
TZNAME:EEST
DTSTART:20200329T010000
END:DAYLIGHT
BEGIN:STANDARD
TZOFFSETFROM:+0300
TZOFFSETTO:+0200
TZNAME:EET
DTSTART:20201025T010000
END:STANDARD
END:VTIMEZONE
BEGIN:VTIMEZONE
TZID:Europe/Amsterdam
BEGIN:DAYLIGHT
TZOFFSETFROM:+0100
TZOFFSETTO:+0200
TZNAME:CEST
DTSTART:20180325T010000
END:DAYLIGHT
BEGIN:STANDARD
TZOFFSETFROM:+0200
TZOFFSETTO:+0100
TZNAME:CET
DTSTART:20181028T010000
END:STANDARD
BEGIN:DAYLIGHT
TZOFFSETFROM:+0100
TZOFFSETTO:+0200
TZNAME:CEST
DTSTART:20190331T010000
END:DAYLIGHT
BEGIN:STANDARD
TZOFFSETFROM:+0200
TZOFFSETTO:+0100
TZNAME:CET
DTSTART:20191027T010000
END:STANDARD
BEGIN:DAYLIGHT
TZOFFSETFROM:+0100
TZOFFSETTO:+0200
TZNAME:CEST
DTSTART:20200329T010000
END:DAYLIGHT
BEGIN:STANDARD
TZOFFSETFROM:+0200
TZOFFSETTO:+0100
TZNAME:CET
DTSTART:20201025T010000
END:STANDARD
END:VTIMEZONE
BEGIN:VEVENT
DTSTART;TZID=Europe/Helsinki:20190319T080000
DTEND;TZID=Europe/Helsinki:20190319T170000
DTSTAMP:20260425T151259
CREATED:20180902T093358Z
LAST-MODIFIED:20180926T111426Z
UID:12694-1552982400-1553014800@meppelerschaakvereniging.nl
SUMMARY:Intern 3-6
DESCRIPTION:
URL:https://meppelerschaakvereniging.nl/agenda/intern-3-6/
CATEGORIES:Senioren intern
END:VEVENT
BEGIN:VEVENT
DTSTART;TZID=Europe/Helsinki:20190316T130000
DTEND;TZID=Europe/Helsinki:20190316T180000
DTSTAMP:20260425T151259
CREATED:20180824T125644Z
LAST-MODIFIED:20180824T125644Z
UID:12626-1552741200-1552759200@meppelerschaakvereniging.nl
SUMMARY:WSG 1 ( Winterswijk ) - MSV 1
DESCRIPTION:
URL:https://meppelerschaakvereniging.nl/agenda/wsg-1-winterswijk-msv-1/
CATEGORIES:Senioren extern
END:VEVENT
BEGIN:VEVENT
DTSTART;TZID=Europe/Helsinki:20190314T194500
DTEND;TZID=Europe/Helsinki:20190314T235500
DTSTAMP:20260425T151259
CREATED:20180924T143611Z
LAST-MODIFIED:20180926T111443Z
UID:12876-1552592700-1552607700@meppelerschaakvereniging.nl
SUMMARY:Caissa 1 - MSV 2-8
DESCRIPTION:
URL:https://meppelerschaakvereniging.nl/agenda/caissa-1-msv-2-8/
CATEGORIES:Senioren extern
END:VEVENT
BEGIN:VEVENT
DTSTART;TZID=Europe/Helsinki:20190312T200000
DTEND;TZID=Europe/Helsinki:20190312T235500
DTSTAMP:20260425T151259
CREATED:20180924T145409Z
LAST-MODIFIED:20180926T111458Z
UID:12890-1552420800-1552434900@meppelerschaakvereniging.nl
SUMMARY:MSV 1-8 - ZSG 1
DESCRIPTION:
URL:https://meppelerschaakvereniging.nl/agenda/msv-1-8-zsg-1/
CATEGORIES:Senioren extern
END:VEVENT
BEGIN:VEVENT
DTSTART;TZID=Europe/Helsinki:20190312T080000
DTEND;TZID=Europe/Helsinki:20190312T170000
DTSTAMP:20260425T151259
CREATED:20180902T093316Z
LAST-MODIFIED:20180926T111509Z
UID:12692-1552377600-1552410000@meppelerschaakvereniging.nl
SUMMARY:Intern 3-5
DESCRIPTION:
URL:https://meppelerschaakvereniging.nl/agenda/intern-3-5/
CATEGORIES:Senioren intern
END:VEVENT
BEGIN:VEVENT
DTSTART;TZID=Europe/Amsterdam:20190309T080000
DTEND;TZID=Europe/Amsterdam:20190309T170000
DTSTAMP:20260425T151259
CREATED:20190227T152123Z
LAST-MODIFIED:20190227T152123Z
UID:13522-1552118400-1552150800@meppelerschaakvereniging.nl
SUMMARY:JCC-D
DESCRIPTION:
URL:https://meppelerschaakvereniging.nl/agenda/jcc-d/
CATEGORIES:Jeugd
END:VEVENT
BEGIN:VEVENT
DTSTART;TZID=Europe/Amsterdam:20190307T194500
DTEND;TZID=Europe/Amsterdam:20190307T234500
DTSTAMP:20260425T151259
CREATED:20181103T145640Z
LAST-MODIFIED:20181103T150054Z
UID:13088-1551987900-1552002300@meppelerschaakvereniging.nl
SUMMARY:Zwolle-Zuid Schaakt! 1 - MSV 1-4
DESCRIPTION:
URL:https://meppelerschaakvereniging.nl/agenda/zwolle-zuid-schaakt-1-msv-1-4/
CATEGORIES:Senioren extern
END:VEVENT
BEGIN:VEVENT
DTSTART;TZID=Europe/Amsterdam:20190305T200000
DTEND;TZID=Europe/Amsterdam:20190305T234500
DTSTAMP:20260425T151259
CREATED:20181103T144445Z
LAST-MODIFIED:20181103T144445Z
UID:13072-1551816000-1551829500@meppelerschaakvereniging.nl
SUMMARY:MSV 2-4 - Voorster S.C. 2
DESCRIPTION:
URL:https://meppelerschaakvereniging.nl/agenda/msv-2-4-voorster-s-c-2/
CATEGORIES:Senioren extern
END:VEVENT
BEGIN:VEVENT
DTSTART;TZID=Europe/Helsinki:20190305T200000
DTEND;TZID=Europe/Helsinki:20190305T200000
DTSTAMP:20260425T151259
CREATED:20180902T093238Z
LAST-MODIFIED:20180926T110434Z
UID:12690-1551816000-1551816000@meppelerschaakvereniging.nl
SUMMARY:Intern 3-4
DESCRIPTION:
URL:https://meppelerschaakvereniging.nl/agenda/intern-3-4/
CATEGORIES:Senioren intern
END:VEVENT
BEGIN:VEVENT
DTSTART;TZID=Europe/Helsinki:20190226T200000
DTEND;TZID=Europe/Helsinki:20190226T200000
DTSTAMP:20260425T151259
CREATED:20180902T093152Z
LAST-MODIFIED:20180926T110447Z
UID:12688-1551211200-1551211200@meppelerschaakvereniging.nl
SUMMARY:Rapidschaak 3
DESCRIPTION:
URL:https://meppelerschaakvereniging.nl/agenda/rapidschaak-3/
CATEGORIES:Senioren intern
END:VEVENT
BEGIN:VEVENT
DTSTART;TZID=Europe/Helsinki:20190219T200000
DTEND;TZID=Europe/Helsinki:20190219T200000
DTSTAMP:20260425T151259
CREATED:20180902T093107Z
LAST-MODIFIED:20180926T110501Z
UID:12686-1550606400-1550606400@meppelerschaakvereniging.nl
SUMMARY:Intern 3-3
DESCRIPTION:
URL:https://meppelerschaakvereniging.nl/agenda/intern-3-3/
CATEGORIES:Senioren intern
END:VEVENT
BEGIN:VEVENT
DTSTART;TZID=Europe/Amsterdam:20190215T194500
DTEND;TZID=Europe/Amsterdam:20190215T234500
DTSTAMP:20260425T151259
CREATED:20181103T144321Z
LAST-MODIFIED:20181103T144321Z
UID:13070-1550259900-1550274300@meppelerschaakvereniging.nl
SUMMARY:Schaakstad Apeldoorn - MSV 3-4
DESCRIPTION:
URL:https://meppelerschaakvereniging.nl/agenda/schaakstad-apeldoorn-msv-3-4/
CATEGORIES:Senioren extern
END:VEVENT
BEGIN:VEVENT
DTSTART;TZID=Europe/Helsinki:20190212T200000
DTEND;TZID=Europe/Helsinki:20190212T235500
DTSTAMP:20260425T151259
CREATED:20180924T143502Z
LAST-MODIFIED:20180926T110515Z
UID:12874-1550001600-1550015700@meppelerschaakvereniging.nl
SUMMARY:MSV 2-8 - De Combinatie 1
DESCRIPTION:
URL:https://meppelerschaakvereniging.nl/agenda/msv-2-8-de-combinatie-1/
CATEGORIES:Senioren extern
END:VEVENT
BEGIN:VEVENT
DTSTART;TZID=Europe/Helsinki:20190212T200000
DTEND;TZID=Europe/Helsinki:20190212T200000
DTSTAMP:20260425T151259
CREATED:20180902T093017Z
LAST-MODIFIED:20180926T110540Z
UID:12684-1550001600-1550001600@meppelerschaakvereniging.nl
SUMMARY:Intern 3-2
DESCRIPTION:
URL:https://meppelerschaakvereniging.nl/agenda/intern-3-2/
CATEGORIES:Senioren intern
END:VEVENT
BEGIN:VEVENT
DTSTART;TZID=Europe/Helsinki:20190212T194500
DTEND;TZID=Europe/Helsinki:20190212T235500
DTSTAMP:20260425T151259
CREATED:20180924T145256Z
LAST-MODIFIED:20180926T110554Z
UID:12888-1550000700-1550015700@meppelerschaakvereniging.nl
SUMMARY:PSV/DoDO 1 - MSV 1-8
DESCRIPTION:
URL:https://meppelerschaakvereniging.nl/agenda/psv-dodo-1-msv-1-8/
CATEGORIES:Senioren extern
END:VEVENT
BEGIN:VEVENT
DTSTART;TZID=Europe/Helsinki:20190209T130000
DTEND;TZID=Europe/Helsinki:20190209T170000
DTSTAMP:20260425T151259
CREATED:20180824T125330Z
LAST-MODIFIED:20180824T125330Z
UID:12622-1549717200-1549731600@meppelerschaakvereniging.nl
SUMMARY:MSV 1 -Apeldoorn 2
DESCRIPTION:
URL:https://meppelerschaakvereniging.nl/agenda/msv-1-apeldoorn-2/
CATEGORIES:Senioren extern
END:VEVENT
BEGIN:VEVENT
DTSTART;TZID=Europe/Amsterdam:20190206T133000
DTEND;TZID=Europe/Amsterdam:20190206T170000
DTSTAMP:20260425T151259
CREATED:20190116T212319Z
LAST-MODIFIED:20190116T212319Z
UID:13403-1549459800-1549472400@meppelerschaakvereniging.nl
SUMMARY:Basisschool schaakkampioenschap
DESCRIPTION:2e (en laatste) dag Meppeler Basisschool schaakkampioenschap
URL:https://meppelerschaakvereniging.nl/agenda/basisschool-schaakkampioenschap-2/
LOCATION:Wijkcentrum de Poele\, Groen van Prinstererstraat 1A\, Meppel\, 7942 CW \, Nederland
CATEGORIES:Jeugd
END:VEVENT
BEGIN:VEVENT
DTSTART;TZID=Europe/Helsinki:20190205T200000
DTEND;TZID=Europe/Helsinki:20190205T200000
DTSTAMP:20260425T151259
CREATED:20180902T092922Z
LAST-MODIFIED:20180926T110628Z
UID:12682-1549396800-1549396800@meppelerschaakvereniging.nl
SUMMARY:Intern 3-1 + kwartfinale beker
DESCRIPTION:
URL:https://meppelerschaakvereniging.nl/agenda/intern-3-1-kwartfinale-beker/
CATEGORIES:Senioren intern
END:VEVENT
BEGIN:VEVENT
DTSTART;TZID=Europe/Amsterdam:20190205T194500
DTEND;TZID=Europe/Amsterdam:20190205T234500
DTSTAMP:20260425T151259
CREATED:20181103T145446Z
LAST-MODIFIED:20181103T150123Z
UID:13086-1549395900-1549410300@meppelerschaakvereniging.nl
SUMMARY:S.V. Het Zwarte Water 1 - MSV 1-4
DESCRIPTION:
URL:https://meppelerschaakvereniging.nl/agenda/s-v-het-zwarte-water-1-msv-1-4/
CATEGORIES:Senioren extern
END:VEVENT
BEGIN:VEVENT
DTSTART;TZID=Europe/Amsterdam:20190130T133000
DTEND;TZID=Europe/Amsterdam:20190130T163000
DTSTAMP:20260425T151259
CREATED:20190116T212153Z
LAST-MODIFIED:20190116T212153Z
UID:13401-1548855000-1548865800@meppelerschaakvereniging.nl
SUMMARY:Basisschool schaakkampioenschap
DESCRIPTION:1e dag Meppeler Basisschool schaakkampioenschap
URL:https://meppelerschaakvereniging.nl/agenda/basisschool-schaakkampioenschap/
LOCATION:Wijkcentrum de Poele\, Groen van Prinstererstraat 1A\, Meppel\, 7942 CW \, Nederland
CATEGORIES:Jeugd
END:VEVENT
BEGIN:VEVENT
DTSTART;TZID=Europe/Helsinki:20190129T200000
DTEND;TZID=Europe/Helsinki:20190129T200000
DTSTAMP:20260425T151259
CREATED:20180902T092819Z
LAST-MODIFIED:20180926T110642Z
UID:12680-1548792000-1548792000@meppelerschaakvereniging.nl
SUMMARY:Intern 2-7 ( slotronde tweede periode )
DESCRIPTION:
URL:https://meppelerschaakvereniging.nl/agenda/intern-2-7-slotronde-tweede-periode/
CATEGORIES:Senioren intern
END:VEVENT
BEGIN:VEVENT
DTSTART;TZID=Europe/Helsinki:20190122T200000
DTEND;TZID=Europe/Helsinki:20190122T200000
DTSTAMP:20260425T151259
CREATED:20180902T092653Z
LAST-MODIFIED:20180926T110656Z
UID:12678-1548187200-1548187200@meppelerschaakvereniging.nl
SUMMARY:Intern 2-6
DESCRIPTION:
URL:https://meppelerschaakvereniging.nl/agenda/intern-2-6/
CATEGORIES:Senioren intern
END:VEVENT
BEGIN:VEVENT
DTSTART;TZID=Europe/Helsinki:20190118T194500
DTEND;TZID=Europe/Helsinki:20190118T234500
DTSTAMP:20260425T151259
CREATED:20180924T143404Z
LAST-MODIFIED:20180926T110710Z
UID:12872-1547840700-1547855100@meppelerschaakvereniging.nl
SUMMARY:ZSG 2 - MSV 2-8
DESCRIPTION:
URL:https://meppelerschaakvereniging.nl/agenda/zsg-2-msv-2-8/
CATEGORIES:Senioren extern
END:VEVENT
BEGIN:VEVENT
DTSTART;TZID=Europe/Helsinki:20190115T200000
DTEND;TZID=Europe/Helsinki:20190115T235500
DTSTAMP:20260425T151259
CREATED:20180924T145123Z
LAST-MODIFIED:20180926T110722Z
UID:12886-1547582400-1547596500@meppelerschaakvereniging.nl
SUMMARY:MSV 1-8 - Zutphen 1
DESCRIPTION:
URL:https://meppelerschaakvereniging.nl/agenda/msv-1-8-zutphen-1/
CATEGORIES:Senioren extern
END:VEVENT
BEGIN:VEVENT
DTSTART;TZID=Europe/Helsinki:20190115T200000
DTEND;TZID=Europe/Helsinki:20190115T200000
DTSTAMP:20260425T151259
CREATED:20180902T092611Z
LAST-MODIFIED:20180926T110736Z
UID:12676-1547582400-1547582400@meppelerschaakvereniging.nl
SUMMARY:Intern 2-5
DESCRIPTION:
URL:https://meppelerschaakvereniging.nl/agenda/intern-2-5/
CATEGORIES:Senioren intern
END:VEVENT
BEGIN:VEVENT
DTSTART;TZID=Europe/Amsterdam:20190108T200000
DTEND;TZID=Europe/Amsterdam:20190108T234500
DTSTAMP:20260425T151259
CREATED:20181103T144110Z
LAST-MODIFIED:20181103T144110Z
UID:13066-1546977600-1546991100@meppelerschaakvereniging.nl
SUMMARY:MSV 3-4 - Denk en Zet / N.G.K.Z. 1
DESCRIPTION:
URL:https://meppelerschaakvereniging.nl/agenda/msv-3-4-denk-en-zet-n-g-k-z-1/
CATEGORIES:Senioren extern
END:VEVENT
BEGIN:VEVENT
DTSTART;TZID=Europe/Helsinki:20190108T200000
DTEND;TZID=Europe/Helsinki:20190108T200000
DTSTAMP:20260425T151259
CREATED:20180902T092514Z
LAST-MODIFIED:20180926T110749Z
UID:12674-1546977600-1546977600@meppelerschaakvereniging.nl
SUMMARY:Snelschaken
DESCRIPTION:
URL:https://meppelerschaakvereniging.nl/agenda/snelschaken-2/
CATEGORIES:Senioren intern
END:VEVENT
BEGIN:VEVENT
DTSTART;TZID=Europe/Amsterdam:20190108T194500
DTEND;TZID=Europe/Amsterdam:20190108T234500
DTSTAMP:20260425T151259
CREATED:20181103T144212Z
LAST-MODIFIED:20181103T144212Z
UID:13068-1546976700-1546991100@meppelerschaakvereniging.nl
SUMMARY:S.V. De Combinatie 1 - MSV 2-4
DESCRIPTION:
URL:https://meppelerschaakvereniging.nl/agenda/s-v-de-combinatie-1-msv-2-4/
CATEGORIES:Senioren extern
END:VEVENT
BEGIN:VEVENT
DTSTART;TZID=Europe/Amsterdam:20190107T194500
DTEND;TZID=Europe/Amsterdam:20190107T234500
DTSTAMP:20260425T151259
CREATED:20181103T145311Z
LAST-MODIFIED:20181103T150301Z
UID:13084-1546890300-1546904700@meppelerschaakvereniging.nl
SUMMARY:Oefening & Ontspanning 2 - MSV 1-4
DESCRIPTION:
URL:https://meppelerschaakvereniging.nl/agenda/oefening-ontspanning-2-msv-1-4/
CATEGORIES:Senioren extern
END:VEVENT
BEGIN:VEVENT
DTSTART;TZID=Europe/Helsinki:20181218T200000
DTEND;TZID=Europe/Helsinki:20181218T200000
DTSTAMP:20260425T151259
CREATED:20180902T092359Z
LAST-MODIFIED:20180926T110803Z
UID:12672-1545163200-1545163200@meppelerschaakvereniging.nl
SUMMARY:Intern 2-4
DESCRIPTION:
URL:https://meppelerschaakvereniging.nl/agenda/intern-2-4/
CATEGORIES:Senioren intern
END:VEVENT
END:VCALENDAR