BEGIN:VCALENDAR
VERSION:2.0
PRODID:-//Meppeler Schaakvereniging - ECPv6.15.20//NONSGML v1.0//EN
CALSCALE:GREGORIAN
METHOD:PUBLISH
X-WR-CALNAME:Meppeler Schaakvereniging
X-ORIGINAL-URL:https://meppelerschaakvereniging.nl
X-WR-CALDESC:Evenementen voor Meppeler Schaakvereniging
REFRESH-INTERVAL;VALUE=DURATION:PT1H
X-Robots-Tag:noindex
X-PUBLISHED-TTL:PT1H
BEGIN:VTIMEZONE
TZID:Europe/Helsinki
BEGIN:DAYLIGHT
TZOFFSETFROM:+0200
TZOFFSETTO:+0300
TZNAME:EEST
DTSTART:20170326T010000
END:DAYLIGHT
BEGIN:STANDARD
TZOFFSETFROM:+0300
TZOFFSETTO:+0200
TZNAME:EET
DTSTART:20171029T010000
END:STANDARD
BEGIN:DAYLIGHT
TZOFFSETFROM:+0200
TZOFFSETTO:+0300
TZNAME:EEST
DTSTART:20180325T010000
END:DAYLIGHT
BEGIN:STANDARD
TZOFFSETFROM:+0300
TZOFFSETTO:+0200
TZNAME:EET
DTSTART:20181028T010000
END:STANDARD
BEGIN:DAYLIGHT
TZOFFSETFROM:+0200
TZOFFSETTO:+0300
TZNAME:EEST
DTSTART:20190331T010000
END:DAYLIGHT
BEGIN:STANDARD
TZOFFSETFROM:+0300
TZOFFSETTO:+0200
TZNAME:EET
DTSTART:20191027T010000
END:STANDARD
END:VTIMEZONE
BEGIN:VEVENT
DTSTART;TZID=Europe/Helsinki:20181016T200000
DTEND;TZID=Europe/Helsinki:20181016T200000
DTSTAMP:20260425T235952
CREATED:20180902T091455Z
LAST-MODIFIED:20180926T104011Z
UID:12654-1539720000-1539720000@meppelerschaakvereniging.nl
SUMMARY:Intern 1-4
DESCRIPTION:
URL:https://meppelerschaakvereniging.nl/agenda/intern-1-4/
CATEGORIES:Senioren intern
END:VEVENT
BEGIN:VEVENT
DTSTART;TZID=Europe/Helsinki:20181016T194500
DTEND;TZID=Europe/Helsinki:20181016T235500
DTSTAMP:20260425T235952
CREATED:20180924T144746Z
LAST-MODIFIED:20180926T103958Z
UID:12880-1539719100-1539734100@meppelerschaakvereniging.nl
SUMMARY:VSG 1 - MSV 1-8
DESCRIPTION:
URL:https://meppelerschaakvereniging.nl/agenda/vsg-1-msv-1-8/
CATEGORIES:Senioren extern
END:VEVENT
BEGIN:VEVENT
DTSTART;TZID=Europe/Helsinki:20181009T200000
DTEND;TZID=Europe/Helsinki:20181009T200000
DTSTAMP:20260425T235952
CREATED:20180902T091333Z
LAST-MODIFIED:20180926T103940Z
UID:12652-1539115200-1539115200@meppelerschaakvereniging.nl
SUMMARY:Intern 1-3 + bekervoorronde
DESCRIPTION:
URL:https://meppelerschaakvereniging.nl/agenda/intern-1-3-bekervoorronde/
CATEGORIES:Senioren intern
END:VEVENT
BEGIN:VEVENT
DTSTART;TZID=Europe/Helsinki:20181006T130000
DTEND;TZID=Europe/Helsinki:20181006T180000
DTSTAMP:20260425T235952
CREATED:20180824T124739Z
LAST-MODIFIED:20180824T124739Z
UID:12614-1538830800-1538848800@meppelerschaakvereniging.nl
SUMMARY:Soest 1 - MSV 1
DESCRIPTION:
URL:https://meppelerschaakvereniging.nl/agenda/soest-1-msv-1/
CATEGORIES:Senioren extern
END:VEVENT
BEGIN:VEVENT
DTSTART;TZID=Europe/Helsinki:20181002T200000
DTEND;TZID=Europe/Helsinki:20181002T200000
DTSTAMP:20260425T235952
CREATED:20180902T091235Z
LAST-MODIFIED:20180926T103922Z
UID:12650-1538510400-1538510400@meppelerschaakvereniging.nl
SUMMARY:Intern 1-2
DESCRIPTION:
URL:https://meppelerschaakvereniging.nl/agenda/intern-1-2/
CATEGORIES:Senioren intern
END:VEVENT
BEGIN:VEVENT
DTSTART;TZID=Europe/Helsinki:20180925T200000
DTEND;TZID=Europe/Helsinki:20180925T200000
DTSTAMP:20260425T235952
CREATED:20180902T091059Z
LAST-MODIFIED:20180926T103855Z
UID:12648-1537905600-1537905600@meppelerschaakvereniging.nl
SUMMARY:Intern 1-1
DESCRIPTION:
URL:https://meppelerschaakvereniging.nl/agenda/intern-1-1/
CATEGORIES:Senioren intern
END:VEVENT
BEGIN:VEVENT
DTSTART;TZID=Europe/Helsinki:20180918T194500
DTEND;TZID=Europe/Helsinki:20180918T194500
DTSTAMP:20260425T235952
CREATED:20180902T090958Z
LAST-MODIFIED:20180902T090958Z
UID:12646-1537299900-1537299900@meppelerschaakvereniging.nl
SUMMARY:Jaarvergadering MSV
DESCRIPTION:
URL:https://meppelerschaakvereniging.nl/agenda/jaarvergadering-msv/
END:VEVENT
BEGIN:VEVENT
DTSTART;TZID=Europe/Helsinki:20180915T130000
DTEND;TZID=Europe/Helsinki:20180915T180000
DTSTAMP:20260425T235952
CREATED:20180824T124527Z
LAST-MODIFIED:20180824T125533Z
UID:12610-1537016400-1537034400@meppelerschaakvereniging.nl
SUMMARY:MSV 1 - Emanual Lasker 1
DESCRIPTION:
URL:https://meppelerschaakvereniging.nl/agenda/msv-1-emanual-lasker-1/
CATEGORIES:Senioren extern
END:VEVENT
BEGIN:VEVENT
DTSTART;TZID=Europe/Helsinki:20180911T200000
DTEND;TZID=Europe/Helsinki:20180911T200000
DTSTAMP:20260425T235952
CREATED:20180902T090857Z
LAST-MODIFIED:20180902T090857Z
UID:12644-1536696000-1536696000@meppelerschaakvereniging.nl
SUMMARY:Spelregels 2
DESCRIPTION:
URL:https://meppelerschaakvereniging.nl/agenda/spelregels-2/
END:VEVENT
BEGIN:VEVENT
DTSTART;TZID=Europe/Helsinki:20180904T200000
DTEND;TZID=Europe/Helsinki:20180904T200000
DTSTAMP:20260425T235952
CREATED:20180902T090756Z
LAST-MODIFIED:20180902T090756Z
UID:12642-1536091200-1536091200@meppelerschaakvereniging.nl
SUMMARY:Spelregels 1
DESCRIPTION:
URL:https://meppelerschaakvereniging.nl/agenda/spelregels-1/
END:VEVENT
BEGIN:VEVENT
DTSTART;TZID=Europe/Helsinki:20180623T090000
DTEND;TZID=Europe/Helsinki:20180623T170000
DTSTAMP:20260425T235952
CREATED:20180526T064333Z
LAST-MODIFIED:20180619T105212Z
UID:12502-1529744400-1529773200@meppelerschaakvereniging.nl
SUMMARY:Chessity Nationale Pupillendag
DESCRIPTION:De Chessity Nationale Pupillendag 2018 vindt plaats op zaterdag 23 juni in Meppel. De Nationale Pupillendag is het officiële Nederlands Kampioenschap schaken in de categorieën F\, G en H van de Koninklijke Nederlandse Schaakbond. Tijdens dit eendaagse toernooi spelen in Meppel 120 jeugdschakers om de Nederlandse titel in hun leeftijdscategorie.
URL:https://meppelerschaakvereniging.nl/agenda/chessity-nationale-pupillendag-2/
LOCATION:Onderwijspark Ezinge\, Ezingerweg 52\, Meppel\, 7943 AZ\, Nederland
CATEGORIES:Jeugd
END:VEVENT
BEGIN:VEVENT
DTSTART;TZID=Europe/Helsinki:20180611T200000
DTEND;TZID=Europe/Helsinki:20180611T230000
DTSTAMP:20260425T235952
CREATED:20180902T115329Z
LAST-MODIFIED:20180902T115329Z
UID:12723-1528747200-1528758000@meppelerschaakvereniging.nl
SUMMARY:Start zomeravondschaak bij Oasis
DESCRIPTION:
URL:https://meppelerschaakvereniging.nl/agenda/start-zomeravondschaak-bij-oasis/
END:VEVENT
BEGIN:VEVENT
DTSTART;VALUE=DATE:20180421
DTEND;VALUE=DATE:20180422
DTSTAMP:20260425T235952
CREATED:20170824T202558Z
LAST-MODIFIED:20171008T200253Z
UID:11863-1524268800-1524355199@meppelerschaakvereniging.nl
SUMMARY:Assen 1 - MSV 1
DESCRIPTION:
URL:https://meppelerschaakvereniging.nl/agenda/assen-1-msv-1/
CATEGORIES:Senioren extern
END:VEVENT
BEGIN:VEVENT
DTSTART;VALUE=DATE:20180417
DTEND;VALUE=DATE:20180418
DTSTAMP:20260425T235952
CREATED:20171013T132726Z
LAST-MODIFIED:20171013T132726Z
UID:12008-1523923200-1524009599@meppelerschaakvereniging.nl
SUMMARY:MSV 6j - O en O 3
DESCRIPTION:Slotronde in Meppel
URL:https://meppelerschaakvereniging.nl/agenda/msv-6j-o-en-o-3/
CATEGORIES:Jeugd
END:VEVENT
BEGIN:VEVENT
DTSTART;VALUE=DATE:20180417
DTEND;VALUE=DATE:20180418
DTSTAMP:20260425T235952
CREATED:20171013T132625Z
LAST-MODIFIED:20171013T132625Z
UID:12006-1523923200-1524009599@meppelerschaakvereniging.nl
SUMMARY:Zwarte Water 2 - MSV 5
DESCRIPTION:Slotronde in Meppel
URL:https://meppelerschaakvereniging.nl/agenda/zwarte-water-2-msv-5-2/
CATEGORIES:Senioren extern
END:VEVENT
BEGIN:VEVENT
DTSTART;VALUE=DATE:20180417
DTEND;VALUE=DATE:20180418
DTSTAMP:20260425T235952
CREATED:20171013T132459Z
LAST-MODIFIED:20171013T132459Z
UID:12003-1523923200-1524009599@meppelerschaakvereniging.nl
SUMMARY:MSV 4 - Zwarte Water 1
DESCRIPTION:Slotronde in Meppel
URL:https://meppelerschaakvereniging.nl/agenda/msv-4-zwarte-water-1/
CATEGORIES:Senioren extern
END:VEVENT
BEGIN:VEVENT
DTSTART;VALUE=DATE:20180413
DTEND;VALUE=DATE:20180414
DTSTAMP:20260425T235952
CREATED:20170929T170545Z
LAST-MODIFIED:20171013T133226Z
UID:11955-1523577600-1523663999@meppelerschaakvereniging.nl
SUMMARY:VSG 1 - MSV 2
DESCRIPTION:Slotronde in Putten bij PSV DoDO
URL:https://meppelerschaakvereniging.nl/agenda/vsg-1-msv-2-2/
CATEGORIES:Senioren extern
END:VEVENT
BEGIN:VEVENT
DTSTART;VALUE=DATE:20180410
DTEND;VALUE=DATE:20180411
DTSTAMP:20260425T235952
CREATED:20171010T155234Z
LAST-MODIFIED:20171013T133103Z
UID:11983-1523318400-1523404799@meppelerschaakvereniging.nl
SUMMARY:MSV 3 - De Combinatie 1
DESCRIPTION:Slotronde bij VSG in Ermelo
URL:https://meppelerschaakvereniging.nl/agenda/msv-3-de-combinatie-1/
CATEGORIES:Senioren extern
END:VEVENT
BEGIN:VEVENT
DTSTART;VALUE=DATE:20180407
DTEND;VALUE=DATE:20180408
DTSTAMP:20260425T235952
CREATED:20170824T202509Z
LAST-MODIFIED:20171008T200615Z
UID:11862-1523059200-1523145599@meppelerschaakvereniging.nl
SUMMARY:MSV 1 - Laurierboom-Gambiet 1
DESCRIPTION:
URL:https://meppelerschaakvereniging.nl/agenda/msv-1-laurierboom-gambiet-1/
CATEGORIES:Senioren extern
END:VEVENT
BEGIN:VEVENT
DTSTART;VALUE=DATE:20180313
DTEND;VALUE=DATE:20180314
DTSTAMP:20260425T235952
CREATED:20171013T132554Z
LAST-MODIFIED:20171013T132554Z
UID:12005-1520899200-1520985599@meppelerschaakvereniging.nl
SUMMARY:MSV 5 - Denk en Zet 2
DESCRIPTION:
URL:https://meppelerschaakvereniging.nl/agenda/msv-5-denk-en-zet-2/
CATEGORIES:Senioren extern
END:VEVENT
BEGIN:VEVENT
DTSTART;VALUE=DATE:20180310
DTEND;VALUE=DATE:20180311
DTSTAMP:20260425T235952
CREATED:20170824T202421Z
LAST-MODIFIED:20171008T200419Z
UID:11861-1520640000-1520726399@meppelerschaakvereniging.nl
SUMMARY:SOPSWEPS '29 1 - MSV 1
DESCRIPTION:
URL:https://meppelerschaakvereniging.nl/agenda/sopsweps-29-1-msv-1/
CATEGORIES:Senioren extern
END:VEVENT
BEGIN:VEVENT
DTSTART;VALUE=DATE:20180309
DTEND;VALUE=DATE:20180310
DTSTAMP:20260425T235952
CREATED:20171013T132652Z
LAST-MODIFIED:20171013T132652Z
UID:12007-1520553600-1520639999@meppelerschaakvereniging.nl
SUMMARY:MSV 6j - Zwarte Water 1
DESCRIPTION:
URL:https://meppelerschaakvereniging.nl/agenda/msv-6j-zwarte-water-1/
CATEGORIES:Jeugd
END:VEVENT
BEGIN:VEVENT
DTSTART;VALUE=DATE:20180308
DTEND;VALUE=DATE:20180309
DTSTAMP:20260425T235952
CREATED:20171010T155151Z
LAST-MODIFIED:20171010T155151Z
UID:11982-1520467200-1520553599@meppelerschaakvereniging.nl
SUMMARY:Caissa 2 - MSV 3
DESCRIPTION:
URL:https://meppelerschaakvereniging.nl/agenda/caissa-2-msv-3/
CATEGORIES:Senioren extern
END:VEVENT
BEGIN:VEVENT
DTSTART;VALUE=DATE:20180306
DTEND;VALUE=DATE:20180307
DTSTAMP:20260425T235952
CREATED:20170929T170431Z
LAST-MODIFIED:20171008T200640Z
UID:11954-1520294400-1520380799@meppelerschaakvereniging.nl
SUMMARY:MSV 2 - Pallas 2
DESCRIPTION:
URL:https://meppelerschaakvereniging.nl/agenda/msv-2-pallas-2/
CATEGORIES:Senioren extern
END:VEVENT
BEGIN:VEVENT
DTSTART;VALUE=DATE:20180305
DTEND;VALUE=DATE:20180306
DTSTAMP:20260425T235952
CREATED:20171013T132414Z
LAST-MODIFIED:20171013T132423Z
UID:12002-1520208000-1520294399@meppelerschaakvereniging.nl
SUMMARY:O en O 3 - MSV 4
DESCRIPTION:
URL:https://meppelerschaakvereniging.nl/agenda/o-en-o-3-msv-4/
CATEGORIES:Senioren extern
END:VEVENT
BEGIN:VEVENT
DTSTART;TZID=Europe/Helsinki:20180221T130000
DTEND;TZID=Europe/Helsinki:20180221T170000
DTSTAMP:20260425T235952
CREATED:20171128T095851Z
LAST-MODIFIED:20180202T215655Z
UID:12081-1519218000-1519232400@meppelerschaakvereniging.nl
SUMMARY:Schoolschaken
DESCRIPTION:
URL:https://meppelerschaakvereniging.nl/agenda/schoolschaken-2/
CATEGORIES:Jeugd
END:VEVENT
BEGIN:VEVENT
DTSTART;VALUE=DATE:20180220
DTEND;VALUE=DATE:20180221
DTSTAMP:20260425T235952
CREATED:20180123T120104Z
LAST-MODIFIED:20180202T220039Z
UID:12204-1519084800-1519171199@meppelerschaakvereniging.nl
SUMMARY:De Combinatie 2 - MSV 5
DESCRIPTION:
URL:https://meppelerschaakvereniging.nl/agenda/de-combinatie-2-msv-5-3/
CATEGORIES:Senioren extern
END:VEVENT
BEGIN:VEVENT
DTSTART;VALUE=DATE:20180220
DTEND;VALUE=DATE:20180221
DTSTAMP:20260425T235952
CREATED:20171010T155104Z
LAST-MODIFIED:20171010T155104Z
UID:11981-1519084800-1519171199@meppelerschaakvereniging.nl
SUMMARY:MSV 3 - Pegasus 2
DESCRIPTION:
URL:https://meppelerschaakvereniging.nl/agenda/msv-3-pegasus-2/
CATEGORIES:Senioren extern
END:VEVENT
BEGIN:VEVENT
DTSTART;VALUE=DATE:20180216
DTEND;VALUE=DATE:20180217
DTSTAMP:20260425T235952
CREATED:20171013T132348Z
LAST-MODIFIED:20171013T132348Z
UID:12001-1518739200-1518825599@meppelerschaakvereniging.nl
SUMMARY:MSV 4 - MSV 6J
DESCRIPTION:
URL:https://meppelerschaakvereniging.nl/agenda/msv-4-msv-6j/
CATEGORIES:Jeugd,Senioren extern
END:VEVENT
BEGIN:VEVENT
DTSTART;TZID=Europe/Helsinki:20180214T130000
DTEND;TZID=Europe/Helsinki:20180214T170000
DTSTAMP:20260425T235952
CREATED:20171128T095800Z
LAST-MODIFIED:20180202T215505Z
UID:12079-1518613200-1518627600@meppelerschaakvereniging.nl
SUMMARY:Schoolschaken
DESCRIPTION:
URL:https://meppelerschaakvereniging.nl/agenda/schoolschaken/
CATEGORIES:Jeugd
END:VEVENT
END:VCALENDAR