BEGIN:VCALENDAR
VERSION:2.0
PRODID:-//Meppeler Schaakvereniging - ECPv6.15.20//NONSGML v1.0//EN
CALSCALE:GREGORIAN
METHOD:PUBLISH
X-WR-CALNAME:Meppeler Schaakvereniging
X-ORIGINAL-URL:https://meppelerschaakvereniging.nl
X-WR-CALDESC:Evenementen voor Meppeler Schaakvereniging
REFRESH-INTERVAL;VALUE=DURATION:PT1H
X-Robots-Tag:noindex
X-PUBLISHED-TTL:PT1H
BEGIN:VTIMEZONE
TZID:Europe/Helsinki
BEGIN:DAYLIGHT
TZOFFSETFROM:+0200
TZOFFSETTO:+0300
TZNAME:EEST
DTSTART:20160327T010000
END:DAYLIGHT
BEGIN:STANDARD
TZOFFSETFROM:+0300
TZOFFSETTO:+0200
TZNAME:EET
DTSTART:20161030T010000
END:STANDARD
BEGIN:DAYLIGHT
TZOFFSETFROM:+0200
TZOFFSETTO:+0300
TZNAME:EEST
DTSTART:20170326T010000
END:DAYLIGHT
BEGIN:STANDARD
TZOFFSETFROM:+0300
TZOFFSETTO:+0200
TZNAME:EET
DTSTART:20171029T010000
END:STANDARD
BEGIN:DAYLIGHT
TZOFFSETFROM:+0200
TZOFFSETTO:+0300
TZNAME:EEST
DTSTART:20180325T010000
END:DAYLIGHT
BEGIN:STANDARD
TZOFFSETFROM:+0300
TZOFFSETTO:+0200
TZNAME:EET
DTSTART:20181028T010000
END:STANDARD
BEGIN:DAYLIGHT
TZOFFSETFROM:+0200
TZOFFSETTO:+0300
TZNAME:EEST
DTSTART:20190331T010000
END:DAYLIGHT
BEGIN:STANDARD
TZOFFSETFROM:+0300
TZOFFSETTO:+0200
TZNAME:EET
DTSTART:20191027T010000
END:STANDARD
END:VTIMEZONE
BEGIN:VEVENT
DTSTART;VALUE=DATE:20180213
DTEND;VALUE=DATE:20180214
DTSTAMP:20260426T045918
CREATED:20171013T132530Z
LAST-MODIFIED:20171013T132530Z
UID:12004-1518480000-1518566399@meppelerschaakvereniging.nl
SUMMARY:De Combinatie 2 - MSV 5
DESCRIPTION:
URL:https://meppelerschaakvereniging.nl/agenda/de-combinatie-2-msv-5-2/
CATEGORIES:Senioren extern
END:VEVENT
BEGIN:VEVENT
DTSTART;VALUE=DATE:20180212
DTEND;VALUE=DATE:20180213
DTSTAMP:20260426T045918
CREATED:20170929T170333Z
LAST-MODIFIED:20171008T200701Z
UID:11953-1518393600-1518479999@meppelerschaakvereniging.nl
SUMMARY:De Toren Arnhem 3 - MSV 2
DESCRIPTION:
URL:https://meppelerschaakvereniging.nl/agenda/de-toren-3-msv-2/
CATEGORIES:Senioren extern
END:VEVENT
BEGIN:VEVENT
DTSTART;VALUE=DATE:20180203
DTEND;VALUE=DATE:20180204
DTSTAMP:20260426T045918
CREATED:20170824T202318Z
LAST-MODIFIED:20171008T200723Z
UID:11860-1517616000-1517702399@meppelerschaakvereniging.nl
SUMMARY:SG Max Euwe 1 - MSV 1
DESCRIPTION:
URL:https://meppelerschaakvereniging.nl/agenda/sg-max-euwe-1-msv-1/
CATEGORIES:Senioren extern
END:VEVENT
BEGIN:VEVENT
DTSTART;VALUE=DATE:20180118
DTEND;VALUE=DATE:20180119
DTSTAMP:20260426T045918
CREATED:20170929T170245Z
LAST-MODIFIED:20171010T155446Z
UID:11952-1516233600-1516319999@meppelerschaakvereniging.nl
SUMMARY:ZZS! 1 - MSV 2
DESCRIPTION:
URL:https://meppelerschaakvereniging.nl/agenda/zzs-1-msv-2/
CATEGORIES:Senioren extern
END:VEVENT
BEGIN:VEVENT
DTSTART;VALUE=DATE:20171216
DTEND;VALUE=DATE:20171217
DTSTAMP:20260426T045918
CREATED:20170824T202225Z
LAST-MODIFIED:20171008T200807Z
UID:11859-1513382400-1513468799@meppelerschaakvereniging.nl
SUMMARY:MSV 1 - Qonnected Hardenberg 1
DESCRIPTION:
URL:https://meppelerschaakvereniging.nl/agenda/msv-1-qonnected-hardenberg-1/
CATEGORIES:Senioren extern
END:VEVENT
BEGIN:VEVENT
DTSTART;VALUE=DATE:20171212
DTEND;VALUE=DATE:20171213
DTSTAMP:20260426T045918
CREATED:20171013T132030Z
LAST-MODIFIED:20171013T132030Z
UID:11998-1513036800-1513123199@meppelerschaakvereniging.nl
SUMMARY:MSV 5 - Zwarte Water 2
DESCRIPTION:
URL:https://meppelerschaakvereniging.nl/agenda/msv-5-zwarte-water-2/
CATEGORIES:Senioren extern
END:VEVENT
BEGIN:VEVENT
DTSTART;VALUE=DATE:20171208
DTEND;VALUE=DATE:20171209
DTSTAMP:20260426T045918
CREATED:20171013T132133Z
LAST-MODIFIED:20171013T132133Z
UID:12000-1512691200-1512777599@meppelerschaakvereniging.nl
SUMMARY:O en O 3 - MSV 6j
DESCRIPTION:
URL:https://meppelerschaakvereniging.nl/agenda/o-en-o-3-msv-6j/
CATEGORIES:Jeugd
END:VEVENT
BEGIN:VEVENT
DTSTART;VALUE=DATE:20171207
DTEND;VALUE=DATE:20171208
DTSTAMP:20260426T045918
CREATED:20171010T155030Z
LAST-MODIFIED:20171010T155407Z
UID:11980-1512604800-1512691199@meppelerschaakvereniging.nl
SUMMARY:ZZS! 2 - MSV 3
DESCRIPTION:
URL:https://meppelerschaakvereniging.nl/agenda/zzs-2-msv-3/
CATEGORIES:Senioren extern
END:VEVENT
BEGIN:VEVENT
DTSTART;VALUE=DATE:20171205
DTEND;VALUE=DATE:20171206
DTSTAMP:20260426T045918
CREATED:20171013T131958Z
LAST-MODIFIED:20171013T132310Z
UID:11997-1512432000-1512518399@meppelerschaakvereniging.nl
SUMMARY:Zwarte Water 1 - MSV 4
DESCRIPTION:
URL:https://meppelerschaakvereniging.nl/agenda/zwarte-water-1-msv-4/
CATEGORIES:Senioren extern
END:VEVENT
BEGIN:VEVENT
DTSTART;VALUE=DATE:20171205
DTEND;VALUE=DATE:20171206
DTSTAMP:20260426T045918
CREATED:20170929T162943Z
LAST-MODIFIED:20171008T200831Z
UID:11951-1512432000-1512518399@meppelerschaakvereniging.nl
SUMMARY:MSV 2 - ZSG 2
DESCRIPTION:
URL:https://meppelerschaakvereniging.nl/agenda/msv-2-zsg-2/
CATEGORIES:Senioren extern
END:VEVENT
BEGIN:VEVENT
DTSTART;VALUE=DATE:20171125
DTEND;VALUE=DATE:20171126
DTSTAMP:20260426T045918
CREATED:20170824T202137Z
LAST-MODIFIED:20171008T200900Z
UID:11858-1511568000-1511654399@meppelerschaakvereniging.nl
SUMMARY:Groninger Combinatie 2 - MSV 1
DESCRIPTION:
URL:https://meppelerschaakvereniging.nl/agenda/groninger-combinatie-2-msv-1/
CATEGORIES:Senioren extern
END:VEVENT
BEGIN:VEVENT
DTSTART;VALUE=DATE:20171116
DTEND;VALUE=DATE:20171117
DTSTAMP:20260426T045918
CREATED:20170929T162829Z
LAST-MODIFIED:20171008T200922Z
UID:11950-1510790400-1510876799@meppelerschaakvereniging.nl
SUMMARY:ASV 6 - MSV 2
DESCRIPTION:
URL:https://meppelerschaakvereniging.nl/agenda/asv-6-msv-2/
CATEGORIES:Senioren extern
END:VEVENT
BEGIN:VEVENT
DTSTART;VALUE=DATE:20171114
DTEND;VALUE=DATE:20171115
DTSTAMP:20260426T045918
CREATED:20171010T154942Z
LAST-MODIFIED:20171010T154942Z
UID:11979-1510617600-1510703999@meppelerschaakvereniging.nl
SUMMARY:MSV 3 - Lelystad 1
DESCRIPTION:
URL:https://meppelerschaakvereniging.nl/agenda/msv-3-lelystad-1/
CATEGORIES:Senioren extern
END:VEVENT
BEGIN:VEVENT
DTSTART;VALUE=DATE:20171110
DTEND;VALUE=DATE:20171111
DTSTAMP:20260426T045918
CREATED:20171013T132107Z
LAST-MODIFIED:20171013T132107Z
UID:11999-1510272000-1510358399@meppelerschaakvereniging.nl
SUMMARY:Zwarte Water 1 - MSV 6j
DESCRIPTION:
URL:https://meppelerschaakvereniging.nl/agenda/zwarte-water-1-msv-6j/
CATEGORIES:Jeugd
END:VEVENT
BEGIN:VEVENT
DTSTART;VALUE=DATE:20171107
DTEND;VALUE=DATE:20171108
DTSTAMP:20260426T045918
CREATED:20171013T131922Z
LAST-MODIFIED:20171013T131922Z
UID:11996-1510012800-1510099199@meppelerschaakvereniging.nl
SUMMARY:MSV 4 - O en O 3
DESCRIPTION:
URL:https://meppelerschaakvereniging.nl/agenda/msv-4-o-en-o-3/
CATEGORIES:Senioren extern
END:VEVENT
BEGIN:VEVENT
DTSTART;VALUE=DATE:20171107
DTEND;VALUE=DATE:20171108
DTSTAMP:20260426T045918
CREATED:20171013T131850Z
LAST-MODIFIED:20171013T131850Z
UID:11995-1510012800-1510099199@meppelerschaakvereniging.nl
SUMMARY:Denk en Zet 2 - MSV 5
DESCRIPTION:
URL:https://meppelerschaakvereniging.nl/agenda/denk-en-zet-2-msv-5/
CATEGORIES:Senioren extern
END:VEVENT
BEGIN:VEVENT
DTSTART;VALUE=DATE:20171104
DTEND;VALUE=DATE:20171105
DTSTAMP:20260426T045918
CREATED:20170824T202004Z
LAST-MODIFIED:20171008T200943Z
UID:11857-1509753600-1509839999@meppelerschaakvereniging.nl
SUMMARY:MSV 1 - Lonneker
DESCRIPTION:
URL:https://meppelerschaakvereniging.nl/agenda/msv-1-lonneker/
CATEGORIES:Senioren extern
END:VEVENT
BEGIN:VEVENT
DTSTART;VALUE=DATE:20171017
DTEND;VALUE=DATE:20171018
DTSTAMP:20260426T045918
CREATED:20171013T131816Z
LAST-MODIFIED:20171013T131816Z
UID:11994-1508198400-1508284799@meppelerschaakvereniging.nl
SUMMARY:MSV 5 - De Combinatie 2
DESCRIPTION:
URL:https://meppelerschaakvereniging.nl/agenda/msv-5-de-combinatie-2/
CATEGORIES:Senioren extern
END:VEVENT
BEGIN:VEVENT
DTSTART;VALUE=DATE:20171017
DTEND;VALUE=DATE:20171018
DTSTAMP:20260426T045918
CREATED:20171013T131750Z
LAST-MODIFIED:20171013T131750Z
UID:11993-1508198400-1508284799@meppelerschaakvereniging.nl
SUMMARY:MSV 6J - MSV 4
DESCRIPTION:
URL:https://meppelerschaakvereniging.nl/agenda/msv-6j-msv-4/
CATEGORIES:Jeugd,Senioren extern
END:VEVENT
BEGIN:VEVENT
DTSTART;VALUE=DATE:20171010
DTEND;VALUE=DATE:20171011
DTSTAMP:20260426T045918
CREATED:20171010T154847Z
LAST-MODIFIED:20171010T154847Z
UID:11978-1507593600-1507679999@meppelerschaakvereniging.nl
SUMMARY:VSG 4 - MSV 3
DESCRIPTION:
URL:https://meppelerschaakvereniging.nl/agenda/vsg-4-msv-3/
CATEGORIES:Senioren extern
END:VEVENT
BEGIN:VEVENT
DTSTART;VALUE=DATE:20171010
DTEND;VALUE=DATE:20171011
DTSTAMP:20260426T045918
CREATED:20170929T162415Z
LAST-MODIFIED:20171010T163028Z
UID:11949-1507593600-1507679999@meppelerschaakvereniging.nl
SUMMARY:MSV 2 - PSV DoDO 2
DESCRIPTION:
URL:https://meppelerschaakvereniging.nl/agenda/msv-2-psv-dodo2/
CATEGORIES:Senioren extern
END:VEVENT
BEGIN:VEVENT
DTSTART;VALUE=DATE:20171007
DTEND;VALUE=DATE:20171008
DTSTAMP:20260426T045918
CREATED:20170824T201842Z
LAST-MODIFIED:20171008T201025Z
UID:11856-1507334400-1507420799@meppelerschaakvereniging.nl
SUMMARY:Amersfoort 1 - MSV 1
DESCRIPTION:
URL:https://meppelerschaakvereniging.nl/agenda/amersfoort-1-msv-1/
CATEGORIES:Senioren extern
END:VEVENT
BEGIN:VEVENT
DTSTART;VALUE=DATE:20170916
DTEND;VALUE=DATE:20170917
DTSTAMP:20260426T045918
CREATED:20170824T201607Z
LAST-MODIFIED:20171008T201048Z
UID:11855-1505520000-1505606399@meppelerschaakvereniging.nl
SUMMARY:MSV 1 - Almelo 1
DESCRIPTION:
URL:https://meppelerschaakvereniging.nl/agenda/msv-1-almelo-1/
CATEGORIES:Senioren extern
END:VEVENT
BEGIN:VEVENT
DTSTART;TZID=Europe/Helsinki:20170624T130000
DTEND;TZID=Europe/Helsinki:20170624T170000
DTSTAMP:20260426T045918
CREATED:20170423T204105Z
LAST-MODIFIED:20170423T204105Z
UID:11734-1498309200-1498323600@meppelerschaakvereniging.nl
SUMMARY:Slot-GP NOSBO/FSB
DESCRIPTION:
URL:https://meppelerschaakvereniging.nl/agenda/slot-gp-nosbofsb/
CATEGORIES:Jeugd
END:VEVENT
BEGIN:VEVENT
DTSTART;TZID=Europe/Helsinki:20170617T090000
DTEND;TZID=Europe/Helsinki:20170617T170000
DTSTAMP:20260426T045918
CREATED:20170423T155440Z
LAST-MODIFIED:20170423T155556Z
UID:11705-1497690000-1497718800@meppelerschaakvereniging.nl
SUMMARY:Chessity Nationale Pupillendag
DESCRIPTION:De Chessity Nationale Pupillendag is het officiële Nederlands Kampioenschap voor schakers van 6 t/m 9 jaar. De Pupillendag vindt dit jaar voor het eerst plaats in Meppel. De organisatie is in handen van de Meppeler Schaakvereniging. \n 
URL:https://meppelerschaakvereniging.nl/agenda/chessity-nationale-pupillendag/
LOCATION:Stad & Esch\, Meppel
CATEGORIES:Jeugd
END:VEVENT
BEGIN:VEVENT
DTSTART;TZID=Europe/Helsinki:20170610T130000
DTEND;TZID=Europe/Helsinki:20170610T170000
DTSTAMP:20260426T045918
CREATED:20170423T203753Z
LAST-MODIFIED:20170423T203753Z
UID:11732-1497099600-1497114000@meppelerschaakvereniging.nl
SUMMARY:GP Assen
DESCRIPTION:
URL:https://meppelerschaakvereniging.nl/agenda/gp-assen/
CATEGORIES:Jeugd
END:VEVENT
BEGIN:VEVENT
DTSTART;TZID=Europe/Helsinki:20170603T100000
DTEND;TZID=Europe/Helsinki:20170603T170000
DTSTAMP:20260426T045918
CREATED:20170423T165549Z
LAST-MODIFIED:20170423T165549Z
UID:11713-1496484000-1496509200@meppelerschaakvereniging.nl
SUMMARY:NK Schoolschaak\, dag 2
DESCRIPTION:Het team van CBS De Akker heeft zich hiervoor geplaatst: Wessel Adema\, Florian Molanus\, Eva Molanus\, Kyran Pen\, Peter Huijssen. Teamcaptain Sibbele Bonthuis
URL:https://meppelerschaakvereniging.nl/agenda/nk-schoolschaak-dag-2/
CATEGORIES:Jeugd
END:VEVENT
BEGIN:VEVENT
DTSTART;TZID=Europe/Helsinki:20170528T100000
DTEND;TZID=Europe/Helsinki:20170528T180000
DTSTAMP:20260426T045918
CREATED:20170423T204533Z
LAST-MODIFIED:20170423T204533Z
UID:11736-1495965600-1495994400@meppelerschaakvereniging.nl
SUMMARY:Apeldoorns kroegloperstoernooi
DESCRIPTION:
URL:https://meppelerschaakvereniging.nl/agenda/apeldoorns-kroegloperstoernooi/
CATEGORIES:Senioren extern
END:VEVENT
BEGIN:VEVENT
DTSTART;TZID=Europe/Helsinki:20170525T080000
DTEND;TZID=Europe/Helsinki:20170527T170000
DTSTAMP:20260426T045918
CREATED:20170423T180245Z
LAST-MODIFIED:20170423T203915Z
UID:11730-1495699200-1495904400@meppelerschaakvereniging.nl
SUMMARY:NK Jeugd D
DESCRIPTION:Met MSV-jeugdleden Wessel Adema\, Florian Molanus en Eva Molanus
URL:https://meppelerschaakvereniging.nl/agenda/nk-jeugd-d/
CATEGORIES:Jeugd
END:VEVENT
BEGIN:VEVENT
DTSTART;TZID=Europe/Helsinki:20170523T200000
DTEND;TZID=Europe/Helsinki:20170523T235500
DTSTAMP:20260426T045918
CREATED:20161011T125104Z
LAST-MODIFIED:20170423T161130Z
UID:11210-1495569600-1495583700@meppelerschaakvereniging.nl
SUMMARY:Start zomercompetitie
DESCRIPTION:
URL:https://meppelerschaakvereniging.nl/agenda/start-zomercompetitie/
END:VEVENT
END:VCALENDAR