BEGIN:VCALENDAR
VERSION:2.0
PRODID:-//Meppeler Schaakvereniging - ECPv6.15.20//NONSGML v1.0//EN
CALSCALE:GREGORIAN
METHOD:PUBLISH
X-WR-CALNAME:Meppeler Schaakvereniging
X-ORIGINAL-URL:https://meppelerschaakvereniging.nl
X-WR-CALDESC:Evenementen voor Meppeler Schaakvereniging
REFRESH-INTERVAL;VALUE=DURATION:PT1H
X-Robots-Tag:noindex
X-PUBLISHED-TTL:PT1H
BEGIN:VTIMEZONE
TZID:Europe/Amsterdam
BEGIN:DAYLIGHT
TZOFFSETFROM:+0100
TZOFFSETTO:+0200
TZNAME:CEST
DTSTART:20230326T010000
END:DAYLIGHT
BEGIN:STANDARD
TZOFFSETFROM:+0200
TZOFFSETTO:+0100
TZNAME:CET
DTSTART:20231029T010000
END:STANDARD
BEGIN:DAYLIGHT
TZOFFSETFROM:+0100
TZOFFSETTO:+0200
TZNAME:CEST
DTSTART:20240331T010000
END:DAYLIGHT
BEGIN:STANDARD
TZOFFSETFROM:+0200
TZOFFSETTO:+0100
TZNAME:CET
DTSTART:20241027T010000
END:STANDARD
BEGIN:DAYLIGHT
TZOFFSETFROM:+0100
TZOFFSETTO:+0200
TZNAME:CEST
DTSTART:20250330T010000
END:DAYLIGHT
BEGIN:STANDARD
TZOFFSETFROM:+0200
TZOFFSETTO:+0100
TZNAME:CET
DTSTART:20251026T010000
END:STANDARD
END:VTIMEZONE
BEGIN:VEVENT
DTSTART;TZID=Europe/Amsterdam:20240203T130000
DTEND;TZID=Europe/Amsterdam:20240203T190000
DTSTAMP:20260423T054914
CREATED:20230817T174205Z
LAST-MODIFIED:20230818T114229Z
UID:16003-1706965200-1706986800@meppelerschaakvereniging.nl
SUMMARY:SG Max Euwe 2 - MSV 1  (KNSB)
DESCRIPTION:Zie https://knsb.netstand.nl/rounds/view/2869
URL:https://meppelerschaakvereniging.nl/agenda/sg-max-euwe-2-msv-1-knsb/
CATEGORIES:Senioren extern
END:VEVENT
BEGIN:VEVENT
DTSTART;TZID=Europe/Amsterdam:20240206T200000
DTEND;TZID=Europe/Amsterdam:20240206T200000
DTSTAMP:20260423T054914
CREATED:20231011T103124Z
LAST-MODIFIED:20231011T103124Z
UID:16148-1707249600-1707249600@meppelerschaakvereniging.nl
SUMMARY:Rapid 2
DESCRIPTION:
URL:https://meppelerschaakvereniging.nl/agenda/rapid-2-2/
LOCATION:Stadscafe Oasis\, Kerkplein 15\, Meppel\, 7941 BG\, Nederland
CATEGORIES:Senioren intern
END:VEVENT
BEGIN:VEVENT
DTSTART;TZID=Europe/Amsterdam:20240207T130000
DTEND;TZID=Europe/Amsterdam:20240207T170000
DTSTAMP:20260423T054914
CREATED:20231208T120314Z
LAST-MODIFIED:20231208T120314Z
UID:16271-1707310800-1707325200@meppelerschaakvereniging.nl
SUMMARY:Basisschool schaakkampioenschap dag 2
DESCRIPTION:
URL:https://meppelerschaakvereniging.nl/agenda/basisschool-schaakkampioenschap-dag-2-2/
LOCATION:Wijkcentrum de Poele\, Groen van Prinstererstraat 1A\, Meppel\, 7942 CW \, Nederland
CATEGORIES:Jeugd
END:VEVENT
BEGIN:VEVENT
DTSTART;TZID=Europe/Amsterdam:20240208T200000
DTEND;TZID=Europe/Amsterdam:20240208T200000
DTSTAMP:20260423T054914
CREATED:20230831T161816Z
LAST-MODIFIED:20230901T111049Z
UID:16061-1707422400-1707422400@meppelerschaakvereniging.nl
SUMMARY:LSV 1 - MSV 1   (SOS)
DESCRIPTION:Zie https://sosc.netstand.nl/rounds/view/2445
URL:https://meppelerschaakvereniging.nl/agenda/lsv-1-msv-1/
CATEGORIES:Senioren extern
END:VEVENT
BEGIN:VEVENT
DTSTART;TZID=Europe/Amsterdam:20240213T200000
DTEND;TZID=Europe/Amsterdam:20240213T200000
DTSTAMP:20260423T054914
CREATED:20230831T161731Z
LAST-MODIFIED:20230901T111114Z
UID:16059-1707854400-1707854400@meppelerschaakvereniging.nl
SUMMARY:MSV 2 - SV Het Zwartewater 1  (SOS)
DESCRIPTION:Zie https://sosc.netstand.nl/rounds/view/2445
URL:https://meppelerschaakvereniging.nl/agenda/msv-2-sv-het-zwartewater-1-sos/
LOCATION:Stadscafe Oasis\, Kerkplein 15\, Meppel\, 7941 BG\, Nederland
CATEGORIES:Senioren extern
END:VEVENT
BEGIN:VEVENT
DTSTART;TZID=Europe/Amsterdam:20240213T200000
DTEND;TZID=Europe/Amsterdam:20240213T200000
DTSTAMP:20260423T054914
CREATED:20231208T114055Z
LAST-MODIFIED:20231208T114844Z
UID:16213-1707854400-1707854400@meppelerschaakvereniging.nl
SUMMARY:Intern P3-R1
DESCRIPTION:
URL:https://meppelerschaakvereniging.nl/agenda/intern-p3-r1/
LOCATION:Stadscafe Oasis\, Kerkplein 15\, Meppel\, 7941 BG\, Nederland
CATEGORIES:Senioren intern
END:VEVENT
BEGIN:VEVENT
DTSTART;TZID=Europe/Amsterdam:20240220T200000
DTEND;TZID=Europe/Amsterdam:20240220T200000
DTSTAMP:20260423T054914
CREATED:20231208T114917Z
LAST-MODIFIED:20231208T114917Z
UID:16231-1708459200-1708459200@meppelerschaakvereniging.nl
SUMMARY:Intern P3-R2
DESCRIPTION:
URL:https://meppelerschaakvereniging.nl/agenda/intern-p3-r2/
LOCATION:Stadscafe Oasis\, Kerkplein 15\, Meppel\, 7941 BG\, Nederland
CATEGORIES:Senioren intern
END:VEVENT
BEGIN:VEVENT
DTSTART;TZID=Europe/Amsterdam:20240227T200000
DTEND;TZID=Europe/Amsterdam:20240227T200000
DTSTAMP:20260423T054914
CREATED:20231208T114941Z
LAST-MODIFIED:20231208T114941Z
UID:16233-1709064000-1709064000@meppelerschaakvereniging.nl
SUMMARY:Intern P3-R3
DESCRIPTION:
URL:https://meppelerschaakvereniging.nl/agenda/intern-p3-r3/
LOCATION:Stadscafe Oasis\, Kerkplein 15\, Meppel\, 7941 BG\, Nederland
CATEGORIES:Senioren intern
END:VEVENT
END:VCALENDAR