BEGIN:VCALENDAR
VERSION:2.0
PRODID:-//Meppeler Schaakvereniging - ECPv6.15.20//NONSGML v1.0//EN
CALSCALE:GREGORIAN
METHOD:PUBLISH
X-WR-CALNAME:Meppeler Schaakvereniging
X-ORIGINAL-URL:https://meppelerschaakvereniging.nl
X-WR-CALDESC:Evenementen voor Meppeler Schaakvereniging
REFRESH-INTERVAL;VALUE=DURATION:PT1H
X-Robots-Tag:noindex
X-PUBLISHED-TTL:PT1H
BEGIN:VTIMEZONE
TZID:Europe/Amsterdam
BEGIN:DAYLIGHT
TZOFFSETFROM:+0100
TZOFFSETTO:+0200
TZNAME:CEST
DTSTART:20230326T010000
END:DAYLIGHT
BEGIN:STANDARD
TZOFFSETFROM:+0200
TZOFFSETTO:+0100
TZNAME:CET
DTSTART:20231029T010000
END:STANDARD
BEGIN:DAYLIGHT
TZOFFSETFROM:+0100
TZOFFSETTO:+0200
TZNAME:CEST
DTSTART:20240331T010000
END:DAYLIGHT
BEGIN:STANDARD
TZOFFSETFROM:+0200
TZOFFSETTO:+0100
TZNAME:CET
DTSTART:20241027T010000
END:STANDARD
BEGIN:DAYLIGHT
TZOFFSETFROM:+0100
TZOFFSETTO:+0200
TZNAME:CEST
DTSTART:20250330T010000
END:DAYLIGHT
BEGIN:STANDARD
TZOFFSETFROM:+0200
TZOFFSETTO:+0100
TZNAME:CET
DTSTART:20251026T010000
END:STANDARD
END:VTIMEZONE
BEGIN:VEVENT
DTSTART;TZID=Europe/Amsterdam:20240302T130000
DTEND;TZID=Europe/Amsterdam:20240302T190000
DTSTAMP:20260423T041723
CREATED:20230817T174249Z
LAST-MODIFIED:20230818T114300Z
UID:16005-1709384400-1709406000@meppelerschaakvereniging.nl
SUMMARY:MSV 1 - Assen 1  (KNSB)
DESCRIPTION:Zie https://knsb.netstand.nl/rounds/view/2870
URL:https://meppelerschaakvereniging.nl/agenda/msv-1-assen-1-knsb/
LOCATION:Eetcafé De Beurs\, Grote Kerkstraat 3\, Meppel\, 7941 LA\, Nederland
CATEGORIES:Senioren extern
END:VEVENT
BEGIN:VEVENT
DTSTART;TZID=Europe/Amsterdam:20240305T200000
DTEND;TZID=Europe/Amsterdam:20240305T200000
DTSTAMP:20260423T041723
CREATED:20230831T161857Z
LAST-MODIFIED:20230901T111211Z
UID:16063-1709668800-1709668800@meppelerschaakvereniging.nl
SUMMARY:MSV 1 - VSG 3   (SOS)
DESCRIPTION:Zie https://sosc.netstand.nl/rounds/view/2446
URL:https://meppelerschaakvereniging.nl/agenda/msv-1-vsg-3-sos/
LOCATION:Stadscafe Oasis\, Kerkplein 15\, Meppel\, 7941 BG\, Nederland
CATEGORIES:Senioren extern
END:VEVENT
BEGIN:VEVENT
DTSTART;TZID=Europe/Amsterdam:20240305T200000
DTEND;TZID=Europe/Amsterdam:20240305T200000
DTSTAMP:20260423T041723
CREATED:20231208T115008Z
LAST-MODIFIED:20231208T115008Z
UID:16235-1709668800-1709668800@meppelerschaakvereniging.nl
SUMMARY:Intern P3-R4
DESCRIPTION:
URL:https://meppelerschaakvereniging.nl/agenda/intern-p3-r4/
LOCATION:Stadscafe Oasis\, Kerkplein 15\, Meppel\, 7941 BG\, Nederland
CATEGORIES:Senioren intern
END:VEVENT
BEGIN:VEVENT
DTSTART;TZID=Europe/Amsterdam:20240312T200000
DTEND;TZID=Europe/Amsterdam:20240312T200000
DTSTAMP:20260423T041723
CREATED:20231208T115033Z
LAST-MODIFIED:20231208T115033Z
UID:16237-1710273600-1710273600@meppelerschaakvereniging.nl
SUMMARY:Intern P3-R5
DESCRIPTION:
URL:https://meppelerschaakvereniging.nl/agenda/intern-p3-r5/
LOCATION:Stadscafe Oasis\, Kerkplein 15\, Meppel\, 7941 BG\, Nederland
CATEGORIES:Senioren intern
END:VEVENT
BEGIN:VEVENT
DTSTART;TZID=Europe/Amsterdam:20240314T200000
DTEND;TZID=Europe/Amsterdam:20240314T200000
DTSTAMP:20260423T041723
CREATED:20230831T161944Z
LAST-MODIFIED:20230901T111234Z
UID:16065-1710446400-1710446400@meppelerschaakvereniging.nl
SUMMARY:ZZS! 2 - MSV 2  (SOS)
DESCRIPTION:Zie https://sosc.netstand.nl/rounds/view/2446
URL:https://meppelerschaakvereniging.nl/agenda/zzs-2-msv-2-sos/
CATEGORIES:Senioren extern
END:VEVENT
BEGIN:VEVENT
DTSTART;TZID=Europe/Amsterdam:20240319T200000
DTEND;TZID=Europe/Amsterdam:20240319T200000
DTSTAMP:20260423T041723
CREATED:20231208T115100Z
LAST-MODIFIED:20231208T115100Z
UID:16239-1710878400-1710878400@meppelerschaakvereniging.nl
SUMMARY:Intern P3-R6
DESCRIPTION:
URL:https://meppelerschaakvereniging.nl/agenda/intern-p3-r6/
LOCATION:Stadscafe Oasis\, Kerkplein 15\, Meppel\, 7941 BG\, Nederland
CATEGORIES:Senioren intern
END:VEVENT
BEGIN:VEVENT
DTSTART;TZID=Europe/Amsterdam:20240323T130000
DTEND;TZID=Europe/Amsterdam:20240323T190000
DTSTAMP:20260423T041723
CREATED:20230817T174332Z
LAST-MODIFIED:20230818T114331Z
UID:16007-1711198800-1711220400@meppelerschaakvereniging.nl
SUMMARY:LOS 1 - MSV 1  (KNSB)
DESCRIPTION:Zie https://knsb.netstand.nl/rounds/view/2871
URL:https://meppelerschaakvereniging.nl/agenda/los-1-msv-1-knsb/
CATEGORIES:Senioren extern
END:VEVENT
BEGIN:VEVENT
DTSTART;TZID=Europe/Amsterdam:20240326T200000
DTEND;TZID=Europe/Amsterdam:20240326T200000
DTSTAMP:20260423T041723
CREATED:20231208T115126Z
LAST-MODIFIED:20231208T115126Z
UID:16241-1711483200-1711483200@meppelerschaakvereniging.nl
SUMMARY:Intern P3-R7
DESCRIPTION:
URL:https://meppelerschaakvereniging.nl/agenda/intern-p3-r7/
LOCATION:Stadscafe Oasis\, Kerkplein 15\, Meppel\, 7941 BG\, Nederland
CATEGORIES:Senioren intern
END:VEVENT
END:VCALENDAR