BEGIN:VCALENDAR
VERSION:2.0
PRODID:-//Meppeler Schaakvereniging - ECPv6.15.20//NONSGML v1.0//EN
CALSCALE:GREGORIAN
METHOD:PUBLISH
X-ORIGINAL-URL:https://meppelerschaakvereniging.nl
X-WR-CALDESC:Evenementen voor Meppeler Schaakvereniging
REFRESH-INTERVAL;VALUE=DURATION:PT1H
X-Robots-Tag:noindex
X-PUBLISHED-TTL:PT1H
BEGIN:VTIMEZONE
TZID:Europe/Amsterdam
BEGIN:DAYLIGHT
TZOFFSETFROM:+0100
TZOFFSETTO:+0200
TZNAME:CEST
DTSTART:20230326T010000
END:DAYLIGHT
BEGIN:STANDARD
TZOFFSETFROM:+0200
TZOFFSETTO:+0100
TZNAME:CET
DTSTART:20231029T010000
END:STANDARD
BEGIN:DAYLIGHT
TZOFFSETFROM:+0100
TZOFFSETTO:+0200
TZNAME:CEST
DTSTART:20240331T010000
END:DAYLIGHT
BEGIN:STANDARD
TZOFFSETFROM:+0200
TZOFFSETTO:+0100
TZNAME:CET
DTSTART:20241027T010000
END:STANDARD
BEGIN:DAYLIGHT
TZOFFSETFROM:+0100
TZOFFSETTO:+0200
TZNAME:CEST
DTSTART:20250330T010000
END:DAYLIGHT
BEGIN:STANDARD
TZOFFSETFROM:+0200
TZOFFSETTO:+0100
TZNAME:CET
DTSTART:20251026T010000
END:STANDARD
END:VTIMEZONE
BEGIN:VEVENT
DTSTART;TZID=Europe/Amsterdam:20240702T200000
DTEND;TZID=Europe/Amsterdam:20240702T200000
DTSTAMP:20260422T224405
CREATED:20240503T133618Z
LAST-MODIFIED:20240503T133618Z
UID:16605-1719950400-1719950400@meppelerschaakvereniging.nl
SUMMARY:Zomerschaak 2
DESCRIPTION:Rapidtoernooi bij Stadscafé Oasis. \n5 ronden per avond. \nKom gerust langs als je zin hebt in een potje schaken.
URL:https://meppelerschaakvereniging.nl/agenda/zomerschaak-2-3/
LOCATION:Stadscafe Oasis\, Kerkplein 15\, Meppel\, 7941 BG\, Nederland
CATEGORIES:Algemeen
END:VEVENT
BEGIN:VEVENT
DTSTART;TZID=Europe/Amsterdam:20240709T080000
DTEND;TZID=Europe/Amsterdam:20240709T170000
DTSTAMP:20260422T224405
CREATED:20240503T133712Z
LAST-MODIFIED:20240503T133712Z
UID:16607-1720512000-1720544400@meppelerschaakvereniging.nl
SUMMARY:Zomerschaak 3
DESCRIPTION:Rapidtoernooi bij Stadscafé Oasis. \n5 ronden per avond. \nKom gerust langs als je zin hebt in een potje schaken.
URL:https://meppelerschaakvereniging.nl/agenda/zomerschaak-3-3/
LOCATION:Stadscafe Oasis\, Kerkplein 15\, Meppel\, 7941 BG\, Nederland
CATEGORIES:Algemeen
END:VEVENT
BEGIN:VEVENT
DTSTART;TZID=Europe/Amsterdam:20240716T200000
DTEND;TZID=Europe/Amsterdam:20240716T200000
DTSTAMP:20260422T224405
CREATED:20240503T133748Z
LAST-MODIFIED:20240503T133811Z
UID:16609-1721160000-1721160000@meppelerschaakvereniging.nl
SUMMARY:Zomerschaak 4
DESCRIPTION:Rapidtoernooi bij Stadscafé Oasis. \n5 ronden per avond. \nKom gerust langs als je zin hebt in een potje schaken.
URL:https://meppelerschaakvereniging.nl/agenda/zomerschaak-4-3/
LOCATION:Stadscafe Oasis\, Kerkplein 15\, Meppel\, 7941 BG\, Nederland
CATEGORIES:Algemeen
END:VEVENT
BEGIN:VEVENT
DTSTART;TZID=Europe/Amsterdam:20240723T200000
DTEND;TZID=Europe/Amsterdam:20240723T200000
DTSTAMP:20260422T224405
CREATED:20240503T133847Z
LAST-MODIFIED:20240503T133847Z
UID:16611-1721764800-1721764800@meppelerschaakvereniging.nl
SUMMARY:Zomerschaak 5
DESCRIPTION:Rapidtoernooi bij Stadscafé Oasis. \n5 ronden per avond. \nKom gerust langs als je zin hebt in een potje schaken.
URL:https://meppelerschaakvereniging.nl/agenda/zomerschaak-5-3/
LOCATION:Stadscafe Oasis\, Kerkplein 15\, Meppel\, 7941 BG\, Nederland
CATEGORIES:Algemeen
END:VEVENT
BEGIN:VEVENT
DTSTART;TZID=Europe/Amsterdam:20240730T200000
DTEND;TZID=Europe/Amsterdam:20240730T200000
DTSTAMP:20260422T224405
CREATED:20240503T133919Z
LAST-MODIFIED:20240503T133919Z
UID:16613-1722369600-1722369600@meppelerschaakvereniging.nl
SUMMARY:Zomerschaak 6
DESCRIPTION:Rapidtoernooi bij Stadscafé Oasis. \n5 ronden per avond. \nKom gerust langs als je zin hebt in een potje schaken.
URL:https://meppelerschaakvereniging.nl/agenda/zomerschaak-6-3/
LOCATION:Stadscafe Oasis\, Kerkplein 15\, Meppel\, 7941 BG\, Nederland
CATEGORIES:Algemeen
END:VEVENT
END:VCALENDAR