BEGIN:VCALENDAR
VERSION:2.0
PRODID:-//Meppeler Schaakvereniging - ECPv6.15.20//NONSGML v1.0//EN
CALSCALE:GREGORIAN
METHOD:PUBLISH
X-ORIGINAL-URL:https://meppelerschaakvereniging.nl
X-WR-CALDESC:Evenementen voor Meppeler Schaakvereniging
REFRESH-INTERVAL;VALUE=DURATION:PT1H
X-Robots-Tag:noindex
X-PUBLISHED-TTL:PT1H
BEGIN:VTIMEZONE
TZID:Europe/Amsterdam
BEGIN:DAYLIGHT
TZOFFSETFROM:+0100
TZOFFSETTO:+0200
TZNAME:CEST
DTSTART:20240331T010000
END:DAYLIGHT
BEGIN:STANDARD
TZOFFSETFROM:+0200
TZOFFSETTO:+0100
TZNAME:CET
DTSTART:20241027T010000
END:STANDARD
BEGIN:DAYLIGHT
TZOFFSETFROM:+0100
TZOFFSETTO:+0200
TZNAME:CEST
DTSTART:20250330T010000
END:DAYLIGHT
BEGIN:STANDARD
TZOFFSETFROM:+0200
TZOFFSETTO:+0100
TZNAME:CET
DTSTART:20251026T010000
END:STANDARD
BEGIN:DAYLIGHT
TZOFFSETFROM:+0100
TZOFFSETTO:+0200
TZNAME:CEST
DTSTART:20260329T010000
END:DAYLIGHT
BEGIN:STANDARD
TZOFFSETFROM:+0200
TZOFFSETTO:+0100
TZNAME:CET
DTSTART:20261025T010000
END:STANDARD
END:VTIMEZONE
BEGIN:VEVENT
DTSTART;TZID=Europe/Amsterdam:20251002T200000
DTEND;TZID=Europe/Amsterdam:20251002T200000
DTSTAMP:20260422T003429
CREATED:20250827T171747Z
LAST-MODIFIED:20250901T153212Z
UID:17613-1759435200-1759435200@meppelerschaakvereniging.nl
SUMMARY:ZZS! 2 - MSV 2  (SOS)
DESCRIPTION:Zie ook: https://sosc.netstand.nl/rounds/view/3228
URL:https://meppelerschaakvereniging.nl/agenda/zzs-2-msv-2-sos-3/
CATEGORIES:Senioren extern
END:VEVENT
BEGIN:VEVENT
DTSTART;TZID=Europe/Amsterdam:20251004T130000
DTEND;TZID=Europe/Amsterdam:20251004T190000
DTSTAMP:20260422T003429
CREATED:20250804T174057Z
LAST-MODIFIED:20250807T153154Z
UID:17552-1759582800-1759604400@meppelerschaakvereniging.nl
SUMMARY:MSV 1 - LOS 1  (KNSB)
DESCRIPTION:Zie ook: https://knsb.netstand.nl/rounds/view/3916
URL:https://meppelerschaakvereniging.nl/agenda/msv-1-los-1-knsb/
LOCATION:Stadscafe Oasis\, Kerkplein 15\, Meppel\, 7941 BG\, Nederland
CATEGORIES:Senioren extern
END:VEVENT
BEGIN:VEVENT
DTSTART;TZID=Europe/Amsterdam:20251007T200000
DTEND;TZID=Europe/Amsterdam:20251007T200000
DTSTAMP:20260422T003429
CREATED:20250723T173829Z
LAST-MODIFIED:20250723T173829Z
UID:17471-1759867200-1759867200@meppelerschaakvereniging.nl
SUMMARY:Intern P1-R3
DESCRIPTION:
URL:https://meppelerschaakvereniging.nl/agenda/intern-p1-r3-3/
LOCATION:Stadscafe Oasis\, Kerkplein 15\, Meppel\, 7941 BG\, Nederland
CATEGORIES:Senioren intern
END:VEVENT
BEGIN:VEVENT
DTSTART;TZID=Europe/Amsterdam:20251007T200000
DTEND;TZID=Europe/Amsterdam:20251007T200000
DTSTAMP:20260422T003429
CREATED:20250827T171653Z
LAST-MODIFIED:20250901T152107Z
UID:17611-1759867200-1759867200@meppelerschaakvereniging.nl
SUMMARY:MSV 1 - S.C. 't Zwarte Paard 1  (SOS)
DESCRIPTION:Zie ook: https://sosc.netstand.nl/rounds/view/3193
URL:https://meppelerschaakvereniging.nl/agenda/msv-1-s-c-t-zwarte-paard-1-sos/
LOCATION:Stadscafe Oasis\, Kerkplein 15\, Meppel\, 7941 BG\, Nederland
CATEGORIES:Senioren extern
END:VEVENT
BEGIN:VEVENT
DTSTART;TZID=Europe/Amsterdam:20251014T200000
DTEND;TZID=Europe/Amsterdam:20251014T200000
DTSTAMP:20260422T003429
CREATED:20250723T173933Z
LAST-MODIFIED:20250723T173933Z
UID:17473-1760472000-1760472000@meppelerschaakvereniging.nl
SUMMARY:Intern P1-R4
DESCRIPTION:
URL:https://meppelerschaakvereniging.nl/agenda/intern-p1-r4-3/
LOCATION:Stadscafe Oasis\, Kerkplein 15\, Meppel\, 7941 BG\, Nederland
CATEGORIES:Senioren intern
END:VEVENT
BEGIN:VEVENT
DTSTART;TZID=Europe/Amsterdam:20251021T200000
DTEND;TZID=Europe/Amsterdam:20251021T200000
DTSTAMP:20260422T003429
CREATED:20250723T174024Z
LAST-MODIFIED:20250723T174024Z
UID:17475-1761076800-1761076800@meppelerschaakvereniging.nl
SUMMARY:Intern P1-R5
DESCRIPTION:
URL:https://meppelerschaakvereniging.nl/agenda/intern-p1-r5-3/
LOCATION:Stadscafe Oasis\, Kerkplein 15\, Meppel\, 7941 BG\, Nederland
CATEGORIES:Senioren intern
END:VEVENT
BEGIN:VEVENT
DTSTART;TZID=Europe/Amsterdam:20251028T200000
DTEND;TZID=Europe/Amsterdam:20251028T200000
DTSTAMP:20260422T003429
CREATED:20250723T174105Z
LAST-MODIFIED:20250723T174105Z
UID:17477-1761681600-1761681600@meppelerschaakvereniging.nl
SUMMARY:Intern P1-R6
DESCRIPTION:
URL:https://meppelerschaakvereniging.nl/agenda/intern-p1-r6-3/
LOCATION:Stadscafe Oasis\, Kerkplein 15\, Meppel\, 7941 BG\, Nederland
CATEGORIES:Senioren intern
END:VEVENT
END:VCALENDAR