BEGIN:VCALENDAR
VERSION:2.0
PRODID:-//Meppeler Schaakvereniging - ECPv6.15.20//NONSGML v1.0//EN
CALSCALE:GREGORIAN
METHOD:PUBLISH
X-ORIGINAL-URL:https://meppelerschaakvereniging.nl
X-WR-CALDESC:Evenementen voor Meppeler Schaakvereniging
REFRESH-INTERVAL;VALUE=DURATION:PT1H
X-Robots-Tag:noindex
X-PUBLISHED-TTL:PT1H
BEGIN:VTIMEZONE
TZID:Europe/Amsterdam
BEGIN:DAYLIGHT
TZOFFSETFROM:+0100
TZOFFSETTO:+0200
TZNAME:CEST
DTSTART:20240331T010000
END:DAYLIGHT
BEGIN:STANDARD
TZOFFSETFROM:+0200
TZOFFSETTO:+0100
TZNAME:CET
DTSTART:20241027T010000
END:STANDARD
BEGIN:DAYLIGHT
TZOFFSETFROM:+0100
TZOFFSETTO:+0200
TZNAME:CEST
DTSTART:20250330T010000
END:DAYLIGHT
BEGIN:STANDARD
TZOFFSETFROM:+0200
TZOFFSETTO:+0100
TZNAME:CET
DTSTART:20251026T010000
END:STANDARD
BEGIN:DAYLIGHT
TZOFFSETFROM:+0100
TZOFFSETTO:+0200
TZNAME:CEST
DTSTART:20260329T010000
END:DAYLIGHT
BEGIN:STANDARD
TZOFFSETFROM:+0200
TZOFFSETTO:+0100
TZNAME:CET
DTSTART:20261025T010000
END:STANDARD
END:VTIMEZONE
BEGIN:VEVENT
DTSTART;TZID=Europe/Amsterdam:20251202T200000
DTEND;TZID=Europe/Amsterdam:20251202T200000
DTSTAMP:20260421T212322
CREATED:20250723T174516Z
LAST-MODIFIED:20250723T174516Z
UID:17487-1764705600-1764705600@meppelerschaakvereniging.nl
SUMMARY:Intern P2-R2
DESCRIPTION:
URL:https://meppelerschaakvereniging.nl/agenda/intern-p2-r2-3/
LOCATION:Stadscafe Oasis\, Kerkplein 15\, Meppel\, 7941 BG\, Nederland
CATEGORIES:Senioren intern
END:VEVENT
BEGIN:VEVENT
DTSTART;TZID=Europe/Amsterdam:20251209T200000
DTEND;TZID=Europe/Amsterdam:20251209T200000
DTSTAMP:20260421T212322
CREATED:20250723T174552Z
LAST-MODIFIED:20250723T174552Z
UID:17489-1765310400-1765310400@meppelerschaakvereniging.nl
SUMMARY:Intern P2-R3
DESCRIPTION:
URL:https://meppelerschaakvereniging.nl/agenda/intern-p2-r3-3/
LOCATION:Stadscafe Oasis\, Kerkplein 15\, Meppel\, 7941 BG\, Nederland
CATEGORIES:Senioren intern
END:VEVENT
BEGIN:VEVENT
DTSTART;TZID=Europe/Amsterdam:20251213T130000
DTEND;TZID=Europe/Amsterdam:20251213T190000
DTSTAMP:20260421T212322
CREATED:20250804T174400Z
LAST-MODIFIED:20250807T152326Z
UID:17556-1765630800-1765652400@meppelerschaakvereniging.nl
SUMMARY:MSV 1 - Woerden 1  (KNSB)
DESCRIPTION:Zie ook: https://knsb.netstand.nl/rounds/view/3919
URL:https://meppelerschaakvereniging.nl/agenda/msv-1-woerden-1-knsb/
LOCATION:Stadscafe Oasis\, Kerkplein 15\, Meppel\, 7941 BG\, Nederland
CATEGORIES:Senioren extern
END:VEVENT
BEGIN:VEVENT
DTSTART;TZID=Europe/Amsterdam:20251216T200000
DTEND;TZID=Europe/Amsterdam:20251216T200000
DTSTAMP:20260421T212322
CREATED:20250723T174624Z
LAST-MODIFIED:20250723T174624Z
UID:17491-1765915200-1765915200@meppelerschaakvereniging.nl
SUMMARY:Intern P2-R4
DESCRIPTION:
URL:https://meppelerschaakvereniging.nl/agenda/intern-p2-r4-3/
LOCATION:Stadscafe Oasis\, Kerkplein 15\, Meppel\, 7941 BG\, Nederland
CATEGORIES:Senioren intern
END:VEVENT
BEGIN:VEVENT
DTSTART;TZID=Europe/Amsterdam:20251223T200000
DTEND;TZID=Europe/Amsterdam:20251223T200000
DTSTAMP:20260421T212322
CREATED:20251217T130230Z
LAST-MODIFIED:20251217T130230Z
UID:19850-1766520000-1766520000@meppelerschaakvereniging.nl
SUMMARY:Extra Rapidschaak
DESCRIPTION:Omdat deze dag leeg was gelaten en er toch mensen zijn die graag willen schaken is er een extra Rapidtoernooi.
URL:https://meppelerschaakvereniging.nl/agenda/extra-rapidschaak/
LOCATION:Stadscafe Oasis\, Kerkplein 15\, Meppel\, 7941 BG\, Nederland
CATEGORIES:Senioren intern
END:VEVENT
BEGIN:VEVENT
DTSTART;TZID=Europe/Amsterdam:20251230T200000
DTEND;TZID=Europe/Amsterdam:20251230T200000
DTSTAMP:20260421T212322
CREATED:20251228T125651Z
LAST-MODIFIED:20251228T125651Z
UID:19861-1767124800-1767124800@meppelerschaakvereniging.nl
SUMMARY:Extra Rapidschaak
DESCRIPTION:Omdat deze dag leeg was gelaten en er toch mensen zijn die graag willen schaken is er een extra Rapidtoernooi.
URL:https://meppelerschaakvereniging.nl/agenda/extra-rapidschaak-2/
LOCATION:Stadscafe Oasis\, Kerkplein 15\, Meppel\, 7941 BG\, Nederland
CATEGORIES:Senioren intern
END:VEVENT
END:VCALENDAR