BEGIN:VCALENDAR
VERSION:2.0
PRODID:-//Meppeler Schaakvereniging - ECPv6.15.20//NONSGML v1.0//EN
CALSCALE:GREGORIAN
METHOD:PUBLISH
X-ORIGINAL-URL:https://meppelerschaakvereniging.nl
X-WR-CALDESC:Evenementen voor Meppeler Schaakvereniging
REFRESH-INTERVAL;VALUE=DURATION:PT1H
X-Robots-Tag:noindex
X-PUBLISHED-TTL:PT1H
BEGIN:VTIMEZONE
TZID:Europe/Amsterdam
BEGIN:DAYLIGHT
TZOFFSETFROM:+0100
TZOFFSETTO:+0200
TZNAME:CEST
DTSTART:20250330T010000
END:DAYLIGHT
BEGIN:STANDARD
TZOFFSETFROM:+0200
TZOFFSETTO:+0100
TZNAME:CET
DTSTART:20251026T010000
END:STANDARD
BEGIN:DAYLIGHT
TZOFFSETFROM:+0100
TZOFFSETTO:+0200
TZNAME:CEST
DTSTART:20260329T010000
END:DAYLIGHT
BEGIN:STANDARD
TZOFFSETFROM:+0200
TZOFFSETTO:+0100
TZNAME:CET
DTSTART:20261025T010000
END:STANDARD
BEGIN:DAYLIGHT
TZOFFSETFROM:+0100
TZOFFSETTO:+0200
TZNAME:CEST
DTSTART:20270328T010000
END:DAYLIGHT
BEGIN:STANDARD
TZOFFSETFROM:+0200
TZOFFSETTO:+0100
TZNAME:CET
DTSTART:20271031T010000
END:STANDARD
END:VTIMEZONE
BEGIN:VEVENT
DTSTART;TZID=Europe/Amsterdam:20260303T200000
DTEND;TZID=Europe/Amsterdam:20260303T200000
DTSTAMP:20260421T170655
CREATED:20250724T070536Z
LAST-MODIFIED:20250724T070536Z
UID:17513-1772568000-1772568000@meppelerschaakvereniging.nl
SUMMARY:Intern P3-R2
DESCRIPTION:
URL:https://meppelerschaakvereniging.nl/agenda/intern-p3-r2-3/
LOCATION:Stadscafe Oasis\, Kerkplein 15\, Meppel\, 7941 BG\, Nederland
CATEGORIES:Senioren intern
END:VEVENT
BEGIN:VEVENT
DTSTART;TZID=Europe/Amsterdam:20260307T130000
DTEND;TZID=Europe/Amsterdam:20260307T190000
DTSTAMP:20260421T170655
CREATED:20250804T174744Z
LAST-MODIFIED:20250807T152636Z
UID:17564-1772888400-1772910000@meppelerschaakvereniging.nl
SUMMARY:BSG 1 - MSV 1  (KNSB)
DESCRIPTION:Zie ook: https://knsb.netstand.nl/rounds/view/3922
URL:https://meppelerschaakvereniging.nl/agenda/bsg-1-msv-1-knsb/
CATEGORIES:Senioren extern
END:VEVENT
BEGIN:VEVENT
DTSTART;TZID=Europe/Amsterdam:20260310T200000
DTEND;TZID=Europe/Amsterdam:20260310T200000
DTSTAMP:20260421T170655
CREATED:20250724T070614Z
LAST-MODIFIED:20250724T070614Z
UID:17515-1773172800-1773172800@meppelerschaakvereniging.nl
SUMMARY:Intern P3-R3
DESCRIPTION:
URL:https://meppelerschaakvereniging.nl/agenda/intern-p3-r3-3/
LOCATION:Stadscafe Oasis\, Kerkplein 15\, Meppel\, 7941 BG\, Nederland
CATEGORIES:Senioren intern
END:VEVENT
BEGIN:VEVENT
DTSTART;TZID=Europe/Amsterdam:20260312T200000
DTEND;TZID=Europe/Amsterdam:20260312T200000
DTSTAMP:20260421T170655
CREATED:20250901T152841Z
LAST-MODIFIED:20250901T152858Z
UID:17626-1773345600-1773345600@meppelerschaakvereniging.nl
SUMMARY:Caissa Elburg 1 - MSV 1  (SOS)
DESCRIPTION:Zie ook: https://sosc.netstand.nl/rounds/view/3198
URL:https://meppelerschaakvereniging.nl/agenda/caissa-elburg-1-msv-1-sos/
CATEGORIES:Senioren extern
END:VEVENT
BEGIN:VEVENT
DTSTART;TZID=Europe/Amsterdam:20260317T200000
DTEND;TZID=Europe/Amsterdam:20260317T200000
DTSTAMP:20260421T170655
CREATED:20250724T070651Z
LAST-MODIFIED:20250724T070651Z
UID:17517-1773777600-1773777600@meppelerschaakvereniging.nl
SUMMARY:Intern P3-R4
DESCRIPTION:
URL:https://meppelerschaakvereniging.nl/agenda/intern-p3-r4-3/
LOCATION:Stadscafe Oasis\, Kerkplein 15\, Meppel\, 7941 BG\, Nederland
CATEGORIES:Senioren intern
END:VEVENT
BEGIN:VEVENT
DTSTART;TZID=Europe/Amsterdam:20260317T200000
DTEND;TZID=Europe/Amsterdam:20260317T200000
DTSTAMP:20260421T170655
CREATED:20250901T153946Z
LAST-MODIFIED:20250901T153946Z
UID:17639-1773777600-1773777600@meppelerschaakvereniging.nl
SUMMARY:MSV 2 - Pegasus 2  (SOS)
DESCRIPTION:Zie ook:  https://sosc.netstand.nl/rounds/view/3233
URL:https://meppelerschaakvereniging.nl/agenda/msv-2-pegasus-2-sos-2/
LOCATION:Stadscafe Oasis\, Kerkplein 15\, Meppel\, 7941 BG\, Nederland
CATEGORIES:Senioren extern
END:VEVENT
BEGIN:VEVENT
DTSTART;TZID=Europe/Amsterdam:20260324T200000
DTEND;TZID=Europe/Amsterdam:20260324T200000
DTSTAMP:20260421T170655
CREATED:20250724T070733Z
LAST-MODIFIED:20250724T070733Z
UID:17519-1774382400-1774382400@meppelerschaakvereniging.nl
SUMMARY:Intern P3-R5
DESCRIPTION:
URL:https://meppelerschaakvereniging.nl/agenda/intern-p3-r5-3/
LOCATION:Stadscafe Oasis\, Kerkplein 15\, Meppel\, 7941 BG\, Nederland
CATEGORIES:Senioren intern
END:VEVENT
BEGIN:VEVENT
DTSTART;TZID=Europe/Amsterdam:20260328T130000
DTEND;TZID=Europe/Amsterdam:20260328T190000
DTSTAMP:20260421T170655
CREATED:20250804T174619Z
LAST-MODIFIED:20260109T103809Z
UID:17560-1774702800-1774724400@meppelerschaakvereniging.nl
SUMMARY:SOPSWEPS'29 1 - MSV 1  (KNSB)
DESCRIPTION:Ivm weersomstandigheden verplaatst van 10 januari naar 28 maart. \nZie ook: https://knsb.netstand.nl/rounds/view/3920
URL:https://meppelerschaakvereniging.nl/agenda/sopsweps29-1-msv-1-knsb/
CATEGORIES:Senioren extern
END:VEVENT
BEGIN:VEVENT
DTSTART;TZID=Europe/Amsterdam:20260331T200000
DTEND;TZID=Europe/Amsterdam:20260331T200000
DTSTAMP:20260421T170655
CREATED:20250724T070823Z
LAST-MODIFIED:20250724T070823Z
UID:17521-1774987200-1774987200@meppelerschaakvereniging.nl
SUMMARY:Intern P3-R6
DESCRIPTION:
URL:https://meppelerschaakvereniging.nl/agenda/intern-p3-r6-3/
LOCATION:Stadscafe Oasis\, Kerkplein 15\, Meppel\, 7941 BG\, Nederland
CATEGORIES:Senioren intern
END:VEVENT
END:VCALENDAR