BEGIN:VCALENDAR
VERSION:2.0
PRODID:-//Meppeler Schaakvereniging - ECPv6.15.20//NONSGML v1.0//EN
CALSCALE:GREGORIAN
METHOD:PUBLISH
X-ORIGINAL-URL:https://meppelerschaakvereniging.nl
X-WR-CALDESC:Evenementen voor Meppeler Schaakvereniging
REFRESH-INTERVAL;VALUE=DURATION:PT1H
X-Robots-Tag:noindex
X-PUBLISHED-TTL:PT1H
BEGIN:VTIMEZONE
TZID:Europe/Amsterdam
BEGIN:DAYLIGHT
TZOFFSETFROM:+0100
TZOFFSETTO:+0200
TZNAME:CEST
DTSTART:20250330T010000
END:DAYLIGHT
BEGIN:STANDARD
TZOFFSETFROM:+0200
TZOFFSETTO:+0100
TZNAME:CET
DTSTART:20251026T010000
END:STANDARD
BEGIN:DAYLIGHT
TZOFFSETFROM:+0100
TZOFFSETTO:+0200
TZNAME:CEST
DTSTART:20260329T010000
END:DAYLIGHT
BEGIN:STANDARD
TZOFFSETFROM:+0200
TZOFFSETTO:+0100
TZNAME:CET
DTSTART:20261025T010000
END:STANDARD
BEGIN:DAYLIGHT
TZOFFSETFROM:+0100
TZOFFSETTO:+0200
TZNAME:CEST
DTSTART:20270328T010000
END:DAYLIGHT
BEGIN:STANDARD
TZOFFSETFROM:+0200
TZOFFSETTO:+0100
TZNAME:CET
DTSTART:20271031T010000
END:STANDARD
END:VTIMEZONE
BEGIN:VEVENT
DTSTART;TZID=Europe/Amsterdam:20260505T200000
DTEND;TZID=Europe/Amsterdam:20260505T200000
DTSTAMP:20260421T170717
CREATED:20250723T175637Z
LAST-MODIFIED:20250723T175637Z
UID:17509-1778011200-1778011200@meppelerschaakvereniging.nl
SUMMARY:Rapid 3
DESCRIPTION:Rapid avond van 5 rondes met speeltempo: 10 min. p.p. + 5 sec. increment.
URL:https://meppelerschaakvereniging.nl/agenda/rapid-3-2/
LOCATION:Stadscafe Oasis\, Kerkplein 15\, Meppel\, 7941 BG\, Nederland
CATEGORIES:Senioren intern
END:VEVENT
BEGIN:VEVENT
DTSTART;TZID=Europe/Amsterdam:20260512T200000
DTEND;TZID=Europe/Amsterdam:20260512T200000
DTSTAMP:20260421T170717
CREATED:20250724T071152Z
LAST-MODIFIED:20250724T071152Z
UID:17532-1778616000-1778616000@meppelerschaakvereniging.nl
SUMMARY:Intern P4-R3
DESCRIPTION:
URL:https://meppelerschaakvereniging.nl/agenda/intern-p4-r3-3/
LOCATION:Stadscafe Oasis\, Kerkplein 15\, Meppel\, 7941 BG\, Nederland
CATEGORIES:Senioren intern
END:VEVENT
BEGIN:VEVENT
DTSTART;TZID=Europe/Amsterdam:20260519T200000
DTEND;TZID=Europe/Amsterdam:20260519T200000
DTSTAMP:20260421T170717
CREATED:20250724T071229Z
LAST-MODIFIED:20250724T071229Z
UID:17534-1779220800-1779220800@meppelerschaakvereniging.nl
SUMMARY:Intern P4-R4
DESCRIPTION:
URL:https://meppelerschaakvereniging.nl/agenda/intern-p4-r4-3/
LOCATION:Stadscafe Oasis\, Kerkplein 15\, Meppel\, 7941 BG\, Nederland
CATEGORIES:Senioren intern
END:VEVENT
BEGIN:VEVENT
DTSTART;TZID=Europe/Amsterdam:20260521T200000
DTEND;TZID=Europe/Amsterdam:20260521T200000
DTSTAMP:20260421T170717
CREATED:20250901T154622Z
LAST-MODIFIED:20260126T214943Z
UID:17643-1779393600-1779393600@meppelerschaakvereniging.nl
SUMMARY:MSV 2 - De Zeven Pionnen 2  (SOS)
DESCRIPTION:Slotronde bij ZZS! \nZie ook: https://sosc.netstand.nl/rounds/view/3236
URL:https://meppelerschaakvereniging.nl/agenda/msv-2-de-zeven-pionnen-2-sos/
CATEGORIES:Senioren extern
END:VEVENT
BEGIN:VEVENT
DTSTART;TZID=Europe/Amsterdam:20260526T200000
DTEND;TZID=Europe/Amsterdam:20260526T200000
DTSTAMP:20260421T170717
CREATED:20250724T071309Z
LAST-MODIFIED:20250724T071309Z
UID:17536-1779825600-1779825600@meppelerschaakvereniging.nl
SUMMARY:Intern P4-R5
DESCRIPTION:
URL:https://meppelerschaakvereniging.nl/agenda/intern-p4-r5-3/
LOCATION:Stadscafe Oasis\, Kerkplein 15\, Meppel\, 7941 BG\, Nederland
CATEGORIES:Senioren intern
END:VEVENT
END:VCALENDAR