BEGIN:VCALENDAR
VERSION:2.0
PRODID:-//Meppeler Schaakvereniging - ECPv6.15.20//NONSGML v1.0//EN
CALSCALE:GREGORIAN
METHOD:PUBLISH
X-ORIGINAL-URL:https://meppelerschaakvereniging.nl
X-WR-CALDESC:Evenementen voor Meppeler Schaakvereniging
REFRESH-INTERVAL;VALUE=DURATION:PT1H
X-Robots-Tag:noindex
X-PUBLISHED-TTL:PT1H
BEGIN:VTIMEZONE
TZID:Europe/Amsterdam
BEGIN:DAYLIGHT
TZOFFSETFROM:+0100
TZOFFSETTO:+0200
TZNAME:CEST
DTSTART:20250330T010000
END:DAYLIGHT
BEGIN:STANDARD
TZOFFSETFROM:+0200
TZOFFSETTO:+0100
TZNAME:CET
DTSTART:20251026T010000
END:STANDARD
BEGIN:DAYLIGHT
TZOFFSETFROM:+0100
TZOFFSETTO:+0200
TZNAME:CEST
DTSTART:20260329T010000
END:DAYLIGHT
BEGIN:STANDARD
TZOFFSETFROM:+0200
TZOFFSETTO:+0100
TZNAME:CET
DTSTART:20261025T010000
END:STANDARD
BEGIN:DAYLIGHT
TZOFFSETFROM:+0100
TZOFFSETTO:+0200
TZNAME:CEST
DTSTART:20270328T010000
END:DAYLIGHT
BEGIN:STANDARD
TZOFFSETFROM:+0200
TZOFFSETTO:+0100
TZNAME:CET
DTSTART:20271031T010000
END:STANDARD
END:VTIMEZONE
BEGIN:VEVENT
DTSTART;TZID=Europe/Amsterdam:20260602T200000
DTEND;TZID=Europe/Amsterdam:20260602T200000
DTSTAMP:20260421T181839
CREATED:20250724T071347Z
LAST-MODIFIED:20250724T071347Z
UID:17538-1780430400-1780430400@meppelerschaakvereniging.nl
SUMMARY:Intern P4-R6
DESCRIPTION:
URL:https://meppelerschaakvereniging.nl/agenda/intern-p4-r6-3/
LOCATION:Stadscafe Oasis\, Kerkplein 15\, Meppel\, 7941 BG\, Nederland
CATEGORIES:Senioren intern
END:VEVENT
BEGIN:VEVENT
DTSTART;TZID=Europe/Amsterdam:20260609T200000
DTEND;TZID=Europe/Amsterdam:20260609T200000
DTSTAMP:20260421T181839
CREATED:20250724T071445Z
LAST-MODIFIED:20250724T071445Z
UID:17540-1781035200-1781035200@meppelerschaakvereniging.nl
SUMMARY:Intern P4-R7
DESCRIPTION:
URL:https://meppelerschaakvereniging.nl/agenda/intern-p4-r7-3/
LOCATION:Stadscafe Oasis\, Kerkplein 15\, Meppel\, 7941 BG\, Nederland
CATEGORIES:Senioren intern
END:VEVENT
BEGIN:VEVENT
DTSTART;TZID=Europe/Amsterdam:20260616T200000
DTEND;TZID=Europe/Amsterdam:20260616T200000
DTSTAMP:20260421T181839
CREATED:20250724T071531Z
LAST-MODIFIED:20250724T071531Z
UID:17542-1781640000-1781640000@meppelerschaakvereniging.nl
SUMMARY:Intern P4-R8
DESCRIPTION:
URL:https://meppelerschaakvereniging.nl/agenda/intern-p4-r8-3/
LOCATION:Stadscafe Oasis\, Kerkplein 15\, Meppel\, 7941 BG\, Nederland
CATEGORIES:Senioren intern
END:VEVENT
BEGIN:VEVENT
DTSTART;TZID=Europe/Amsterdam:20260623T200000
DTEND;TZID=Europe/Amsterdam:20260623T200000
DTSTAMP:20260421T181839
CREATED:20260408T214241Z
LAST-MODIFIED:20260409T072932Z
UID:20326-1782244800-1782244800@meppelerschaakvereniging.nl
SUMMARY:Zomerschaak 1
DESCRIPTION:Rapidtoernooi buiten op het terras bij Stadscafé Oasis. \nWe spelen 5 ronden per avond. \nKom gerust langs als je zin hebt in een potje schaken.
URL:https://meppelerschaakvereniging.nl/agenda/zomerschaak-1-5/
LOCATION:Stadscafe Oasis\, Kerkplein 15\, Meppel\, 7941 BG\, Nederland
CATEGORIES:Algemeen
END:VEVENT
BEGIN:VEVENT
DTSTART;TZID=Europe/Amsterdam:20260630T200000
DTEND;TZID=Europe/Amsterdam:20260630T200000
DTSTAMP:20260421T181839
CREATED:20260408T214341Z
LAST-MODIFIED:20260408T214341Z
UID:20328-1782849600-1782849600@meppelerschaakvereniging.nl
SUMMARY:Zomerschaak 2
DESCRIPTION:Rapidtoernooi buiten op het terras bij Stadscafé Oasis. \nWe spelen 5 ronden per avond. \nKom gerust langs als je zin hebt in een potje schaken.
URL:https://meppelerschaakvereniging.nl/agenda/zomerschaak-2-5/
LOCATION:Stadscafe Oasis\, Kerkplein 15\, Meppel\, 7941 BG\, Nederland
CATEGORIES:Algemeen
END:VEVENT
END:VCALENDAR