BEGIN:VCALENDAR
VERSION:2.0
PRODID:-//Meppeler Schaakvereniging - ECPv6.15.20//NONSGML v1.0//EN
CALSCALE:GREGORIAN
METHOD:PUBLISH
X-WR-CALNAME:Meppeler Schaakvereniging
X-ORIGINAL-URL:https://meppelerschaakvereniging.nl
X-WR-CALDESC:Evenementen voor Meppeler Schaakvereniging
REFRESH-INTERVAL;VALUE=DURATION:PT1H
X-Robots-Tag:noindex
X-PUBLISHED-TTL:PT1H
BEGIN:VTIMEZONE
TZID:Europe/Amsterdam
BEGIN:DAYLIGHT
TZOFFSETFROM:+0100
TZOFFSETTO:+0200
TZNAME:CEST
DTSTART:20180325T010000
END:DAYLIGHT
BEGIN:STANDARD
TZOFFSETFROM:+0200
TZOFFSETTO:+0100
TZNAME:CET
DTSTART:20181028T010000
END:STANDARD
BEGIN:DAYLIGHT
TZOFFSETFROM:+0100
TZOFFSETTO:+0200
TZNAME:CEST
DTSTART:20190331T010000
END:DAYLIGHT
BEGIN:STANDARD
TZOFFSETFROM:+0200
TZOFFSETTO:+0100
TZNAME:CET
DTSTART:20191027T010000
END:STANDARD
BEGIN:DAYLIGHT
TZOFFSETFROM:+0100
TZOFFSETTO:+0200
TZNAME:CEST
DTSTART:20200329T010000
END:DAYLIGHT
BEGIN:STANDARD
TZOFFSETFROM:+0200
TZOFFSETTO:+0100
TZNAME:CET
DTSTART:20201025T010000
END:STANDARD
END:VTIMEZONE
BEGIN:VEVENT
DTSTART;TZID=Europe/Amsterdam:20190322T193000
DTEND;TZID=Europe/Amsterdam:20190322T223000
DTSTAMP:20260425T150021
CREATED:20190227T151715Z
LAST-MODIFIED:20190227T151813Z
UID:13518-1553283000-1553293800@meppelerschaakvereniging.nl
SUMMARY:NJC
DESCRIPTION:
URL:https://meppelerschaakvereniging.nl/agenda/njc/
CATEGORIES:Jeugd
END:VEVENT
END:VCALENDAR